BEGIN:VCALENDAR
VERSION:2.0
PRODID:-//Shipgarten - ECPv6.15.20//NONSGML v1.0//EN
CALSCALE:GREGORIAN
METHOD:PUBLISH
X-ORIGINAL-URL:https://shipgarten.com
X-WR-CALDESC:Events for Shipgarten
REFRESH-INTERVAL;VALUE=DURATION:PT1H
X-Robots-Tag:noindex
X-PUBLISHED-TTL:PT1H
BEGIN:VTIMEZONE
TZID:America/New_York
BEGIN:DAYLIGHT
TZOFFSETFROM:-0500
TZOFFSETTO:-0400
TZNAME:EDT
DTSTART:20230312T070000
END:DAYLIGHT
BEGIN:STANDARD
TZOFFSETFROM:-0400
TZOFFSETTO:-0500
TZNAME:EST
DTSTART:20231105T060000
END:STANDARD
BEGIN:DAYLIGHT
TZOFFSETFROM:-0500
TZOFFSETTO:-0400
TZNAME:EDT
DTSTART:20240310T070000
END:DAYLIGHT
BEGIN:STANDARD
TZOFFSETFROM:-0400
TZOFFSETTO:-0500
TZNAME:EST
DTSTART:20241103T060000
END:STANDARD
BEGIN:DAYLIGHT
TZOFFSETFROM:-0500
TZOFFSETTO:-0400
TZNAME:EDT
DTSTART:20250309T070000
END:DAYLIGHT
BEGIN:STANDARD
TZOFFSETFROM:-0400
TZOFFSETTO:-0500
TZNAME:EST
DTSTART:20251102T060000
END:STANDARD
END:VTIMEZONE
BEGIN:VEVENT
DTSTART;TZID=America/New_York:20241201T070000
DTEND;TZID=America/New_York:20241201T130000
DTSTAMP:20260424T070507
CREATED:20241005T015759Z
LAST-MODIFIED:20241011T234554Z
UID:10008813-1733036400-1733058000@shipgarten.com
SUMMARY:Toy Story Kids & Family Festival
DESCRIPTION:Step into a world of family-friendly fun at Shipgarten\, Tysons Corner\, the top restaurant for families! Join us on Sunday\, December 1st\, from 12 PM to 6 PM\, as we invite you to enjoy a day of excitement as we are having Toy Story Host the Kids and Family Festival. Bring the whole family for an unforgettable experience! For your little ones Shipgarten has FREE face painting and arts & crafts\, allowing their creativity to shine. The fun doesn’t stop there – we’ve got live music\, great drinks\, moonbounces\, and a full outdoor playground to ensure everyone has a blast. Dogs are more than welcome at Shipgarten\, whether on-leash or in our off-leash dog park. Treat your furry friends to Pup Cups and Kongs filled with peanut butter for a delightful family treat. \n***Shipgarten opens at 11 AM & the festival runs from 12 PM until 6 PM. Restaurants close at 2 AM*** \nEVENT SCHEDULE: \n12:00-6:00 PM – Face Painting\, Moonbounces\, and Arts & Crafts \n12:00 -3:00 PM – Live Magic Performance by Jake the Great \n3:15PM- Live Performance by Toy Story Woody Buzz and Jessie \nBut that’s not all! we offer (2) 155″ TV Walls\, 8 TVs\, 2 outdoor projectors\, and 3 indoor projectors\, ensuring you won’t miss any of the big games. \nShipgarten Offers: \n\n2 Moon Bounces\n2 Playground Sets\nPhoto Booth with Accessories\nKids’ Corner with Face Painting\, Crafts\, and More\nOutdoor Games & Activities\nGiveaways\, Competitions & Prizes\nDog-Friendly Atmosphere\nBier & Samples\nGreat Food
URL:https://shipgarten.com/event/toy-story-kids-family-festival/
LOCATION:Shipgarten\, 7581 Colshire Dr\, McLean\, VA\, 22102
CATEGORIES:Kids and Family Festival
ATTACH;FMTTYPE=image/png:https://shipgarten.com/wp-content/uploads/2024/10/Kids-Banners-Website-and-Facebook-4.png
END:VEVENT
BEGIN:VEVENT
DTSTART;TZID=America/New_York:20241207T080000
DTEND;TZID=America/New_York:20241207T130000
DTSTAMP:20260424T070507
CREATED:20241003T225223Z
LAST-MODIFIED:20241011T235559Z
UID:10008793-1733558400-1733576400@shipgarten.com
SUMMARY:Tree Lighting Ceremony
DESCRIPTION:Join us Saturday\, December 7th in kicking off the holiday season! Santa’s elves have been hard at work decorating Shipgarten’s Winter Wonderland and Santa’s Workshop. Grab one of our many hot drinks and enjoy the holiday lights and Christmas carols. At 5pm gather around for our ceremonial lighting of the Christmas Tree. \n✪ Schedule ✪ \n❅ ♫ 12:30-3:30 Live Music \n❅ 2:00 PM – ‘Snowball’ Toss \n❅ 3:00 PM – Marshmallow-Run-Relay (egg on a spoon relay with marshmellows) \n❅ 4:00pm- Christmas Carols \n❅ 5:00pm- Christmas Tree Lighting Ceremony \n❅ ♫ Live DJ (8:00 PM – 2:00 AM) \nShipgarten offers 2-155″ TV Walls\, 8 TVs\, 3 outdoor projectors & 3 indoor to watch it ALL \nWinter Wonderland: \n❅ Free Photos with Santa (dogs welcome) \n❅ Hot Drinks Menu \n❅ Over 20 Holiday Inflatables \n❅ 3 Grand Christmas Trees \n❅ Craft with Mrs.Claus in Santas Workshop \n❅ Try Roasting S’mores at our Fire Pits \n❅ Free Face Painting \n❅ Photo Ops with Christmas Props \n❅ 25+ Christmas Inflatables \n❅ Holiday Music
URL:https://shipgarten.com/event/tree-lighting-ceremony/
LOCATION:Shipgarten\, 7581 Colshire Dr\, McLean\, VA\, 22102
CATEGORIES:Adults Festival
ATTACH;FMTTYPE=image/png:https://shipgarten.com/wp-content/uploads/2024/10/Tree-Lighting-Ceremony-Website-Facebook-Banner-2.png
END:VEVENT
BEGIN:VEVENT
DTSTART;TZID=America/New_York:20241208T070000
DTEND;TZID=America/New_York:20241208T130000
DTSTAMP:20260424T070507
CREATED:20241010T012547Z
LAST-MODIFIED:20241120T224608Z
UID:10008824-1733641200-1733662800@shipgarten.com
SUMMARY:Fortnite Raven\, Deadpool\, and Pikachu Host Kids and Family Festival
DESCRIPTION:Shipgarten\, the top Tysons Corner Restaurant for families\, is hosting a Kids & Family Festival with Fortnite Raven\, Deadpool and Pikachu on Sunday\, December 8th from noon to 6 PM! Bring the whole family for an unforgettable experience meeting friendly\, furry creatures along with face painting and arts & crafts kids can enjoy. We also have live music\, moonbounces\, and a full playground so everyone can have a blast! Dogs are welcome at Shipgarten too\, whether on-leash or in our off-leash dog park! We offer lots of treats such as Pup Cups and Kongs filled with peanut butter so the whole family can enjoy a treat. \nEVENT SCHEDULE: \n12-6 PM – Free Face Painting + Arts & Crafts \n12-3 PM – Live Magical Performance by Jake the Great \n3 PM ★Fortnite Raven\, Deadpool and Pikachu Live Performance + Superhero Training★ \nALL DAY Family Football \nShipgarten offers 2-155″ TV Walls\, 8 TVs\, 3 outdoor projectors & 3 indoor Projectors to watch ALL the football games \n***Shipgarten opens at 11 AM & the festival runs from 12 PM until 6 PM. Restaurant closes at 12 AM*** \nADDITIONALLY: \n★ 2 BRAND NEW Moon Bounces \n★ 2 Playground sets \n★ Photo Booth with Accessories \n★ Kids’ Corner with Face Painting\, Crafts\, and More \n★ Outdoor Games & Activities \n★ Giveaways\, Competitions & Prizes \n★ Dog Friendly (Check out our Dog menu\, play in the dog park\, or just bring your pup along) \n★ Hot Drinks Menu \n★ Great food \nShipgarten is a small business created by a few local guys\, not a large corporation with multiple locations! Despite our size\, we have always stuck to offering a variety of entertainment\, including a day of the week specifically for families (Sundays)\, aways FREE OF CHARGE!. As a result\, we simply ask our guests for a little understanding\, patience\, and cooperation in the following ways:- Please do not bring outside food\, we have 4 restaurants for you and children to choose from.- During certain hours of the day\, our number of guests can increase faster than normal\, which can unfortunately lead to longer than normal wait times for food and/or drinks. Your patience and understanding is greatly appreciated! \nNegative reviews really hurt us\, we are offering these events for FREE. Please have some patience and understanding.
URL:https://shipgarten.com/event/wolverine-wonder-woman-miss-rachel-kids-family-festival/
LOCATION:Shipgarten\, 7581 Colshire Dr\, McLean\, VA\, 22102
CATEGORIES:Kids and Family Festival
ATTACH;FMTTYPE=image/png:https://shipgarten.com/wp-content/uploads/2024/10/Kids-Banners-Eventbrite-8.png
END:VEVENT
BEGIN:VEVENT
DTSTART;TZID=America/New_York:20241214T080000
DTEND;TZID=America/New_York:20241214T130000
DTSTAMP:20260424T070507
CREATED:20241007T195231Z
LAST-MODIFIED:20241205T020113Z
UID:10008814-1734163200-1734181200@shipgarten.com
SUMMARY:Asian Beer & K-Pop Festival
DESCRIPTION:Come to Shipgarten for a taste of something new! We’re rolling out specialty cocktails made with Asian liquor brands and serving beers from China\, Japan\, and Korea. We’ll be expanding on the wonderful tastes guests usually expect from our Rollbar venue to a variety of limited time only selections. Be sure to join us so you don’t miss them! \n***Shipgarten opens at 11 AM & the festival runs from 1 PM until 6 PM. Restaurant closes at 2 AM*** \nEVENT SCHEDULE: \n3:30PM 3-Legged Race \n4:30 PM Candy Chopstick Challenge \n5:30 PM Junk in Your Trunk \n8:00 PM – 2:00 AM ♫ Shipgarten After Dark with Bianca Diamond ♫ \nBut that’s not all! we offer (2) 155″ TV Walls\, 8 TVs\, 2 outdoor projectors\, and 3 indoor projectors\, ensuring you won’t miss any of the big games. \nADDITIONALLY: \n➳40+ beer & cider samples from local breweries to choose from \n➳ Photo Booth with Accessories \n➳Great food \n➳Dog Friendly (Check out our Dog menu\, play in the dog park\, or just bring your pup along) \n➳ Outdoor Games & Activities \n➳ Giveaways\, Competitions & Prizes \n➳ Kids Corner with Face Painting\, Moon Bounce\, Crafts\, and more!
URL:https://shipgarten.com/event/asian-beer-k-pop-festival/
LOCATION:Shipgarten\, 7581 Colshire Dr\, McLean\, VA\, 22102
CATEGORIES:Adults Festival
ATTACH;FMTTYPE=image/png:https://shipgarten.com/wp-content/uploads/2024/10/Adult-Banners-Website-and-Facebook-9.png
END:VEVENT
BEGIN:VEVENT
DTSTART;TZID=America/New_York:20241221T120000
DTEND;TZID=America/New_York:20241221T180000
DTSTAMP:20260424T070507
CREATED:20241003T204957Z
LAST-MODIFIED:20241128T015225Z
UID:10008791-1734782400-1734804000@shipgarten.com
SUMMARY:Rock the Ship DAY PARTY Vol. 6: Naughty or Nice (21+)
DESCRIPTION:We’re back with Volume 6 of our Rock the Ship DAY PARTY (21+) series on Saturday\, December 21st\, from 5 – 11PM! \nJoin us for the Ultimate House and EDM Day Party in Tysons! Get ready to experience the best day party of the holiday season in Tysons Corner! We’re bringing the beats\, the drinks\, and the vibes to the most stunning venue in the area. \nEvent Highlights: Dance the day away to electrifying sets from some of the hottest DJs in the house and EDM scenes. Feel the energy and let the music take you on a journey from day to night. \nIncredible DJs: TBA \nMultiple Bars: Sip on your favorite cocktails and enjoy bottle and drink specials all day long. Our bars are fully stocked and ready to serve you everything from refreshing mixed drinks to premium bottle service. \nPositive Vibes Only: This party is all about good energy and positive vibes. Bring your best attitude and be ready to dance\, laugh\, and make unforgettable memories with old friends and new ones. \nVenue: Shipgarten\, The best outdoor venue in Tysons\, offering a perfect blend of open-air freedom and vibrant atmosphere \nAddress: 7581 Colshire Dr\, Tysons\, VA 22102 \nFREE Parking: 1700 Old Meadow Road \nDate & Time: December 21st\, 5-11PM \nDon’t miss out on the most anticipated day party of the season. Mark your calendars\, gather your crew\, and get ready to vibe with us in Tysons! RSVP now for free entry and let’s make this winter one to remember!
URL:https://shipgarten.com/event/rock-the-ship-vol-6-naughty-or-nice-day-party-21/
LOCATION:Shipgarten\, 7581 Colshire Dr\, McLean\, VA\, 22102
CATEGORIES:Adults Festival,Rock The Ship
ATTACH;FMTTYPE=image/png:https://shipgarten.com/wp-content/uploads/2024/10/Rock-the-ship-Holiday-1.png
END:VEVENT
BEGIN:VEVENT
DTSTART;TZID=America/New_York:20241228T080000
DTEND;TZID=America/New_York:20241228T130000
DTSTAMP:20260424T070507
CREATED:20241004T220251Z
LAST-MODIFIED:20241208T214657Z
UID:10008810-1735372800-1735390800@shipgarten.com
SUMMARY:Holiday for the Hounds
DESCRIPTION:This December we’re all about the holidays! Show your pup a little extra love and bring them out to Shipgarten December 28th from 1-6pm for our Holiday for the Hounds festival 🍻🐾 Try deluxe homemade treats from our doggie vendors\, play in our dog park\, or give your pup something from our special dog menu. Enjoy sampling over 40 breweries\, compete in festival events for prizes\, or take pictures in our photo booth- there’s something for everyone! \nBring your furry friend by for a paws-itively adorable pic with Santa! 🐕🎅📸 \nDONATE A TOY TO THE TOY DRIVE! ALL TOYS WILL BE DONATED TO THE SECOND STORY FOR HOMELESS YOUTH!! \n***Shipgarten opens at 11 AM & the festival runs from 1 PM until 6 PM. Restaurant closes at 12 AM*** \nEVENT SCHEDULE: \n3:00 PM Doggy Games \n\nSmallest Dog ($25 to winner\, based on audience vote!)\nBiggest Dog ($25 gift card to winner\, based on audience vote!)\nBest Trick ($25 gift card to winner\, based on audience vote!)\n\n3:30 PM Dog & Owner Relay Race ($25 gift card to fastest time!) \n4 :00 PM Best Dressed Dog ($25 to winner\, based on audience vote!) \n♫ Jason Hibler (4:00 PM – 7:30 PM) \n♫ Live DJ (8:00 PM-2:00 AM) \nALL DAY College Bowl Games \nALL DAY College Basketball \nWinter Wonderland:\n❅ Free Photos with Santa (dogs welcome)\n❅ Hot Drinks Menu\n❅ 3 Grand Christmas Trees\n❅ Craft with Mrs.Claus in Santas Workshop\n❅ Try Roasting S’mores at our Fire Pits\n❅ Free Face Painting\n❅ Photo Ops with Christmas Props\n❅ 25+ Christmas Inflatables\n❅ Holiday Music
URL:https://shipgarten.com/event/holiday-for-the-hounds/
LOCATION:Shipgarten\, 7581 Colshire Dr\, McLean\, VA\, 22102
CATEGORIES:Adults Festival
ATTACH;FMTTYPE=image/png:https://shipgarten.com/wp-content/uploads/2024/10/Holiday-for-the-Hounds-WebsiteFacebook-Banner-Large.png
END:VEVENT
BEGIN:VEVENT
DTSTART;TZID=America/New_York:20241229T070000
DTEND;TZID=America/New_York:20241229T130000
DTSTAMP:20260424T070507
CREATED:20241007T224529Z
LAST-MODIFIED:20241012T002015Z
UID:10008816-1735455600-1735477200@shipgarten.com
SUMMARY:Paw Patrol & Taylor Swift Kids & Family Festival
DESCRIPTION:Step into a world of family-friendly fun at Shipgarten\, Tysons Corner top restaurant for families! Join us on Sunday\, December 29th\, from 12PM to 6 PM\, as we invite you to enjoy a day of excitement as we are having Paw Patrol and Taylor Swift (lookalike) Host the Kids and Family Festival. Bring the whole family for an unforgettable experience! For your little ones Shipgarten has FREE face painting and arts & crafts\, allowing their creativity to shine. The fun doesn’t stop there – we’ve got live music\, great drinks\, moonbounces\, and a full outdoor playground to ensure everyone has a blast. Dogs are more than welcome at Shipgarten\, whether on-leash or in our off-leash dog park. Treat your furry friends to Pup Cups and Kongs filled with peanut butter for a delightful family treat. \n***Shipgarten opens at 11 AM & the festival runs from 12 PM until 6 PM. Restaurants close at 2 AM*** \nEVENT SCHEDULE: \n12:00-6:00 PM – Face Painting\, Moonbounces\, and Arts & Crafts \n12:00 -3:00 PM – Live Magic Performance by Jake the Great \n3:15PM- Meet and Greet with Paw Patrol and Live Performance by Taylor Swift lookalike \nBut that’s not all! we offer (2) 155″ TV Walls\, 8 TVs\, 2 outdoor projectors\, and 3 indoor projectors\, ensuring you won’t miss any of the big games. \nShipgarten Offers: \n\n2 Moon Bounces\n2 Playground Sets\nPhoto Booth with Accessories\nKids’ Corner with Face Painting\, Crafts\, and More\nOutdoor Games & Activities\nGiveaways\, Competitions & Prizes\nDog-Friendly Atmosphere\nBier & Samples\nGreat Food
URL:https://shipgarten.com/event/paw-patrol-taylor-swift-kids-family-festival/
LOCATION:Shipgarten\, 7581 Colshire Dr\, McLean\, VA\, 22102
CATEGORIES:Kids and Family Festival
ATTACH;FMTTYPE=image/png:https://shipgarten.com/wp-content/uploads/2024/10/Kids-Banners-Website-and-Facebook-6-1.png
END:VEVENT
BEGIN:VEVENT
DTSTART;TZID=America/New_York:20241231T070000
DTEND;TZID=America/New_York:20241231T130000
DTSTAMP:20260424T070507
CREATED:20241008T215324Z
LAST-MODIFIED:20241225T011409Z
UID:10008819-1735628400-1735650000@shipgarten.com
SUMMARY:Kid's Noon Year's Eve
DESCRIPTION:Celebrate Kids’ New Years Eve at Shipgarten! \n★★★★★★★★★★★★ \n★ Kid’s Party \n★ 1PM Magic show by Jake the Great \n★ 2PM Balloon Drop \n★ 2PM Toast \n★Live Performance and Meet & Greet with Frozen’s Elsa and Anna plus Spider-Man at 3:30pm★ \n★ Complimentary Party Favors *Limited availability \n★ FREE Facepainting \n★ Two Moon Bounces
URL:https://shipgarten.com/event/frozen-spiderman-noon-years-eve/
LOCATION:Shipgarten\, 7581 Colshire Dr\, McLean\, VA\, 22102
CATEGORIES:Kids and Family Festival
ATTACH;FMTTYPE=image/png:https://shipgarten.com/wp-content/uploads/2024/10/Week-4-Events-Square-Facebook-Cover-2.png
END:VEVENT
END:VCALENDAR