BEGIN:VCALENDAR
VERSION:2.0
PRODID:-//Shipgarten - ECPv6.15.20//NONSGML v1.0//EN
CALSCALE:GREGORIAN
METHOD:PUBLISH
X-ORIGINAL-URL:https://shipgarten.com
X-WR-CALDESC:Events for Shipgarten
REFRESH-INTERVAL;VALUE=DURATION:PT1H
X-Robots-Tag:noindex
X-PUBLISHED-TTL:PT1H
BEGIN:VTIMEZONE
TZID:America/New_York
BEGIN:DAYLIGHT
TZOFFSETFROM:-0500
TZOFFSETTO:-0400
TZNAME:EDT
DTSTART:20230312T070000
END:DAYLIGHT
BEGIN:STANDARD
TZOFFSETFROM:-0400
TZOFFSETTO:-0500
TZNAME:EST
DTSTART:20231105T060000
END:STANDARD
BEGIN:DAYLIGHT
TZOFFSETFROM:-0500
TZOFFSETTO:-0400
TZNAME:EDT
DTSTART:20240310T070000
END:DAYLIGHT
BEGIN:STANDARD
TZOFFSETFROM:-0400
TZOFFSETTO:-0500
TZNAME:EST
DTSTART:20241103T060000
END:STANDARD
BEGIN:DAYLIGHT
TZOFFSETFROM:-0500
TZOFFSETTO:-0400
TZNAME:EDT
DTSTART:20250309T070000
END:DAYLIGHT
BEGIN:STANDARD
TZOFFSETFROM:-0400
TZOFFSETTO:-0500
TZNAME:EST
DTSTART:20251102T060000
END:STANDARD
END:VTIMEZONE
BEGIN:VEVENT
DTSTART;TZID=America/New_York:20241109T080000
DTEND;TZID=America/New_York:20241109T130000
DTSTAMP:20260424T083622
CREATED:20241002T214305Z
LAST-MODIFIED:20241105T024043Z
UID:10008790-1731139200-1731157200@shipgarten.com
SUMMARY:Mulled Wine & Hot Drinks Festival
DESCRIPTION:Come out to Shipgarten on November 9th from 1 – 6 pm for our Mulled Wine and Hot Drinks Festival. Enjoy sampling a wide variety of drinks\, compete in festival events for prizes\, or take pictures in our photo booth- there’s something for everyone! Shipgarten is 100% dog friendly\, whether on-leash or in our off-leash dog park! We offer lots of treats such as Pup Cups and Kongs filled with peanut butter so the whole family can enjoy a treat. \n***Shipgarten opens at 11 AM & the festival runs from 1 PM until 6 PM. The restaurant closes at 2 AM*** \nEVENT SCHEDULE: \n2:00 PM Minute Jenga Tower Building Contest \n3:15 PM Candy Chopstick Challenge \n4:30 PM Whipped Cream Pie Eating Contest \n♫ 3:30PM-7:30PM Nick and Jon Band Live Music \n♫ 8PM-2AM Shipgarten After Dark ft. DJ Bianca Diamond💎 \nADDITIONALLY: \n➳40+ beer & cider samples from local breweries to choose from \n➳ Photo Booth with Accessories \n➳Great food \n➳Dog Friendly (Check out our Dog menu\, play in the dog park\, or just bring your pup along) \n➳ Outdoor Games & Activities \n➳ Giveaways\, Competitions & Prizes \n➳ Kids Corner with Face Painting\, Moon Bounce\, Crafts and more!
URL:https://shipgarten.com/event/mulled-wine-hot-drinks-festival/
LOCATION:Shipgarten\, 7581 Colshire Dr\, McLean\, VA\, 22102
CATEGORIES:Adults Festival
ATTACH;FMTTYPE=image/png:https://shipgarten.com/wp-content/uploads/2024/10/Mulled-Wine-Hot-Drinks-Festival-1.png
END:VEVENT
BEGIN:VEVENT
DTSTART;TZID=America/New_York:20241110T070000
DTEND;TZID=America/New_York:20241110T130000
DTSTAMP:20260424T083622
CREATED:20241008T010107Z
LAST-MODIFIED:20241106T012320Z
UID:10008817-1731222000-1731243600@shipgarten.com
SUMMARY:Kids and Family Festival Hosted by Petting Zoo
DESCRIPTION:Step into a world of family-friendly fun at Shipgarten\, Tysons Corner top restaurant for families! Join us on Sunday\, November 10th\, from 12PM to 6 PM\, as we invite you to enjoy a day of excitement as we are having the Petting Zoo Host the Kids and Family Festival. Bring the whole family for an unforgettable experience! For your little ones Shipgarten has FREE face painting and arts & crafts\, allowing their creativity to shine. The fun doesn’t stop there – we’ve got live music\, great drinks\, moonbounces\, and a full outdoor playground to ensure everyone has a blast. Dogs are more than welcome at Shipgarten\, whether on-leash or in our off-leash dog park. Treat your furry friends to Pup Cups and Kongs filled with peanut butter for a delightful family treat. \n***Shipgarten opens at 11 AM. Festival runs from 12:00 PM until 6:00 PM. Restaurants close at 12 AM*** \nEVENT SCHEDULE: \n12:00 – 6:00 PM – Face Painting\, Moonbounces\, and Arts & Crafts \n12:00 – 3:00 PM – Live Magic Performance by Jake the Great \n3:00 – 5:00 PM – Petting Zoo – A Fun & Furry Experience for the Whole Family! 2 Minutes per Round\, Unlimited Turns! \n————————————————————————————————- \nBut that’s not all! we offer (2) 155″ TV Walls\, 8 TVs\, 2 outdoor projectors\, and 3 indoor projectors\, ensuring you won’t miss any of the big games. \nShipgarten Offers: \n\n2 Moon Bounces\n2 Playground Sets\nPhoto Booth with Accessories\nKids’ Corner with Face Painting\, Crafts\, and More\nOutdoor Games & Activities\nGiveaways\, Competitions & Prizes\nDog-Friendly Atmosphere\nBier & Samples\nGreat Food\n\n\nShipgarten is a small business created by a few local guys\, not a large corporation with multiple locations! Despite our size\, we have always stuck to offering a variety of entertainment\, including a day of the week specifically for families (Sundays)\, aways FREE OF CHARGE!. As a result\, we simply ask our guests for a little understanding\, patience\, and cooperation in the following ways:- Please do not bring outside food\, we have 4 restaurants for you and children to choose from.- During certain hours of the day\, our number of guests can increase faster than normal\, which can unfortunately lead to longer than normal wait times for food and/or drinks. Your patience and understanding is greatly appreciated!\nNegative reviews really hurt us\, we are offering these events for FREE. Please have some patience and understanding.
URL:https://shipgarten.com/event/petting-zoo/
LOCATION:Shipgarten\, 7581 Colshire Dr\, McLean\, VA\, 22102
CATEGORIES:Kids and Family Festival
ATTACH;FMTTYPE=image/png:https://shipgarten.com/wp-content/uploads/2024/10/Kids-Banners-Eventbrite-5.png
END:VEVENT
BEGIN:VEVENT
DTSTART;TZID=America/New_York:20241116T080000
DTEND;TZID=America/New_York:20241116T130000
DTSTAMP:20260424T083622
CREATED:20241003T220938Z
LAST-MODIFIED:20241106T000009Z
UID:10008792-1731744000-1731762000@shipgarten.com
SUMMARY:Fall Festival
DESCRIPTION:Come out to Shipgarten on November 16th from 1 – 6 pm for our Adult Fall Festival. Enjoy sampling a wide variety of drinks\, apple cider donuts\, compete in festival events for prizes\, or take pictures in our photo booth- there’s something for everyone! Shipgarten is 100% dog friendly\, whether on-leash or in our off-leash dog park! We offer lots of treats such as Pup Cups and Kongs filled with peanut butter so the whole family can enjoy a treat. \n***Shipgarten opens at 11 AM & the festival runs from 1 PM until 6 PM. The restaurant closes at 2 AM*** \nEVENT SCHEDULE: \n2:00 PM Cornhole Tournament \n3:15 PM Potato Sack Race \n4:30 PM Apple Bobbing \n♫ 3:30PM-7:30PM David Andrew Smith Band Live Music \n♫ 8PM-2AM Shipgarten After Dark ft. DJ Bianca Diamond💎 \n8PM UFC 309 Watch Party: Jones vs Miocic \nShipgarten offers 2-155″ TV Walls\, 8 TVs\, 3 outdoor projectors & 3 indoor to watch ALL the fights! \nADDITIONALLY: \n➳40+ beer & cider samples from local breweries to choose from \n➳ Photo Booth with Accessories \n➳ Great food \n➳ Hot Drinks Menu \n➳Dog Friendly (Check out our Dog menu\, play in the dog park\, or just bring your pup along) \n➳ Outdoor Games & Activities \n➳ Giveaways\, Competitions & Prizes \n➳ Kids Corner with Face Painting\, Moon Bounce\, Crafts and more!
URL:https://shipgarten.com/event/fall-festival/
LOCATION:Shipgarten\, 7581 Colshire Dr\, McLean\, VA\, 22102
CATEGORIES:Adults Festival
ATTACH;FMTTYPE=image/png:https://shipgarten.com/wp-content/uploads/2024/10/Fall-Festival-Website-Facebook-Banner-2.png
END:VEVENT
BEGIN:VEVENT
DTSTART;TZID=America/New_York:20241117T070000
DTEND;TZID=America/New_York:20241117T130000
DTSTAMP:20260424T083622
CREATED:20241010T183751Z
LAST-MODIFIED:20241106T040928Z
UID:10008825-1731826800-1731848400@shipgarten.com
SUMMARY:Frozen and Spiderman Host Kids and Family Festival
DESCRIPTION:Step into a world of family-friendly fun at Shipgarten\, Tysons Corner top restaurant for families! Join us on Sunday\, Novemeber17th\, from 12PM to 6 PM\, as we invite you to enjoy a day of excitement as we are having Spiderman and Frozen Host the Kids and Family Festival. Bring the whole family for an unforgettable experience! For your little ones Shipgarten has FREE face painting and arts & crafts\, allowing their creativity to shine. The fun doesn’t stop there – we’ve got live music\, great drinks\, moonbounces\, and a full outdoor playground to ensure everyone has a blast. Dogs are more than welcome at Shipgarten\, whether on-leash or in our off-leash dog park. Treat your furry friends to Pup Cups and Kongs filled with peanut butter for a delightful family treat. \n***Shipgarten opens at 11 AM & the festival runs from 12 PM until 6 PM. Restaurants close at 2 AM*** \nEVENT SCHEDULE: \n12:00-6:00 PM – Face Painting\, Moonbounces\, and Arts & Crafts \n12:00 -3:00 PM – Live Magic Performance by Jake the Great \n3:15PM- Super Hero Training with Spiderman & Live Performance by Elsa and Anna \nBut that’s not all! we offer (2) 155″ TV Walls\, 8 TVs\, 2 outdoor projectors\, and 3 indoor projectors\, ensuring you won’t miss any of the big games. \nShipgarten Offers: \n\n2 Moon Bounces\n2 Playground Sets\nPhoto Booth with Accessories\nKids’ Corner with Face Painting\, Crafts\, and More\nOutdoor Games & Activities\nGiveaways\, Competitions & Prizes\nDog-Friendly Atmosphere\nBier & Samples\nGreat Food\n\nShipgarten is a small business created by a few local guys\, not a large corporation with multiple locations! Despite our size\, we have always stuck to offering a variety of entertainment\, including a day of the week specifically for families (Sundays)\, aways FREE OF CHARGE!. As a result\, we simply ask our guests for a little understanding\, patience\, and cooperation in the following ways:- Please do not bring outside food\, we have 4 restaurants for you and children to choose from.- During certain hours of the day\, our number of guests can increase faster than normal\, which can unfortunately lead to longer than normal wait times for food and/or drinks. Your patience and understanding is greatly appreciated! \nNegative reviews really hurt us\, we are offering these events for FREE. Please have some patience and understanding.
URL:https://shipgarten.com/event/family-field-day/
LOCATION:Shipgarten\, 7581 Colshire Dr\, McLean\, VA\, 22102
CATEGORIES:Kids and Family Festival
ATTACH;FMTTYPE=image/png:https://shipgarten.com/wp-content/uploads/2024/10/Kids-Banners-Eventbrite-7.png
END:VEVENT
BEGIN:VEVENT
DTSTART;TZID=America/New_York:20241124T080000
DTEND;TZID=America/New_York:20241124T130000
DTSTAMP:20260424T083622
CREATED:20241004T004047Z
LAST-MODIFIED:20241011T010450Z
UID:10008794-1732435200-1732453200@shipgarten.com
SUMMARY:Encanto Kids & Family Festival
DESCRIPTION:Join us at Shipgarten\, the top Tysons Corner Restaurant for families\, for our Kids & Family Festival on November 24th from noon to 6 PM! Bring the whole family for an unforgettable experience\, face painting\, and arts & crafts that kids can enjoy. We also have live music\, moonbounces\, and a full playground so everyone can have a blast! Dogs are welcome at Shipgarten too\, whether on-leash or in our off-leash dog park! We offer lots of treats such as Pup Cups and Kongs filled with peanut butter so the whole family can enjoy a treat. \n***Shipgarten opens at 11 AM & the festival runs from 12 PM until 6 PM. Restaurant closes at 12 AM*** \nEVENT SCHEDULE: \n12-3 PM – Live Magical Performance by Jake the Great \n12-6 PM – FREE Face painting plus Arts & Crafts \n3:15PM – Live Performance by Encanto characters \nALL DAY Family Football \nShipgarten offers 2-155″ TV Walls\, 8 TVs\, 3 outdoor projectors & 3 indoor Projectors to watch ALL the football games \nADDITIONALLY: \n★ 2 Moon Bounces \n★ 2 Playground sets \n★ Photo Booth with Accessories \n★ Kids’ Corner with Face Painting\, Crafts\, and More \n★ Outdoor Games & Activities \n★ Giveaways\, Competitions & Prizes \n★ Dog Friendly (Check out our Dog menu\, play in the dog park\, or just bring your pup along) \n★ Bier & Samples \n★ Great food
URL:https://shipgarten.com/event/encanto-kids-family-festival/
LOCATION:Shipgarten\, 7581 Colshire Dr\, McLean\, VA\, 22102
CATEGORIES:Kids and Family Festival
ATTACH;FMTTYPE=image/png:https://shipgarten.com/wp-content/uploads/2024/10/Encanto-Kids-Family-Festival-Website-Facebook-Banner-2.png
END:VEVENT
BEGIN:VEVENT
DTSTART;TZID=America/New_York:20241127T150000
DTEND;TZID=America/New_York:20241127T190000
DTSTAMP:20260424T083622
CREATED:20241005T011046Z
LAST-MODIFIED:20241011T190155Z
UID:10008812-1732719600-1732734000@shipgarten.com
SUMMARY:Thanksgiving Eve Reunion
DESCRIPTION:Thanksgiving Eve Reunion at Shipgarten \nKick off your Thanksgiving celebrations early with a night of dancing and reconnecting at Shipgarten’s Thanksgiving Eve Reunion! On November 27th from 8 PM to 12 AM\, escape the family chaos and relive the good times with friends from the DMV area. DJ Saam will be spinning all the best tracks to keep you moving all night long. This 21+ event is free\, so grab your crew\, let loose\, and make new memories before the holiday madness begins. Don’t miss out on the ultimate pre-Thanksgiving party!
URL:https://shipgarten.com/event/thanksgiving-eve-reunion-2/
LOCATION:Shipgarten\, 7581 Colshire Dr\, McLean\, VA\, 22102
CATEGORIES:Adults Festival
ATTACH;FMTTYPE=image/png:https://shipgarten.com/wp-content/uploads/2024/10/Thanksgiving-Eve-Reunion-Website-Facebook-Banner-1.png
END:VEVENT
BEGIN:VEVENT
DTSTART;TZID=America/New_York:20241130T080000
DTEND;TZID=America/New_York:20241130T130000
DTSTAMP:20260424T083622
CREATED:20241007T212719Z
LAST-MODIFIED:20241122T221816Z
UID:10008815-1732953600-1732971600@shipgarten.com
SUMMARY:Beer Olympics
DESCRIPTION:Join us at Shipgarten on November 30th for our FREE Beer Olympics! We will have live music from 12 – 7:30 PM\, plus TONS of games and competitions. We’re giving out HUNDREDS of DOLLARS in Gift Card Prizes! We will also be holding a special beer tasting with a wide variety guests can either buy a sample of or request a full pour of any featured beers! The festival runs from 1:00 – 6:00 PM on November 30th – make sure you don’t miss it! \n***Shipgarten opens at 11 AM & the festival runs from 1 PM until 6 PM. Restaurant closes at 2 AM*** \nEVENT SCHEDULE: \n12:00-6:00 Free Face Painting\, Crafts\, & Scavenger Hunt for Kids 🎨 \n2:30 Three-Legged Race! Kids & Adults Round\, $25 Gift Card to Each Winner! 🏁 \n3:00 Cornhole Tournament Starts! $50 Gift Card to Winning Team! 🕳️ \n4:00 Keg Curling Contest! $25 Gift Card to Most Reps! 💪 \n4:30 Stein Hoisting Contest! $25 Gift Card to Longest Time! 🍺 \n5:00 Water Pong Tournament Starts! $50 Gift Card to Winning Team! 🏓 \n🎵 3:30-7:30 PM – Live Music by James Stevens! 🎸 \n🎵 8:00 PM-2:00 AM – Shipgarten After Dark with DJ Bianca Diamond 💎 \nCollege Basketball 🏀 ALL DAY \nShipgarten offers 2-155″ TV Walls\, 8 TVs\, 2 outdoor projectors & 3 indoor to watch ALL the games! \nADDITIONALLY: \n➳40+ beer & cider samples from local breweries to choose from \n➳ Photo Booth with Accessories \n➳Great food \n➳Dog Friendly (Check out our Dog menu\, play in the dog park\, or just bring your pup along) \n➳ Bratwursts\, Pretzels\, Wings\, & Special of the Day! \n➳ Outdoor Games & Activities \n➳ Giveaways\, Competitions & Prizes \n➳ Kids Corner with Face Painting\, Moon Bounce\, Crafts and more!
URL:https://shipgarten.com/event/beer-olympics/
LOCATION:Shipgarten\, 7581 Colshire Dr\, McLean\, VA\, 22102
CATEGORIES:Adults Festival
ATTACH;FMTTYPE=image/png:https://shipgarten.com/wp-content/uploads/2024/10/Adult-Banners-Website-and-Facebook-11.png
END:VEVENT
END:VCALENDAR