BEGIN:VCALENDAR
VERSION:2.0
PRODID:-//Shipgarten - ECPv6.15.20//NONSGML v1.0//EN
CALSCALE:GREGORIAN
METHOD:PUBLISH
X-ORIGINAL-URL:https://shipgarten.com
X-WR-CALDESC:Events for Shipgarten
REFRESH-INTERVAL;VALUE=DURATION:PT1H
X-Robots-Tag:noindex
X-PUBLISHED-TTL:PT1H
BEGIN:VTIMEZONE
TZID:America/New_York
BEGIN:DAYLIGHT
TZOFFSETFROM:-0500
TZOFFSETTO:-0400
TZNAME:EDT
DTSTART:20240310T070000
END:DAYLIGHT
BEGIN:STANDARD
TZOFFSETFROM:-0400
TZOFFSETTO:-0500
TZNAME:EST
DTSTART:20241103T060000
END:STANDARD
BEGIN:DAYLIGHT
TZOFFSETFROM:-0500
TZOFFSETTO:-0400
TZNAME:EDT
DTSTART:20250309T070000
END:DAYLIGHT
BEGIN:STANDARD
TZOFFSETFROM:-0400
TZOFFSETTO:-0500
TZNAME:EST
DTSTART:20251102T060000
END:STANDARD
BEGIN:DAYLIGHT
TZOFFSETFROM:-0500
TZOFFSETTO:-0400
TZNAME:EDT
DTSTART:20260308T070000
END:DAYLIGHT
BEGIN:STANDARD
TZOFFSETFROM:-0400
TZOFFSETTO:-0500
TZNAME:EST
DTSTART:20261101T060000
END:STANDARD
END:VTIMEZONE
BEGIN:VEVENT
DTSTART;TZID=America/New_York:20250604T190000
DTEND;TZID=America/New_York:20250604T210000
DTSTAMP:20260420T080734
CREATED:20240619T220141Z
LAST-MODIFIED:20250509T165236Z
UID:10010004-1749063600-1749070800@shipgarten.com
SUMMARY:Midweek Trivia Fun at Shipgarten
DESCRIPTION:Join us every Wednesday night at Shipgarten for an exciting Trivia Night hosted by Elliot from Pour House Trivia! Test your knowledge across a variety of fun and challenging topics while enjoying our unbeatable happy hour specials. Gather your friends and compete for the glory of trivia champion. The best part? It’s completely free to play! Come for the trivia\, stay for the great food\, drinks\, and lively atmosphere. Whether you’re a trivia enthusiast or just looking for a fun night out\, Shipgarten is the place to be every Wednesday from 7:00pm to 9:00pm.
URL:https://shipgarten.com/event/midweek-trivia-fun-at-shipgarten/2025-06-04/
LOCATION:Shipgarten\, 7581 Colshire Dr\, McLean\, VA\, 22102
CATEGORIES:Trivia,Weekly Events
ATTACH;FMTTYPE=image/png:https://shipgarten.com/wp-content/uploads/2024/06/Trivia-Night-Event-at-Shipgarten-Every-Wednesday.png
END:VEVENT
BEGIN:VEVENT
DTSTART;TZID=America/New_York:20250611T190000
DTEND;TZID=America/New_York:20250611T210000
DTSTAMP:20260420T080734
CREATED:20240619T220141Z
LAST-MODIFIED:20250509T165236Z
UID:10010005-1749668400-1749675600@shipgarten.com
SUMMARY:Midweek Trivia Fun at Shipgarten
DESCRIPTION:Join us every Wednesday night at Shipgarten for an exciting Trivia Night hosted by Elliot from Pour House Trivia! Test your knowledge across a variety of fun and challenging topics while enjoying our unbeatable happy hour specials. Gather your friends and compete for the glory of trivia champion. The best part? It’s completely free to play! Come for the trivia\, stay for the great food\, drinks\, and lively atmosphere. Whether you’re a trivia enthusiast or just looking for a fun night out\, Shipgarten is the place to be every Wednesday from 7:00pm to 9:00pm.
URL:https://shipgarten.com/event/midweek-trivia-fun-at-shipgarten/2025-06-11/
LOCATION:Shipgarten\, 7581 Colshire Dr\, McLean\, VA\, 22102
CATEGORIES:Trivia,Weekly Events
ATTACH;FMTTYPE=image/png:https://shipgarten.com/wp-content/uploads/2024/06/Trivia-Night-Event-at-Shipgarten-Every-Wednesday.png
END:VEVENT
BEGIN:VEVENT
DTSTART;TZID=America/New_York:20250618T190000
DTEND;TZID=America/New_York:20250618T210000
DTSTAMP:20260420T080734
CREATED:20240619T220141Z
LAST-MODIFIED:20250509T165236Z
UID:10010006-1750273200-1750280400@shipgarten.com
SUMMARY:Midweek Trivia Fun at Shipgarten
DESCRIPTION:Join us every Wednesday night at Shipgarten for an exciting Trivia Night hosted by Elliot from Pour House Trivia! Test your knowledge across a variety of fun and challenging topics while enjoying our unbeatable happy hour specials. Gather your friends and compete for the glory of trivia champion. The best part? It’s completely free to play! Come for the trivia\, stay for the great food\, drinks\, and lively atmosphere. Whether you’re a trivia enthusiast or just looking for a fun night out\, Shipgarten is the place to be every Wednesday from 7:00pm to 9:00pm.
URL:https://shipgarten.com/event/midweek-trivia-fun-at-shipgarten/2025-06-18/
LOCATION:Shipgarten\, 7581 Colshire Dr\, McLean\, VA\, 22102
CATEGORIES:Trivia,Weekly Events
ATTACH;FMTTYPE=image/png:https://shipgarten.com/wp-content/uploads/2024/06/Trivia-Night-Event-at-Shipgarten-Every-Wednesday.png
END:VEVENT
BEGIN:VEVENT
DTSTART;TZID=America/New_York:20250625T190000
DTEND;TZID=America/New_York:20250625T210000
DTSTAMP:20260420T080734
CREATED:20240619T220141Z
LAST-MODIFIED:20250509T165236Z
UID:10010007-1750878000-1750885200@shipgarten.com
SUMMARY:Midweek Trivia Fun at Shipgarten
DESCRIPTION:Join us every Wednesday night at Shipgarten for an exciting Trivia Night hosted by Elliot from Pour House Trivia! Test your knowledge across a variety of fun and challenging topics while enjoying our unbeatable happy hour specials. Gather your friends and compete for the glory of trivia champion. The best part? It’s completely free to play! Come for the trivia\, stay for the great food\, drinks\, and lively atmosphere. Whether you’re a trivia enthusiast or just looking for a fun night out\, Shipgarten is the place to be every Wednesday from 7:00pm to 9:00pm.
URL:https://shipgarten.com/event/midweek-trivia-fun-at-shipgarten/2025-06-25/
LOCATION:Shipgarten\, 7581 Colshire Dr\, McLean\, VA\, 22102
CATEGORIES:Trivia,Weekly Events
ATTACH;FMTTYPE=image/png:https://shipgarten.com/wp-content/uploads/2024/06/Trivia-Night-Event-at-Shipgarten-Every-Wednesday.png
END:VEVENT
BEGIN:VEVENT
DTSTART;TZID=America/New_York:20250629T180000
DTEND;TZID=America/New_York:20250629T200000
DTSTAMP:20260420T080734
CREATED:20250122T230302Z
LAST-MODIFIED:20250507T210203Z
UID:10008891-1751220000-1751227200@shipgarten.com
SUMMARY:True Crime Trivia Night
DESCRIPTION:Join us at Shipgarten for our themed trivia night! The theme is True Crime!
URL:https://shipgarten.com/event/true-crime-trivia-night/
LOCATION:Shipgarten\, 7581 Colshire Dr\, McLean\, VA\, 22102
CATEGORIES:Trivia
ATTACH;FMTTYPE=image/png:https://shipgarten.com/wp-content/uploads/2025/01/4-Large.png
END:VEVENT
END:VCALENDAR