BEGIN:VCALENDAR
VERSION:2.0
PRODID:-//Shipgarten - ECPv6.15.20//NONSGML v1.0//EN
CALSCALE:GREGORIAN
METHOD:PUBLISH
X-WR-CALNAME:Shipgarten
X-ORIGINAL-URL:https://shipgarten.com
X-WR-CALDESC:Events for Shipgarten
REFRESH-INTERVAL;VALUE=DURATION:PT1H
X-Robots-Tag:noindex
X-PUBLISHED-TTL:PT1H
BEGIN:VTIMEZONE
TZID:America/New_York
BEGIN:DAYLIGHT
TZOFFSETFROM:-0500
TZOFFSETTO:-0400
TZNAME:EDT
DTSTART:20240310T070000
END:DAYLIGHT
BEGIN:STANDARD
TZOFFSETFROM:-0400
TZOFFSETTO:-0500
TZNAME:EST
DTSTART:20241103T060000
END:STANDARD
BEGIN:DAYLIGHT
TZOFFSETFROM:-0500
TZOFFSETTO:-0400
TZNAME:EDT
DTSTART:20250309T070000
END:DAYLIGHT
BEGIN:STANDARD
TZOFFSETFROM:-0400
TZOFFSETTO:-0500
TZNAME:EST
DTSTART:20251102T060000
END:STANDARD
BEGIN:DAYLIGHT
TZOFFSETFROM:-0500
TZOFFSETTO:-0400
TZNAME:EDT
DTSTART:20260308T070000
END:DAYLIGHT
BEGIN:STANDARD
TZOFFSETFROM:-0400
TZOFFSETTO:-0500
TZNAME:EST
DTSTART:20261101T060000
END:STANDARD
END:VTIMEZONE
BEGIN:VEVENT
DTSTART;TZID=America/New_York:20250501T190000
DTEND;TZID=America/New_York:20250502T000000
DTSTAMP:20260423T061203
CREATED:20240611T203403Z
LAST-MODIFIED:20250509T204050Z
UID:10012850-1746126000-1746144000@shipgarten.com
SUMMARY:Karaoke Thursdays
DESCRIPTION:🎤 FREE Karaoke Thursdays at Shipgarten (Tysons / McLean)! 🎤\nEvery Thursday at Shipgarten\, experience a night full of music\, fun\, and great vibes right in McLean. Step up to the mic\, sing your favorite hits\, and enjoy a one-of-a-kind atmosphere — with free admission! Whether you’re the singer or just here to cheer\, you’re guaranteed a great time. \n🍺 Nightly Specials:\n\n			\n				\n			\n			\n				\n			\n		\n\n \n👉 Gather your crew\, book your table\, and enjoy an unforgettable Thursday night in Tysons!
URL:https://shipgarten.com/event/karaoke-thursdays/2025-05-01/
LOCATION:Shipgarten\, 7581 Colshire Dr\, McLean\, VA\, 22102
CATEGORIES:Weekly Events
ATTACH;FMTTYPE=image/png:https://shipgarten.com/wp-content/uploads/2024/06/Black-and-Gold-Collage-Karaoke-Night-Instagram-Post-Facebook-Cover-1.png
END:VEVENT
BEGIN:VEVENT
DTSTART;TZID=America/New_York:20250507T150000
DTEND;TZID=America/New_York:20250507T183000
DTSTAMP:20260423T061204
CREATED:20240611T194205Z
LAST-MODIFIED:20250609T193436Z
UID:10011888-1746630000-1746642600@shipgarten.com
SUMMARY:Wednesday Pre-Trivia Deals
DESCRIPTION:🎉 Pre-Trivia Wednesdays at Shipgarten (Tysons / McLean)! 🎉\nGet the party started before our legendary Wednesday trivia with the best specials and an unbeatable vibe right here in McLean. 🍕🍻 \n💥 Top Specials:\n\n			\n				\n			\n			\n				\n			\n			\n				\n			\n			\n				\n			\n		\n\nBring your squad\, enjoy the deals\, and stick around for trivia fun! Plus\, FREE ENTRY and we’re right in the heart of Tysons / McLean. 🚀
URL:https://shipgarten.com/event/pre-trivia-deals/2025-05-07/
LOCATION:Shipgarten\, 7581 Colshire Dr\, McLean\, VA\, 22102
CATEGORIES:Weekly Events
ATTACH;FMTTYPE=image/png:https://shipgarten.com/wp-content/uploads/2024/06/Pre-Trivia-Special.png
END:VEVENT
BEGIN:VEVENT
DTSTART;TZID=America/New_York:20250507T190000
DTEND;TZID=America/New_York:20250507T210000
DTSTAMP:20260423T061204
CREATED:20240619T220141Z
LAST-MODIFIED:20250509T165236Z
UID:10010000-1746644400-1746651600@shipgarten.com
SUMMARY:Midweek Trivia Fun at Shipgarten
DESCRIPTION:Join us every Wednesday night at Shipgarten for an exciting Trivia Night hosted by Elliot from Pour House Trivia! Test your knowledge across a variety of fun and challenging topics while enjoying our unbeatable happy hour specials. Gather your friends and compete for the glory of trivia champion. The best part? It’s completely free to play! Come for the trivia\, stay for the great food\, drinks\, and lively atmosphere. Whether you’re a trivia enthusiast or just looking for a fun night out\, Shipgarten is the place to be every Wednesday from 7:00pm to 9:00pm.
URL:https://shipgarten.com/event/midweek-trivia-fun-at-shipgarten/2025-05-07/
LOCATION:Shipgarten\, 7581 Colshire Dr\, McLean\, VA\, 22102
CATEGORIES:Trivia,Weekly Events
ATTACH;FMTTYPE=image/png:https://shipgarten.com/wp-content/uploads/2024/06/Trivia-Night-Event-at-Shipgarten-Every-Wednesday.png
END:VEVENT
BEGIN:VEVENT
DTSTART;TZID=America/New_York:20250508T190000
DTEND;TZID=America/New_York:20250509T000000
DTSTAMP:20260423T061204
CREATED:20240611T203403Z
LAST-MODIFIED:20250509T204050Z
UID:10012851-1746730800-1746748800@shipgarten.com
SUMMARY:Karaoke Thursdays
DESCRIPTION:🎤 FREE Karaoke Thursdays at Shipgarten (Tysons / McLean)! 🎤\nEvery Thursday at Shipgarten\, experience a night full of music\, fun\, and great vibes right in McLean. Step up to the mic\, sing your favorite hits\, and enjoy a one-of-a-kind atmosphere — with free admission! Whether you’re the singer or just here to cheer\, you’re guaranteed a great time. \n🍺 Nightly Specials:\n\n			\n				\n			\n			\n				\n			\n		\n\n \n👉 Gather your crew\, book your table\, and enjoy an unforgettable Thursday night in Tysons!
URL:https://shipgarten.com/event/karaoke-thursdays/2025-05-08/
LOCATION:Shipgarten\, 7581 Colshire Dr\, McLean\, VA\, 22102
CATEGORIES:Weekly Events
ATTACH;FMTTYPE=image/png:https://shipgarten.com/wp-content/uploads/2024/06/Black-and-Gold-Collage-Karaoke-Night-Instagram-Post-Facebook-Cover-1.png
END:VEVENT
BEGIN:VEVENT
DTSTART;TZID=America/New_York:20250514T150000
DTEND;TZID=America/New_York:20250514T183000
DTSTAMP:20260423T061204
CREATED:20240611T194205Z
LAST-MODIFIED:20250609T193436Z
UID:10011889-1747234800-1747247400@shipgarten.com
SUMMARY:Wednesday Pre-Trivia Deals
DESCRIPTION:🎉 Pre-Trivia Wednesdays at Shipgarten (Tysons / McLean)! 🎉\nGet the party started before our legendary Wednesday trivia with the best specials and an unbeatable vibe right here in McLean. 🍕🍻 \n💥 Top Specials:\n\n			\n				\n			\n			\n				\n			\n			\n				\n			\n			\n				\n			\n		\n\nBring your squad\, enjoy the deals\, and stick around for trivia fun! Plus\, FREE ENTRY and we’re right in the heart of Tysons / McLean. 🚀
URL:https://shipgarten.com/event/pre-trivia-deals/2025-05-14/
LOCATION:Shipgarten\, 7581 Colshire Dr\, McLean\, VA\, 22102
CATEGORIES:Weekly Events
ATTACH;FMTTYPE=image/png:https://shipgarten.com/wp-content/uploads/2024/06/Pre-Trivia-Special.png
END:VEVENT
BEGIN:VEVENT
DTSTART;TZID=America/New_York:20250514T190000
DTEND;TZID=America/New_York:20250514T210000
DTSTAMP:20260423T061204
CREATED:20240619T220141Z
LAST-MODIFIED:20250509T165236Z
UID:10010001-1747249200-1747256400@shipgarten.com
SUMMARY:Midweek Trivia Fun at Shipgarten
DESCRIPTION:Join us every Wednesday night at Shipgarten for an exciting Trivia Night hosted by Elliot from Pour House Trivia! Test your knowledge across a variety of fun and challenging topics while enjoying our unbeatable happy hour specials. Gather your friends and compete for the glory of trivia champion. The best part? It’s completely free to play! Come for the trivia\, stay for the great food\, drinks\, and lively atmosphere. Whether you’re a trivia enthusiast or just looking for a fun night out\, Shipgarten is the place to be every Wednesday from 7:00pm to 9:00pm.
URL:https://shipgarten.com/event/midweek-trivia-fun-at-shipgarten/2025-05-14/
LOCATION:Shipgarten\, 7581 Colshire Dr\, McLean\, VA\, 22102
CATEGORIES:Trivia,Weekly Events
ATTACH;FMTTYPE=image/png:https://shipgarten.com/wp-content/uploads/2024/06/Trivia-Night-Event-at-Shipgarten-Every-Wednesday.png
END:VEVENT
BEGIN:VEVENT
DTSTART;TZID=America/New_York:20250515T190000
DTEND;TZID=America/New_York:20250516T000000
DTSTAMP:20260423T061204
CREATED:20240611T203403Z
LAST-MODIFIED:20250509T204050Z
UID:10012852-1747335600-1747353600@shipgarten.com
SUMMARY:Karaoke Thursdays
DESCRIPTION:🎤 FREE Karaoke Thursdays at Shipgarten (Tysons / McLean)! 🎤\nEvery Thursday at Shipgarten\, experience a night full of music\, fun\, and great vibes right in McLean. Step up to the mic\, sing your favorite hits\, and enjoy a one-of-a-kind atmosphere — with free admission! Whether you’re the singer or just here to cheer\, you’re guaranteed a great time. \n🍺 Nightly Specials:\n\n			\n				\n			\n			\n				\n			\n		\n\n \n👉 Gather your crew\, book your table\, and enjoy an unforgettable Thursday night in Tysons!
URL:https://shipgarten.com/event/karaoke-thursdays/2025-05-15/
LOCATION:Shipgarten\, 7581 Colshire Dr\, McLean\, VA\, 22102
CATEGORIES:Weekly Events
ATTACH;FMTTYPE=image/png:https://shipgarten.com/wp-content/uploads/2024/06/Black-and-Gold-Collage-Karaoke-Night-Instagram-Post-Facebook-Cover-1.png
END:VEVENT
BEGIN:VEVENT
DTSTART;TZID=America/New_York:20250521T150000
DTEND;TZID=America/New_York:20250521T183000
DTSTAMP:20260423T061204
CREATED:20240611T194205Z
LAST-MODIFIED:20250609T193436Z
UID:10011890-1747839600-1747852200@shipgarten.com
SUMMARY:Wednesday Pre-Trivia Deals
DESCRIPTION:🎉 Pre-Trivia Wednesdays at Shipgarten (Tysons / McLean)! 🎉\nGet the party started before our legendary Wednesday trivia with the best specials and an unbeatable vibe right here in McLean. 🍕🍻 \n💥 Top Specials:\n\n			\n				\n			\n			\n				\n			\n			\n				\n			\n			\n				\n			\n		\n\nBring your squad\, enjoy the deals\, and stick around for trivia fun! Plus\, FREE ENTRY and we’re right in the heart of Tysons / McLean. 🚀
URL:https://shipgarten.com/event/pre-trivia-deals/2025-05-21/
LOCATION:Shipgarten\, 7581 Colshire Dr\, McLean\, VA\, 22102
CATEGORIES:Weekly Events
ATTACH;FMTTYPE=image/png:https://shipgarten.com/wp-content/uploads/2024/06/Pre-Trivia-Special.png
END:VEVENT
BEGIN:VEVENT
DTSTART;TZID=America/New_York:20250521T190000
DTEND;TZID=America/New_York:20250521T210000
DTSTAMP:20260423T061204
CREATED:20240619T220141Z
LAST-MODIFIED:20250509T165236Z
UID:10010002-1747854000-1747861200@shipgarten.com
SUMMARY:Midweek Trivia Fun at Shipgarten
DESCRIPTION:Join us every Wednesday night at Shipgarten for an exciting Trivia Night hosted by Elliot from Pour House Trivia! Test your knowledge across a variety of fun and challenging topics while enjoying our unbeatable happy hour specials. Gather your friends and compete for the glory of trivia champion. The best part? It’s completely free to play! Come for the trivia\, stay for the great food\, drinks\, and lively atmosphere. Whether you’re a trivia enthusiast or just looking for a fun night out\, Shipgarten is the place to be every Wednesday from 7:00pm to 9:00pm.
URL:https://shipgarten.com/event/midweek-trivia-fun-at-shipgarten/2025-05-21/
LOCATION:Shipgarten\, 7581 Colshire Dr\, McLean\, VA\, 22102
CATEGORIES:Trivia,Weekly Events
ATTACH;FMTTYPE=image/png:https://shipgarten.com/wp-content/uploads/2024/06/Trivia-Night-Event-at-Shipgarten-Every-Wednesday.png
END:VEVENT
BEGIN:VEVENT
DTSTART;TZID=America/New_York:20250522T190000
DTEND;TZID=America/New_York:20250523T000000
DTSTAMP:20260423T061204
CREATED:20240611T203403Z
LAST-MODIFIED:20250509T204050Z
UID:10012853-1747940400-1747958400@shipgarten.com
SUMMARY:Karaoke Thursdays
DESCRIPTION:🎤 FREE Karaoke Thursdays at Shipgarten (Tysons / McLean)! 🎤\nEvery Thursday at Shipgarten\, experience a night full of music\, fun\, and great vibes right in McLean. Step up to the mic\, sing your favorite hits\, and enjoy a one-of-a-kind atmosphere — with free admission! Whether you’re the singer or just here to cheer\, you’re guaranteed a great time. \n🍺 Nightly Specials:\n\n			\n				\n			\n			\n				\n			\n		\n\n \n👉 Gather your crew\, book your table\, and enjoy an unforgettable Thursday night in Tysons!
URL:https://shipgarten.com/event/karaoke-thursdays/2025-05-22/
LOCATION:Shipgarten\, 7581 Colshire Dr\, McLean\, VA\, 22102
CATEGORIES:Weekly Events
ATTACH;FMTTYPE=image/png:https://shipgarten.com/wp-content/uploads/2024/06/Black-and-Gold-Collage-Karaoke-Night-Instagram-Post-Facebook-Cover-1.png
END:VEVENT
BEGIN:VEVENT
DTSTART;TZID=America/New_York:20250525T180000
DTEND;TZID=America/New_York:20250525T200000
DTSTAMP:20260423T061204
CREATED:20250122T225844Z
LAST-MODIFIED:20250507T204511Z
UID:10008890-1748196000-1748203200@shipgarten.com
SUMMARY:Friends Trivia Night
DESCRIPTION:Join us at Shipgarten for themed trivia night! The theme is Friends!
URL:https://shipgarten.com/event/friends-trivia-night/
LOCATION:Shipgarten\, 7581 Colshire Dr\, McLean\, VA\, 22102
CATEGORIES:Trivia
ATTACH;FMTTYPE=image/png:https://shipgarten.com/wp-content/uploads/2025/01/3.png
END:VEVENT
BEGIN:VEVENT
DTSTART;TZID=America/New_York:20250528T150000
DTEND;TZID=America/New_York:20250528T183000
DTSTAMP:20260423T061204
CREATED:20240611T194205Z
LAST-MODIFIED:20250609T193436Z
UID:10011891-1748444400-1748457000@shipgarten.com
SUMMARY:Wednesday Pre-Trivia Deals
DESCRIPTION:🎉 Pre-Trivia Wednesdays at Shipgarten (Tysons / McLean)! 🎉\nGet the party started before our legendary Wednesday trivia with the best specials and an unbeatable vibe right here in McLean. 🍕🍻 \n💥 Top Specials:\n\n			\n				\n			\n			\n				\n			\n			\n				\n			\n			\n				\n			\n		\n\nBring your squad\, enjoy the deals\, and stick around for trivia fun! Plus\, FREE ENTRY and we’re right in the heart of Tysons / McLean. 🚀
URL:https://shipgarten.com/event/pre-trivia-deals/2025-05-28/
LOCATION:Shipgarten\, 7581 Colshire Dr\, McLean\, VA\, 22102
CATEGORIES:Weekly Events
ATTACH;FMTTYPE=image/png:https://shipgarten.com/wp-content/uploads/2024/06/Pre-Trivia-Special.png
END:VEVENT
BEGIN:VEVENT
DTSTART;TZID=America/New_York:20250528T190000
DTEND;TZID=America/New_York:20250528T210000
DTSTAMP:20260423T061204
CREATED:20240619T220141Z
LAST-MODIFIED:20250509T165236Z
UID:10010003-1748458800-1748466000@shipgarten.com
SUMMARY:Midweek Trivia Fun at Shipgarten
DESCRIPTION:Join us every Wednesday night at Shipgarten for an exciting Trivia Night hosted by Elliot from Pour House Trivia! Test your knowledge across a variety of fun and challenging topics while enjoying our unbeatable happy hour specials. Gather your friends and compete for the glory of trivia champion. The best part? It’s completely free to play! Come for the trivia\, stay for the great food\, drinks\, and lively atmosphere. Whether you’re a trivia enthusiast or just looking for a fun night out\, Shipgarten is the place to be every Wednesday from 7:00pm to 9:00pm.
URL:https://shipgarten.com/event/midweek-trivia-fun-at-shipgarten/2025-05-28/
LOCATION:Shipgarten\, 7581 Colshire Dr\, McLean\, VA\, 22102
CATEGORIES:Trivia,Weekly Events
ATTACH;FMTTYPE=image/png:https://shipgarten.com/wp-content/uploads/2024/06/Trivia-Night-Event-at-Shipgarten-Every-Wednesday.png
END:VEVENT
BEGIN:VEVENT
DTSTART;TZID=America/New_York:20250529T190000
DTEND;TZID=America/New_York:20250530T000000
DTSTAMP:20260423T061204
CREATED:20240611T203403Z
LAST-MODIFIED:20250509T204050Z
UID:10012854-1748545200-1748563200@shipgarten.com
SUMMARY:Karaoke Thursdays
DESCRIPTION:🎤 FREE Karaoke Thursdays at Shipgarten (Tysons / McLean)! 🎤\nEvery Thursday at Shipgarten\, experience a night full of music\, fun\, and great vibes right in McLean. Step up to the mic\, sing your favorite hits\, and enjoy a one-of-a-kind atmosphere — with free admission! Whether you’re the singer or just here to cheer\, you’re guaranteed a great time. \n🍺 Nightly Specials:\n\n			\n				\n			\n			\n				\n			\n		\n\n \n👉 Gather your crew\, book your table\, and enjoy an unforgettable Thursday night in Tysons!
URL:https://shipgarten.com/event/karaoke-thursdays/2025-05-29/
LOCATION:Shipgarten\, 7581 Colshire Dr\, McLean\, VA\, 22102
CATEGORIES:Weekly Events
ATTACH;FMTTYPE=image/png:https://shipgarten.com/wp-content/uploads/2024/06/Black-and-Gold-Collage-Karaoke-Night-Instagram-Post-Facebook-Cover-1.png
END:VEVENT
END:VCALENDAR