BEGIN:VCALENDAR
VERSION:2.0
PRODID:-//Shipgarten - ECPv6.15.20//NONSGML v1.0//EN
CALSCALE:GREGORIAN
METHOD:PUBLISH
X-ORIGINAL-URL:https://shipgarten.com
X-WR-CALDESC:Events for Shipgarten
REFRESH-INTERVAL;VALUE=DURATION:PT1H
X-Robots-Tag:noindex
X-PUBLISHED-TTL:PT1H
BEGIN:VTIMEZONE
TZID:America/New_York
BEGIN:DAYLIGHT
TZOFFSETFROM:-0500
TZOFFSETTO:-0400
TZNAME:EDT
DTSTART:20240310T070000
END:DAYLIGHT
BEGIN:STANDARD
TZOFFSETFROM:-0400
TZOFFSETTO:-0500
TZNAME:EST
DTSTART:20241103T060000
END:STANDARD
BEGIN:DAYLIGHT
TZOFFSETFROM:-0500
TZOFFSETTO:-0400
TZNAME:EDT
DTSTART:20250309T070000
END:DAYLIGHT
BEGIN:STANDARD
TZOFFSETFROM:-0400
TZOFFSETTO:-0500
TZNAME:EST
DTSTART:20251102T060000
END:STANDARD
BEGIN:DAYLIGHT
TZOFFSETFROM:-0500
TZOFFSETTO:-0400
TZNAME:EDT
DTSTART:20260308T070000
END:DAYLIGHT
BEGIN:STANDARD
TZOFFSETFROM:-0400
TZOFFSETTO:-0500
TZNAME:EST
DTSTART:20261101T060000
END:STANDARD
END:VTIMEZONE
BEGIN:VEVENT
DTSTART;TZID=America/New_York:20250101T150000
DTEND;TZID=America/New_York:20250101T183000
DTSTAMP:20260423T122832
CREATED:20240611T194205Z
LAST-MODIFIED:20250609T193436Z
UID:10011870-1735743600-1735756200@shipgarten.com
SUMMARY:Wednesday Pre-Trivia Deals
DESCRIPTION:🎉 Pre-Trivia Wednesdays at Shipgarten (Tysons / McLean)! 🎉\nGet the party started before our legendary Wednesday trivia with the best specials and an unbeatable vibe right here in McLean. 🍕🍻 \n💥 Top Specials:\n\n			\n				\n			\n			\n				\n			\n			\n				\n			\n			\n				\n			\n		\n\nBring your squad\, enjoy the deals\, and stick around for trivia fun! Plus\, FREE ENTRY and we’re right in the heart of Tysons / McLean. 🚀
URL:https://shipgarten.com/event/pre-trivia-deals/2025-01-01/
LOCATION:Shipgarten\, 7581 Colshire Dr\, McLean\, VA\, 22102
CATEGORIES:Weekly Events
ATTACH;FMTTYPE=image/png:https://shipgarten.com/wp-content/uploads/2024/06/Pre-Trivia-Special.png
END:VEVENT
BEGIN:VEVENT
DTSTART;TZID=America/New_York:20250101T190000
DTEND;TZID=America/New_York:20250101T210000
DTSTAMP:20260423T122832
CREATED:20240619T220141Z
LAST-MODIFIED:20250509T165236Z
UID:10009982-1735758000-1735765200@shipgarten.com
SUMMARY:Midweek Trivia Fun at Shipgarten
DESCRIPTION:Join us every Wednesday night at Shipgarten for an exciting Trivia Night hosted by Elliot from Pour House Trivia! Test your knowledge across a variety of fun and challenging topics while enjoying our unbeatable happy hour specials. Gather your friends and compete for the glory of trivia champion. The best part? It’s completely free to play! Come for the trivia\, stay for the great food\, drinks\, and lively atmosphere. Whether you’re a trivia enthusiast or just looking for a fun night out\, Shipgarten is the place to be every Wednesday from 7:00pm to 9:00pm.
URL:https://shipgarten.com/event/midweek-trivia-fun-at-shipgarten/2025-01-01/
LOCATION:Shipgarten\, 7581 Colshire Dr\, McLean\, VA\, 22102
CATEGORIES:Trivia,Weekly Events
ATTACH;FMTTYPE=image/png:https://shipgarten.com/wp-content/uploads/2024/06/Trivia-Night-Event-at-Shipgarten-Every-Wednesday.png
END:VEVENT
BEGIN:VEVENT
DTSTART;TZID=America/New_York:20250102T190000
DTEND;TZID=America/New_York:20250103T000000
DTSTAMP:20260423T122832
CREATED:20240611T203403Z
LAST-MODIFIED:20250509T204050Z
UID:10012833-1735844400-1735862400@shipgarten.com
SUMMARY:Karaoke Thursdays
DESCRIPTION:🎤 FREE Karaoke Thursdays at Shipgarten (Tysons / McLean)! 🎤\nEvery Thursday at Shipgarten\, experience a night full of music\, fun\, and great vibes right in McLean. Step up to the mic\, sing your favorite hits\, and enjoy a one-of-a-kind atmosphere — with free admission! Whether you’re the singer or just here to cheer\, you’re guaranteed a great time. \n🍺 Nightly Specials:\n\n			\n				\n			\n			\n				\n			\n		\n\n \n👉 Gather your crew\, book your table\, and enjoy an unforgettable Thursday night in Tysons!
URL:https://shipgarten.com/event/karaoke-thursdays/2025-01-02/
LOCATION:Shipgarten\, 7581 Colshire Dr\, McLean\, VA\, 22102
CATEGORIES:Weekly Events
ATTACH;FMTTYPE=image/png:https://shipgarten.com/wp-content/uploads/2024/06/Black-and-Gold-Collage-Karaoke-Night-Instagram-Post-Facebook-Cover-1.png
END:VEVENT
BEGIN:VEVENT
DTSTART;TZID=America/New_York:20250108T150000
DTEND;TZID=America/New_York:20250108T183000
DTSTAMP:20260423T122832
CREATED:20240611T194205Z
LAST-MODIFIED:20250609T193436Z
UID:10011871-1736348400-1736361000@shipgarten.com
SUMMARY:Wednesday Pre-Trivia Deals
DESCRIPTION:🎉 Pre-Trivia Wednesdays at Shipgarten (Tysons / McLean)! 🎉\nGet the party started before our legendary Wednesday trivia with the best specials and an unbeatable vibe right here in McLean. 🍕🍻 \n💥 Top Specials:\n\n			\n				\n			\n			\n				\n			\n			\n				\n			\n			\n				\n			\n		\n\nBring your squad\, enjoy the deals\, and stick around for trivia fun! Plus\, FREE ENTRY and we’re right in the heart of Tysons / McLean. 🚀
URL:https://shipgarten.com/event/pre-trivia-deals/2025-01-08/
LOCATION:Shipgarten\, 7581 Colshire Dr\, McLean\, VA\, 22102
CATEGORIES:Weekly Events
ATTACH;FMTTYPE=image/png:https://shipgarten.com/wp-content/uploads/2024/06/Pre-Trivia-Special.png
END:VEVENT
BEGIN:VEVENT
DTSTART;TZID=America/New_York:20250108T190000
DTEND;TZID=America/New_York:20250108T210000
DTSTAMP:20260423T122832
CREATED:20240619T220141Z
LAST-MODIFIED:20250509T165236Z
UID:10009983-1736362800-1736370000@shipgarten.com
SUMMARY:Midweek Trivia Fun at Shipgarten
DESCRIPTION:Join us every Wednesday night at Shipgarten for an exciting Trivia Night hosted by Elliot from Pour House Trivia! Test your knowledge across a variety of fun and challenging topics while enjoying our unbeatable happy hour specials. Gather your friends and compete for the glory of trivia champion. The best part? It’s completely free to play! Come for the trivia\, stay for the great food\, drinks\, and lively atmosphere. Whether you’re a trivia enthusiast or just looking for a fun night out\, Shipgarten is the place to be every Wednesday from 7:00pm to 9:00pm.
URL:https://shipgarten.com/event/midweek-trivia-fun-at-shipgarten/2025-01-08/
LOCATION:Shipgarten\, 7581 Colshire Dr\, McLean\, VA\, 22102
CATEGORIES:Trivia,Weekly Events
ATTACH;FMTTYPE=image/png:https://shipgarten.com/wp-content/uploads/2024/06/Trivia-Night-Event-at-Shipgarten-Every-Wednesday.png
END:VEVENT
BEGIN:VEVENT
DTSTART;TZID=America/New_York:20250109T190000
DTEND;TZID=America/New_York:20250110T000000
DTSTAMP:20260423T122832
CREATED:20240611T203403Z
LAST-MODIFIED:20250509T204050Z
UID:10012834-1736449200-1736467200@shipgarten.com
SUMMARY:Karaoke Thursdays
DESCRIPTION:🎤 FREE Karaoke Thursdays at Shipgarten (Tysons / McLean)! 🎤\nEvery Thursday at Shipgarten\, experience a night full of music\, fun\, and great vibes right in McLean. Step up to the mic\, sing your favorite hits\, and enjoy a one-of-a-kind atmosphere — with free admission! Whether you’re the singer or just here to cheer\, you’re guaranteed a great time. \n🍺 Nightly Specials:\n\n			\n				\n			\n			\n				\n			\n		\n\n \n👉 Gather your crew\, book your table\, and enjoy an unforgettable Thursday night in Tysons!
URL:https://shipgarten.com/event/karaoke-thursdays/2025-01-09/
LOCATION:Shipgarten\, 7581 Colshire Dr\, McLean\, VA\, 22102
CATEGORIES:Weekly Events
ATTACH;FMTTYPE=image/png:https://shipgarten.com/wp-content/uploads/2024/06/Black-and-Gold-Collage-Karaoke-Night-Instagram-Post-Facebook-Cover-1.png
END:VEVENT
BEGIN:VEVENT
DTSTART;TZID=America/New_York:20250115T150000
DTEND;TZID=America/New_York:20250115T183000
DTSTAMP:20260423T122832
CREATED:20240611T194205Z
LAST-MODIFIED:20250609T193436Z
UID:10011872-1736953200-1736965800@shipgarten.com
SUMMARY:Wednesday Pre-Trivia Deals
DESCRIPTION:🎉 Pre-Trivia Wednesdays at Shipgarten (Tysons / McLean)! 🎉\nGet the party started before our legendary Wednesday trivia with the best specials and an unbeatable vibe right here in McLean. 🍕🍻 \n💥 Top Specials:\n\n			\n				\n			\n			\n				\n			\n			\n				\n			\n			\n				\n			\n		\n\nBring your squad\, enjoy the deals\, and stick around for trivia fun! Plus\, FREE ENTRY and we’re right in the heart of Tysons / McLean. 🚀
URL:https://shipgarten.com/event/pre-trivia-deals/2025-01-15/
LOCATION:Shipgarten\, 7581 Colshire Dr\, McLean\, VA\, 22102
CATEGORIES:Weekly Events
ATTACH;FMTTYPE=image/png:https://shipgarten.com/wp-content/uploads/2024/06/Pre-Trivia-Special.png
END:VEVENT
BEGIN:VEVENT
DTSTART;TZID=America/New_York:20250115T190000
DTEND;TZID=America/New_York:20250115T210000
DTSTAMP:20260423T122832
CREATED:20240619T220141Z
LAST-MODIFIED:20250509T165236Z
UID:10009984-1736967600-1736974800@shipgarten.com
SUMMARY:Midweek Trivia Fun at Shipgarten
DESCRIPTION:Join us every Wednesday night at Shipgarten for an exciting Trivia Night hosted by Elliot from Pour House Trivia! Test your knowledge across a variety of fun and challenging topics while enjoying our unbeatable happy hour specials. Gather your friends and compete for the glory of trivia champion. The best part? It’s completely free to play! Come for the trivia\, stay for the great food\, drinks\, and lively atmosphere. Whether you’re a trivia enthusiast or just looking for a fun night out\, Shipgarten is the place to be every Wednesday from 7:00pm to 9:00pm.
URL:https://shipgarten.com/event/midweek-trivia-fun-at-shipgarten/2025-01-15/
LOCATION:Shipgarten\, 7581 Colshire Dr\, McLean\, VA\, 22102
CATEGORIES:Trivia,Weekly Events
ATTACH;FMTTYPE=image/png:https://shipgarten.com/wp-content/uploads/2024/06/Trivia-Night-Event-at-Shipgarten-Every-Wednesday.png
END:VEVENT
BEGIN:VEVENT
DTSTART;TZID=America/New_York:20250116T190000
DTEND;TZID=America/New_York:20250117T000000
DTSTAMP:20260423T122832
CREATED:20240611T203403Z
LAST-MODIFIED:20250509T204050Z
UID:10012835-1737054000-1737072000@shipgarten.com
SUMMARY:Karaoke Thursdays
DESCRIPTION:🎤 FREE Karaoke Thursdays at Shipgarten (Tysons / McLean)! 🎤\nEvery Thursday at Shipgarten\, experience a night full of music\, fun\, and great vibes right in McLean. Step up to the mic\, sing your favorite hits\, and enjoy a one-of-a-kind atmosphere — with free admission! Whether you’re the singer or just here to cheer\, you’re guaranteed a great time. \n🍺 Nightly Specials:\n\n			\n				\n			\n			\n				\n			\n		\n\n \n👉 Gather your crew\, book your table\, and enjoy an unforgettable Thursday night in Tysons!
URL:https://shipgarten.com/event/karaoke-thursdays/2025-01-16/
LOCATION:Shipgarten\, 7581 Colshire Dr\, McLean\, VA\, 22102
CATEGORIES:Weekly Events
ATTACH;FMTTYPE=image/png:https://shipgarten.com/wp-content/uploads/2024/06/Black-and-Gold-Collage-Karaoke-Night-Instagram-Post-Facebook-Cover-1.png
END:VEVENT
BEGIN:VEVENT
DTSTART;TZID=America/New_York:20250122T030000
DTEND;TZID=America/New_York:20250122T120000
DTSTAMP:20260423T122832
CREATED:20250122T231950Z
LAST-MODIFIED:20250122T231950Z
UID:10008896-1737514800-1737547200@shipgarten.com
SUMMARY:The Lord of the Rings Trivia Night
DESCRIPTION:Join us at Shipgarten for our themed trivia night! The theme is The Lord of the Rings!
URL:https://shipgarten.com/event/the-lord-of-the-rings-trivia-night/
LOCATION:Shipgarten\, 7581 Colshire Dr\, McLean\, VA\, 22102
CATEGORIES:Trivia
ATTACH;FMTTYPE=image/png:https://shipgarten.com/wp-content/uploads/2025/01/9-Large.png
END:VEVENT
BEGIN:VEVENT
DTSTART;TZID=America/New_York:20250122T150000
DTEND;TZID=America/New_York:20250122T183000
DTSTAMP:20260423T122832
CREATED:20240611T194205Z
LAST-MODIFIED:20250609T193436Z
UID:10011873-1737558000-1737570600@shipgarten.com
SUMMARY:Wednesday Pre-Trivia Deals
DESCRIPTION:🎉 Pre-Trivia Wednesdays at Shipgarten (Tysons / McLean)! 🎉\nGet the party started before our legendary Wednesday trivia with the best specials and an unbeatable vibe right here in McLean. 🍕🍻 \n💥 Top Specials:\n\n			\n				\n			\n			\n				\n			\n			\n				\n			\n			\n				\n			\n		\n\nBring your squad\, enjoy the deals\, and stick around for trivia fun! Plus\, FREE ENTRY and we’re right in the heart of Tysons / McLean. 🚀
URL:https://shipgarten.com/event/pre-trivia-deals/2025-01-22/
LOCATION:Shipgarten\, 7581 Colshire Dr\, McLean\, VA\, 22102
CATEGORIES:Weekly Events
ATTACH;FMTTYPE=image/png:https://shipgarten.com/wp-content/uploads/2024/06/Pre-Trivia-Special.png
END:VEVENT
BEGIN:VEVENT
DTSTART;TZID=America/New_York:20250122T190000
DTEND;TZID=America/New_York:20250122T210000
DTSTAMP:20260423T122832
CREATED:20240619T220141Z
LAST-MODIFIED:20250509T165236Z
UID:10009985-1737572400-1737579600@shipgarten.com
SUMMARY:Midweek Trivia Fun at Shipgarten
DESCRIPTION:Join us every Wednesday night at Shipgarten for an exciting Trivia Night hosted by Elliot from Pour House Trivia! Test your knowledge across a variety of fun and challenging topics while enjoying our unbeatable happy hour specials. Gather your friends and compete for the glory of trivia champion. The best part? It’s completely free to play! Come for the trivia\, stay for the great food\, drinks\, and lively atmosphere. Whether you’re a trivia enthusiast or just looking for a fun night out\, Shipgarten is the place to be every Wednesday from 7:00pm to 9:00pm.
URL:https://shipgarten.com/event/midweek-trivia-fun-at-shipgarten/2025-01-22/
LOCATION:Shipgarten\, 7581 Colshire Dr\, McLean\, VA\, 22102
CATEGORIES:Trivia,Weekly Events
ATTACH;FMTTYPE=image/png:https://shipgarten.com/wp-content/uploads/2024/06/Trivia-Night-Event-at-Shipgarten-Every-Wednesday.png
END:VEVENT
BEGIN:VEVENT
DTSTART;TZID=America/New_York:20250123T190000
DTEND;TZID=America/New_York:20250124T000000
DTSTAMP:20260423T122832
CREATED:20240611T203403Z
LAST-MODIFIED:20250509T204050Z
UID:10012836-1737658800-1737676800@shipgarten.com
SUMMARY:Karaoke Thursdays
DESCRIPTION:🎤 FREE Karaoke Thursdays at Shipgarten (Tysons / McLean)! 🎤\nEvery Thursday at Shipgarten\, experience a night full of music\, fun\, and great vibes right in McLean. Step up to the mic\, sing your favorite hits\, and enjoy a one-of-a-kind atmosphere — with free admission! Whether you’re the singer or just here to cheer\, you’re guaranteed a great time. \n🍺 Nightly Specials:\n\n			\n				\n			\n			\n				\n			\n		\n\n \n👉 Gather your crew\, book your table\, and enjoy an unforgettable Thursday night in Tysons!
URL:https://shipgarten.com/event/karaoke-thursdays/2025-01-23/
LOCATION:Shipgarten\, 7581 Colshire Dr\, McLean\, VA\, 22102
CATEGORIES:Weekly Events
ATTACH;FMTTYPE=image/png:https://shipgarten.com/wp-content/uploads/2024/06/Black-and-Gold-Collage-Karaoke-Night-Instagram-Post-Facebook-Cover-1.png
END:VEVENT
BEGIN:VEVENT
DTSTART;TZID=America/New_York:20250129T150000
DTEND;TZID=America/New_York:20250129T183000
DTSTAMP:20260423T122832
CREATED:20240611T194205Z
LAST-MODIFIED:20250609T193436Z
UID:10011874-1738162800-1738175400@shipgarten.com
SUMMARY:Wednesday Pre-Trivia Deals
DESCRIPTION:🎉 Pre-Trivia Wednesdays at Shipgarten (Tysons / McLean)! 🎉\nGet the party started before our legendary Wednesday trivia with the best specials and an unbeatable vibe right here in McLean. 🍕🍻 \n💥 Top Specials:\n\n			\n				\n			\n			\n				\n			\n			\n				\n			\n			\n				\n			\n		\n\nBring your squad\, enjoy the deals\, and stick around for trivia fun! Plus\, FREE ENTRY and we’re right in the heart of Tysons / McLean. 🚀
URL:https://shipgarten.com/event/pre-trivia-deals/2025-01-29/
LOCATION:Shipgarten\, 7581 Colshire Dr\, McLean\, VA\, 22102
CATEGORIES:Weekly Events
ATTACH;FMTTYPE=image/png:https://shipgarten.com/wp-content/uploads/2024/06/Pre-Trivia-Special.png
END:VEVENT
BEGIN:VEVENT
DTSTART;TZID=America/New_York:20250129T190000
DTEND;TZID=America/New_York:20250129T210000
DTSTAMP:20260423T122832
CREATED:20240619T220141Z
LAST-MODIFIED:20250509T165236Z
UID:10009986-1738177200-1738184400@shipgarten.com
SUMMARY:Midweek Trivia Fun at Shipgarten
DESCRIPTION:Join us every Wednesday night at Shipgarten for an exciting Trivia Night hosted by Elliot from Pour House Trivia! Test your knowledge across a variety of fun and challenging topics while enjoying our unbeatable happy hour specials. Gather your friends and compete for the glory of trivia champion. The best part? It’s completely free to play! Come for the trivia\, stay for the great food\, drinks\, and lively atmosphere. Whether you’re a trivia enthusiast or just looking for a fun night out\, Shipgarten is the place to be every Wednesday from 7:00pm to 9:00pm.
URL:https://shipgarten.com/event/midweek-trivia-fun-at-shipgarten/2025-01-29/
LOCATION:Shipgarten\, 7581 Colshire Dr\, McLean\, VA\, 22102
CATEGORIES:Trivia,Weekly Events
ATTACH;FMTTYPE=image/png:https://shipgarten.com/wp-content/uploads/2024/06/Trivia-Night-Event-at-Shipgarten-Every-Wednesday.png
END:VEVENT
BEGIN:VEVENT
DTSTART;TZID=America/New_York:20250130T190000
DTEND;TZID=America/New_York:20250131T000000
DTSTAMP:20260423T122832
CREATED:20240611T203403Z
LAST-MODIFIED:20250509T204050Z
UID:10012837-1738263600-1738281600@shipgarten.com
SUMMARY:Karaoke Thursdays
DESCRIPTION:🎤 FREE Karaoke Thursdays at Shipgarten (Tysons / McLean)! 🎤\nEvery Thursday at Shipgarten\, experience a night full of music\, fun\, and great vibes right in McLean. Step up to the mic\, sing your favorite hits\, and enjoy a one-of-a-kind atmosphere — with free admission! Whether you’re the singer or just here to cheer\, you’re guaranteed a great time. \n🍺 Nightly Specials:\n\n			\n				\n			\n			\n				\n			\n		\n\n \n👉 Gather your crew\, book your table\, and enjoy an unforgettable Thursday night in Tysons!
URL:https://shipgarten.com/event/karaoke-thursdays/2025-01-30/
LOCATION:Shipgarten\, 7581 Colshire Dr\, McLean\, VA\, 22102
CATEGORIES:Weekly Events
ATTACH;FMTTYPE=image/png:https://shipgarten.com/wp-content/uploads/2024/06/Black-and-Gold-Collage-Karaoke-Night-Instagram-Post-Facebook-Cover-1.png
END:VEVENT
END:VCALENDAR