BEGIN:VCALENDAR
VERSION:2.0
PRODID:-//Shipgarten - ECPv6.15.20//NONSGML v1.0//EN
CALSCALE:GREGORIAN
METHOD:PUBLISH
X-WR-CALNAME:Shipgarten
X-ORIGINAL-URL:https://shipgarten.com
X-WR-CALDESC:Events for Shipgarten
REFRESH-INTERVAL;VALUE=DURATION:PT1H
X-Robots-Tag:noindex
X-PUBLISHED-TTL:PT1H
BEGIN:VTIMEZONE
TZID:America/New_York
BEGIN:DAYLIGHT
TZOFFSETFROM:-0500
TZOFFSETTO:-0400
TZNAME:EDT
DTSTART:20230312T070000
END:DAYLIGHT
BEGIN:STANDARD
TZOFFSETFROM:-0400
TZOFFSETTO:-0500
TZNAME:EST
DTSTART:20231105T060000
END:STANDARD
BEGIN:DAYLIGHT
TZOFFSETFROM:-0500
TZOFFSETTO:-0400
TZNAME:EDT
DTSTART:20240310T070000
END:DAYLIGHT
BEGIN:STANDARD
TZOFFSETFROM:-0400
TZOFFSETTO:-0500
TZNAME:EST
DTSTART:20241103T060000
END:STANDARD
BEGIN:DAYLIGHT
TZOFFSETFROM:-0500
TZOFFSETTO:-0400
TZNAME:EDT
DTSTART:20250309T070000
END:DAYLIGHT
BEGIN:STANDARD
TZOFFSETFROM:-0400
TZOFFSETTO:-0500
TZNAME:EST
DTSTART:20251102T060000
END:STANDARD
END:VTIMEZONE
BEGIN:VEVENT
DTSTART;TZID=America/New_York:20240922T080000
DTEND;TZID=America/New_York:20240922T140000
DTSTAMP:20260421T134410
CREATED:20240821T224548Z
LAST-MODIFIED:20240918T223640Z
UID:10008608-1726992000-1727013600@shipgarten.com
SUMMARY:Kid's Oktoberfest Kickoff Hosted by Petting Zoo
DESCRIPTION:Shipgarten\, the top Tysons Corner Restaurant for families\, is hosting a Petting Zoo for kids on Sunday\, October 22nd from noon to 6 PM! Bring the whole family for an unforgettable experience meeting friendly\, furry creatures along with face painting and arts & crafts kids can enjoy. We also have live music\, moonbounces\, and a full playground so everyone can have a blast! Dogs are welcome at Shipgarten too\, whether on-leash or in our off-leash dog park! We offer lots of treats such as Pup Cups and Kongs filled with peanut butter so the whole family can enjoy a treat. \nShipgarten opens at 11 AM & the festival runs from 12 PM until 6 PM. Restaurant closes at 12 AM \nEVENT SCHEDULE:\n\n2-3 PM – Live Magical Performance by Jake the Great\n★ Petting Zoo ★ starts between 3 and 3:30 for an hour\n\nALL DAY Family Football \nShipgarten offers 2-155″ TV Walls\, 8 TVs\, 3 outdoor projectors & 3 indoor Projectors to watch ALL the football games
URL:https://shipgarten.com/event/kids-oktoberfest-kickoff-hosted-by-petting-zoo/
LOCATION:Shipgarten\, 7581 Colshire Dr\, McLean\, VA\, 22102
CATEGORIES:Kids and Family Festival,Oktoberfest Family Festivals
ATTACH;FMTTYPE=image/png:https://shipgarten.com/wp-content/uploads/2024/08/Kids-Oktoberfest-Kickoff-Hosted-by-Petting-Zoo.png
END:VEVENT
END:VCALENDAR