BEGIN:VCALENDAR
VERSION:2.0
PRODID:-//Shipgarten - ECPv6.15.20//NONSGML v1.0//EN
CALSCALE:GREGORIAN
METHOD:PUBLISH
X-ORIGINAL-URL:https://shipgarten.com
X-WR-CALDESC:Events for Shipgarten
REFRESH-INTERVAL;VALUE=DURATION:PT1H
X-Robots-Tag:noindex
X-PUBLISHED-TTL:PT1H
BEGIN:VTIMEZONE
TZID:America/New_York
BEGIN:DAYLIGHT
TZOFFSETFROM:-0500
TZOFFSETTO:-0400
TZNAME:EDT
DTSTART:20250309T070000
END:DAYLIGHT
BEGIN:STANDARD
TZOFFSETFROM:-0400
TZOFFSETTO:-0500
TZNAME:EST
DTSTART:20251102T060000
END:STANDARD
BEGIN:DAYLIGHT
TZOFFSETFROM:-0500
TZOFFSETTO:-0400
TZNAME:EDT
DTSTART:20260308T070000
END:DAYLIGHT
BEGIN:STANDARD
TZOFFSETFROM:-0400
TZOFFSETTO:-0500
TZNAME:EST
DTSTART:20261101T060000
END:STANDARD
BEGIN:DAYLIGHT
TZOFFSETFROM:-0500
TZOFFSETTO:-0400
TZNAME:EDT
DTSTART:20270314T070000
END:DAYLIGHT
BEGIN:STANDARD
TZOFFSETFROM:-0400
TZOFFSETTO:-0500
TZNAME:EST
DTSTART:20271107T060000
END:STANDARD
END:VTIMEZONE
BEGIN:VEVENT
DTSTART;TZID=America/New_York:20260920T120000
DTEND;TZID=America/New_York:20260920T180000
DTSTAMP:20260421T121604
CREATED:20260225T163304Z
LAST-MODIFIED:20260225T163304Z
UID:10013840-1789905600-1789927200@shipgarten.com
SUMMARY:Petting Zoo
DESCRIPTION:🐐✨ Get ready for the cutest day ever at **Kids Petting Zoo** at Shipgarten on **9/20**! \nBring the little ones out for a hands-on day of furry friends\, gentle farm animals\, and family fun. It’s the perfect chance to pet\, play\, and snap the sweetest fall photos together 🐑📸🍂 \nMark your calendars and join us for a day full of smiles\, giggles\, and adorable memories at Shipgarten! 💛
URL:https://shipgarten.com/event/petting-zoo-11/
LOCATION:Shipgarten\, 7581 Colshire Dr\, McLean\, VA\, 22102
CATEGORIES:Kids and Family Festival,Oktoberfest Family Festivals
ATTACH;FMTTYPE=image/png:https://shipgarten.com/wp-content/uploads/2026/02/kidsoktoberfest-pettingzoo-sep20-2026.png
END:VEVENT
BEGIN:VEVENT
DTSTART;TZID=America/New_York:20260927T120000
DTEND;TZID=America/New_York:20260927T180000
DTSTAMP:20260421T121604
CREATED:20260225T164242Z
LAST-MODIFIED:20260225T164242Z
UID:10013842-1790510400-1790532000@shipgarten.com
SUMMARY:Paw-toberfest with Spider-man\, Chase\, & Sky
DESCRIPTION:🐾🎃 It’s time for **Paw-toberfest** on **September 27th** at Shipgarten! \nJoin us for a tail-wagging day of fall fun featuring your favorite heroes — **Spider-Man** 🕷️\, **Chase** & **Skye** from PAW Patrol 🐶✨! Get ready for meet-and-greets\, photo ops\, festive vibes\, and plenty of family-friendly excitement. \nThrow on your costumes\, bring your best superhero moves\, and get ready to paws and celebrate at the most pup-tastic festival of the season! 🐕🍂🎉
URL:https://shipgarten.com/event/paw-toberfest-with-spider-man-chase-sky/
LOCATION:Shipgarten\, 7581 Colshire Dr\, McLean\, VA\, 22102
CATEGORIES:Kids and Family Festival,Oktoberfest Family Festivals
ATTACH;FMTTYPE=image/png:https://shipgarten.com/wp-content/uploads/2026/02/pawtoberfest-sep27-2026.png
END:VEVENT
BEGIN:VEVENT
DTSTART;TZID=America/New_York:20261004T120000
DTEND;TZID=America/New_York:20261004T180000
DTSTAMP:20260421T121604
CREATED:20260225T165324Z
LAST-MODIFIED:20260225T165324Z
UID:10013843-1791115200-1791136800@shipgarten.com
SUMMARY:Kiddo Rave
DESCRIPTION:🎃✨ Get ready for a spooky-sweet dance party at the **Halloween Kiddo Rave** on **October 4th** at Shipgarten! \nWe’re turning up the (not-so-scary) vibes with kid-friendly beats\, glowing lights\, and a monster mash dance floor perfect for little ghouls and goblins 👻🕺 \nCostumes are highly encouraged — whether they’re witches\, superheroes\, pumpkins\, or pirates! Join us for a frightfully fun afternoon full of music\, energy\, and Halloween magic 🕸️🦇🎶
URL:https://shipgarten.com/event/kiddo-rave-14/
LOCATION:Shipgarten\, 7581 Colshire Dr\, McLean\, VA\, 22102
CATEGORIES:Kids and Family Festival,Oktoberfest Family Festivals
ATTACH;FMTTYPE=image/png:https://shipgarten.com/wp-content/uploads/2026/02/kidsoktoberfest-kiddorave-oct4-2026.png
END:VEVENT
BEGIN:VEVENT
DTSTART;TZID=America/New_York:20261011T120000
DTEND;TZID=America/New_York:20261011T180000
DTSTAMP:20260421T121604
CREATED:20260225T170953Z
LAST-MODIFIED:20260225T170953Z
UID:10013844-1791720000-1791741600@shipgarten.com
SUMMARY:Kids' Field Day
DESCRIPTION:🏃‍♀️🎉 Let the games begin! **Kids’ Field Day** is happening on **October 11** at Shipgarten! \nBring the little ones out for a high-energy day packed with friendly competition\, outdoor fun\, and tons of laughter. It’s the perfect chance for kids to run\, play\, and show off their team spirit 💪🍂 \nGrab your crew and join us for a day full of movement\, smiles\, and unforgettable fall memories! 🌟🏅
URL:https://shipgarten.com/event/kids-field-day-5/
LOCATION:Shipgarten\, 7581 Colshire Dr\, McLean\, VA\, 22102
CATEGORIES:Kids and Family Festival,Oktoberfest Family Festivals
ATTACH;FMTTYPE=image/png:https://shipgarten.com/wp-content/uploads/2026/02/kidsoktoberfest-fieldday-oct1102026.png
END:VEVENT
BEGIN:VEVENT
DTSTART;TZID=America/New_York:20261018T120000
DTEND;TZID=America/New_York:20261018T180000
DTSTAMP:20260421T121604
CREATED:20260225T163949Z
LAST-MODIFIED:20260225T163949Z
UID:10013841-1792324800-1792346400@shipgarten.com
SUMMARY:Petting Zoo
DESCRIPTION:🐐🍁 Fall fun is getting extra adorable at **Kids’ Petting Zoo** on **October 18** at Shipgarten! \nBring the whole family out for a day of cuddly farm friends\, hands-on animal encounters\, and sweet autumn memories. It’s the perfect way to enjoy crisp fall weather\, festive vibes\, and plenty of photo-worthy moments 📸✨ \nDon’t miss this baa-rilliant day of family fun — we’ll see you there! 🐑🍂
URL:https://shipgarten.com/event/petting-zoo-12/
LOCATION:Shipgarten\, 7581 Colshire Dr\, McLean\, VA\, 22102
CATEGORIES:Kids and Family Festival,Oktoberfest Family Festivals
ATTACH;FMTTYPE=image/png:https://shipgarten.com/wp-content/uploads/2026/02/kidsoktoberfest-pettingzoo-oct18-2026.png
END:VEVENT
END:VCALENDAR