BEGIN:VCALENDAR
VERSION:2.0
PRODID:-//Shipgarten - ECPv6.15.20//NONSGML v1.0//EN
CALSCALE:GREGORIAN
METHOD:PUBLISH
X-ORIGINAL-URL:https://shipgarten.com
X-WR-CALDESC:Events for Shipgarten
REFRESH-INTERVAL;VALUE=DURATION:PT1H
X-Robots-Tag:noindex
X-PUBLISHED-TTL:PT1H
BEGIN:VTIMEZONE
TZID:America/New_York
BEGIN:DAYLIGHT
TZOFFSETFROM:-0500
TZOFFSETTO:-0400
TZNAME:EDT
DTSTART:20240310T070000
END:DAYLIGHT
BEGIN:STANDARD
TZOFFSETFROM:-0400
TZOFFSETTO:-0500
TZNAME:EST
DTSTART:20241103T060000
END:STANDARD
BEGIN:DAYLIGHT
TZOFFSETFROM:-0500
TZOFFSETTO:-0400
TZNAME:EDT
DTSTART:20250309T070000
END:DAYLIGHT
BEGIN:STANDARD
TZOFFSETFROM:-0400
TZOFFSETTO:-0500
TZNAME:EST
DTSTART:20251102T060000
END:STANDARD
BEGIN:DAYLIGHT
TZOFFSETFROM:-0500
TZOFFSETTO:-0400
TZNAME:EDT
DTSTART:20260308T070000
END:DAYLIGHT
BEGIN:STANDARD
TZOFFSETFROM:-0400
TZOFFSETTO:-0500
TZNAME:EST
DTSTART:20261101T060000
END:STANDARD
END:VTIMEZONE
BEGIN:VEVENT
DTSTART;TZID=America/New_York:20251102T120000
DTEND;TZID=America/New_York:20251102T180000
DTSTAMP:20260421T134518
CREATED:20250515T203033Z
LAST-MODIFIED:20251022T201229Z
UID:10013461-1762084800-1762106400@shipgarten.com
SUMMARY:Wicked Hosts Kids Halloween Trick or Treating
DESCRIPTION:Step into a world of family-friendly fun at Shipgarten\, Tysons Corner\, the top restaurant for families! Join us on Sunday\, November 2nd\, from 12 PM to 6 PM\, as we invite you to enjoy a day of excitement as we are having Wicked host the Kids Trick or Treating. Bring the whole family for an unforgettable experience! For your little ones Shipgarten has face painting and arts & crafts\, allowing their creativity to shine. The fun doesn’t stop there – we’ve got live music\, great drinks\, moonbounces\, and a full outdoor playground to ensure everyone has a blast. Dogs are more than welcome at Shipgarten\, whether on-leash or in our off-leash dog park. Treat your furry friends to Pup Cups and Kongs filled with peanut butter for a delightful family treat. \n***Shipgarten opens at 11 AM & the festival runs from 12 PM until 6 PM. Restaurants close at 2 AM*** \n***THERE WILL BE 10+ stations where children can go Trick O Treating*** \nEVENT HIGHLIGHTS: \n12-6pm: Trick-or-treating (10+ stations) \n12:00 – 6:00 PM: Face Painting\, Moonbounces\, and Arts & Crafts \n12:00 – 3:00 PM: Balloon Animals or Magic Tricks \n1:00PM: Live Magic Performance by Jake the Great \n2:00pm: Costume Show off Fashion Show (Show off your childs costume to everyone while our professional photographer takes photos of them for free on our main stage\, no registration required – just show up and get in line) \n3:15PM – Live Performance by Wicked \n12-6pm: Face Paint\, Arts & Crafts\, Moon Bounces \nBut that’s not all! we offer (2) 155″ TV Walls\, 8 TVs\, 2 outdoor projectors\, and 3 indoor projectors\, ensuring you won’t miss any of the big games.Shipgarten Offers: \n\n2 Moon Bounces\n2 Playground Sets\nPhoto Booth with Accessories\nKids’ Corner with Face Painting\, Crafts\, and More\nOutdoor Games & Activities\nGiveaways\, Competitions & Prizes\nDog-Friendly Atmosphere\nBier & Samples\nGreat Food
URL:https://shipgarten.com/event/wicked-hosts-kids-halloween-trick-or-treating/
LOCATION:Shipgarten\, 7581 Colshire Dr\, McLean\, VA\, 22102
CATEGORIES:Hallowen Kids,Kids and Family Festival,Oktoberfest Family Festivals
ATTACH;FMTTYPE=image/png:https://shipgarten.com/wp-content/uploads/2025/05/2.png
END:VEVENT
END:VCALENDAR