BEGIN:VCALENDAR
VERSION:2.0
PRODID:-//Shipgarten - ECPv6.15.20//NONSGML v1.0//EN
CALSCALE:GREGORIAN
METHOD:PUBLISH
X-WR-CALNAME:Shipgarten
X-ORIGINAL-URL:https://shipgarten.com
X-WR-CALDESC:Events for Shipgarten
REFRESH-INTERVAL;VALUE=DURATION:PT1H
X-Robots-Tag:noindex
X-PUBLISHED-TTL:PT1H
BEGIN:VTIMEZONE
TZID:America/New_York
BEGIN:DAYLIGHT
TZOFFSETFROM:-0500
TZOFFSETTO:-0400
TZNAME:EDT
DTSTART:20230312T070000
END:DAYLIGHT
BEGIN:STANDARD
TZOFFSETFROM:-0400
TZOFFSETTO:-0500
TZNAME:EST
DTSTART:20231105T060000
END:STANDARD
BEGIN:DAYLIGHT
TZOFFSETFROM:-0500
TZOFFSETTO:-0400
TZNAME:EDT
DTSTART:20240310T070000
END:DAYLIGHT
BEGIN:STANDARD
TZOFFSETFROM:-0400
TZOFFSETTO:-0500
TZNAME:EST
DTSTART:20241103T060000
END:STANDARD
BEGIN:DAYLIGHT
TZOFFSETFROM:-0500
TZOFFSETTO:-0400
TZNAME:EDT
DTSTART:20250309T070000
END:DAYLIGHT
BEGIN:STANDARD
TZOFFSETFROM:-0400
TZOFFSETTO:-0500
TZNAME:EST
DTSTART:20251102T060000
END:STANDARD
END:VTIMEZONE
BEGIN:VEVENT
DTSTART;TZID=America/New_York:20241006T080000
DTEND;TZID=America/New_York:20241006T140000
DTSTAMP:20260421T163641
CREATED:20240821T225439Z
LAST-MODIFIED:20241003T015916Z
UID:10008610-1728201600-1728223200@shipgarten.com
SUMMARY:Taylor Swift\, Miss Rachel\, and Spider-Man Host Kids and Family Oktoberfest
DESCRIPTION:Shipgarten\, the top Tysons Corner Restaurant for families\, is hosting an Oktoberfest Festival with Taylor Swift and Miss Rachel lookalike’s plus Spiderman for kids on Sunday\, October 6th from noon to 6 PM! Bring the whole family for an unforgettable experience meeting friendly\, furry creatures along with face painting and arts & crafts kids can enjoy. We also have live music\, moonbounces\, and a full playground so everyone can have a blast! Dogs are welcome at Shipgarten too\, whether on-leash or in our off-leash dog park! We offer lots of treats such as Pup Cups and Kongs filled with peanut butter so the whole family can enjoy a treat. \nEVENT SCHEDULE: \n12-6 PM – Free Face Painting + Arts & Crafts \n12-3 PM – Live Magical Performance by Jake the Great \n3 PM ★Taylor Swift lookalike\, Miss Rachel lookalike and Spiderman Live Performance★ \nALL DAY Family Football \n` \nShipgarten offers 2-155″ TV Walls\, 8 TVs\, 3 outdoor projectors & 3 indoor Projectors to watch ALL the football games \n***Shipgarten opens at 11 AM & the festival runs from 12 PM until 6 PM. Restaurant closes at 12 AM*** \nADDITIONALLY: \n★ 2 BRAND NEW Moon Bounces \n★ 2 Playground sets \n★ Photo Booth with Accessories \n★ Kids’ Corner with Face Painting\, Crafts\, and More \n★ Outdoor Games & Activities \n★ Giveaways\, Competitions & Prizes \n★ Dog Friendly (Check out our Dog menu\, play in the dog park\, or just bring your pup along) \n★ Bier & Samples \n★ Great food
URL:https://shipgarten.com/event/taylor-swift-miss-rachel-and-spider-man-host-kids-and-family-oktoberfest/
LOCATION:Shipgarten\, 7581 Colshire Dr\, McLean\, VA\, 22102
CATEGORIES:Kids and Family Festival,Oktoberfest Family Festivals
ATTACH;FMTTYPE=image/png:https://shipgarten.com/wp-content/uploads/2024/08/Taylor-Swift-Miss-Rachel-and-Spider-Man-Host-Kids-and-Family-Oktoberfest.png
END:VEVENT
BEGIN:VEVENT
DTSTART;TZID=America/New_York:20241013T080000
DTEND;TZID=America/New_York:20241013T140000
DTSTAMP:20260421T163641
CREATED:20240822T015625Z
LAST-MODIFIED:20240929T044322Z
UID:10008612-1728806400-1728828000@shipgarten.com
SUMMARY:Black Panther and Frozen Hosts Kids and Family Festival
DESCRIPTION:Shipgarten\, the top Tysons Corner Restaurant for families\, is hosting an Oktoberfest Festival with Black Panther and Frozen for kids on Sunday\, October 13th from noon to 6 PM! Bring the whole family for an unforgettable experience meeting friendly\, furry creatures along with face painting and arts & crafts kids can enjoy. We also have live music\, moonbounces\, and a full playground so everyone can have a blast! Dogs are welcome at Shipgarten too\, whether on-leash or in our off-leash dog park! We offer lots of treats such as Pup Cups and Kongs filled with peanut butter so the whole family can enjoy a treat. \nEVENT SCHEDULE: \n12-6 PM – Free Face Painting + Arts & Crafts \n12-3 PM – Live Magical Performance by Jake the Great \n3 PM ★Black Panther & Frozen Live Performance★ \nALL DAY Family Football \n` \nShipgarten offers 2-155″ TV Walls\, 8 TVs\, 3 outdoor projectors & 3 indoor Projectors to watch ALL the football games \n***Shipgarten opens at 11 AM & the festival runs from 12 PM until 6 PM. Restaurant closes at 12 AM*** \nADDITIONALLY: \n★ 2 Moon Bounces \n★ 2 Playground sets \n★ Photo Booth with Accessories \n★ Kids’ Corner with Face Painting\, Crafts\, and More \n★ Outdoor Games & Activities \n★ Giveaways\, Competitions & Prizes \n★ Dog Friendly (Check out our Dog menu\, play in the dog park\, or just bring your pup along) \n★ Bier & Samples \n★ Great food
URL:https://shipgarten.com/event/black-panther-and-frozen-hosts-kids-and-family-festival/
LOCATION:Shipgarten\, 7581 Colshire Dr\, McLean\, VA\, 22102
CATEGORIES:Kids and Family Festival,Oktoberfest Family Festivals
ATTACH;FMTTYPE=image/png:https://shipgarten.com/wp-content/uploads/2024/08/Black-Panther-and-Frozen-Hosts-Kids-and-Family-Festival.png
END:VEVENT
BEGIN:VEVENT
DTSTART;TZID=America/New_York:20241014T080000
DTEND;TZID=America/New_York:20241014T140000
DTSTAMP:20260421T163641
CREATED:20241009T203201Z
LAST-MODIFIED:20241009T204017Z
UID:10008820-1728892800-1728914400@shipgarten.com
SUMMARY:Toy Story Hosts Kids and Family Oktoberfest
DESCRIPTION:Shipgarten\, the top Tysons Corner Restaurant for families\, is hosting an Oktoberfest Festival with Toy Story for kids on Sunday\, October 14th from noon to 6 PM! Bring the whole family for an unforgettable experience meeting friendly\, furry creatures along with face painting and arts & crafts kids can enjoy. We also have live music\, moonbounces\, and a full playground so everyone can have a blast! Dogs are welcome at Shipgarten too\, whether on-leash or in our off-leash dog park! We offer lots of treats such as Pup Cups and Kongs filled with peanut butter so the whole family can enjoy a treat. \nEVENT SCHEDULE:\n12-6 PM – Free Face Painting + Arts & Crafts\n12-3 PM – Live Magical Performance by Jake the Great\n3 PM ★Buzz\, Woody\, and Jessie Live Performance★\n`\nShipgarten offers 2-155″ TV Walls\, 8 TVs\, 3 outdoor projectors & 3 indoor Projectors to watch ALL the football games \n***Shipgarten opens at 11 AM & the festival runs from 12 PM until 6 PM. Restaurant closes at 12 AM*** \nADDITIONALLY:\n★ 2 Moon Bounces\n★ 2 Playground sets\n★ Photo Booth with Accessories\n★ Kids’ Corner with Face Painting\, Crafts\, and More\n★ Outdoor Games & Activities\n★ Giveaways\, Competitions & Prizes\n★ Dog Friendly (Check out our Dog menu\, play in the dog park\, or just bring your pup along)\n★ Bier & Samples\n★ Great food
URL:https://shipgarten.com/event/toy-story-hosts-kids-and-family-oktoberfest/
LOCATION:Shipgarten\, 7581 Colshire Dr\, McLean\, VA\, 22102
CATEGORIES:Kids and Family Festival,Oktoberfest Family Festivals
ATTACH;FMTTYPE=image/jpeg:https://shipgarten.com/wp-content/uploads/2024/10/WhatsApp-Image-2024-09-30-at-14.30.35.jpeg
END:VEVENT
BEGIN:VEVENT
DTSTART;TZID=America/New_York:20241020T080000
DTEND;TZID=America/New_York:20241020T140000
DTSTAMP:20260421T163641
CREATED:20240822T235856Z
LAST-MODIFIED:20240929T045713Z
UID:10008620-1729411200-1729432800@shipgarten.com
SUMMARY:Petting Zoo Hosts Kids and Family Oktoberfest
DESCRIPTION:Shipgarten\, the top Tysons Corner Restaurant for families\, is hosting a Petting Zoo for kids on Sunday\, October 20th from noon to 6 PM! Bring the whole family for an unforgettable experience meeting friendly\, furry creatures along with face painting and arts & crafts kids can enjoy. We also have live music\, moonbounces\, and a full playground so everyone can have a blast! Dogs are welcome at Shipgarten too\, whether on-leash or in our off-leash dog park! We offer lots of treats such as Pup Cups and Kongs filled with peanut butter so the whole family can enjoy a treat. \n***Shipgarten opens at 11 AM & the festival runs from 12 PM until 6 PM. Restaurant closes at 12 AM*** \nEVENT SCHEDULE: \n12-6 PM – FREE Face Painting + Arts & Crafts \n12-3 PM – Live Magical Performance by Jake the Great \n★ Petting Zoo ★ starts between 3 and 3:30 for 2 hours \nALL DAY Family Football \nShipgarten offers 2-155″ TV Walls\, 8 TVs\, 3 outdoor projectors & 3 indoor Projectors to watch ALL the football games \nADDITIONALLY: \n★ 2 Moon Bounces \n★ 2 Playground sets \n★ Photo Booth with Accessories \n★ Kids’ Corner with Face Painting\, Crafts\, and More \n★ Outdoor Games & Activities \n★ Giveaways\, Competitions & Prizes \n★ Dog Friendly (Check out our Dog menu\, play in the dog park\, or just bring your pup along) \n★ Bier & Samples \n★ Great food
URL:https://shipgarten.com/event/petting-zoo-hosts-kids-and-family-oktoberfest/
LOCATION:Shipgarten\, 7581 Colshire Dr\, McLean\, VA\, 22102
CATEGORIES:Kids and Family Festival,Oktoberfest Family Festivals
ATTACH;FMTTYPE=image/png:https://shipgarten.com/wp-content/uploads/2024/08/Petting-Zoo-Hosts-Kids-and-Family-Oktoberfest.png
END:VEVENT
BEGIN:VEVENT
DTSTART;TZID=America/New_York:20241027T080000
DTEND;TZID=America/New_York:20241027T180000
DTSTAMP:20260421T163641
CREATED:20240822T211559Z
LAST-MODIFIED:20241024T002646Z
UID:10008619-1730016000-1730052000@shipgarten.com
SUMMARY:Trick or Treating Hosted by Sanderson Sisters from Hocus Pocus
DESCRIPTION:Sanderson Sisters from Hocus Pocus Host Kids and Family Festival at Shipgarten on Sunday\, October 27th from noon to 6PM! Bring the whole family for an unforgettable experience meeting friendly\, fun characters from your favorite movies with face painting and arts & crafts kids can enjoy. We also have live music\, moonbounces\, and a full playground so everyone can have a blast! Dogs are welcome at Shipgarten too\, whether on-leash or in our off-leash dog park! We offer lots of treats such as Pup Cups and Kongs filled with peanut butter so the whole family can enjoy a treat. \n***Shipgarten opens at 11 AM & the festival runs from 12 PM until 6 PM. Restaurant closes at 2 AM*** \n***THERE WILL BE 10+ stations where children can go Trick O Treating*** \nEVENT SCHEDULE: \n12-3pm: Magic Show by Jake the Great \n1:00 Costume Parade (Parade around all of Shipgarten) \n2:30 Costume Show off Fashion Show (Show off your childs costume to everyone while our professional photographer takes photos of them for free on our main stage\, no registration required – just show up and get in line) \n3:15 Sanderson Sisters from Hocus Pocus (live performance) \n12-6pm Trick-or-treating (10+ stations) \n12-6pm Face Paint\, Arts & Crafts\, Moon Bounces \nALL DAY Family Football \nShipgarten offers 2-155″ TV Walls\, 8 TVs\, 2 outdoor projectors & 3 indoor Projectors to watch ALL the football games \nADDITIONALLY: \n★ 2 Moon Bounces \n★ 2 Playground sets \n★ Photo Booth with Accessories \n★ Kids’ Corner with Face Painting\, Crafts\, and More \n★ Outdoor Games & Activities \n★ Giveaways\, Competitions & Prizes \n★ Dog Friendly (Check out our Dog menu\, play in the dog park\, or just bring your pup along) \n★ Bier & Samples \n★ Great food
URL:https://shipgarten.com/event/maleficent-evil-queen-and-ursula-hosts-trick-or-treating/
LOCATION:Shipgarten\, 7581 Colshire Dr\, McLean\, VA\, 22102
CATEGORIES:Kids and Family Festival,Oktoberfest Family Festivals
ATTACH;FMTTYPE=image/png:https://shipgarten.com/wp-content/uploads/2024/08/Oktoberfest-Kids-Banners-WEB.png
END:VEVENT
END:VCALENDAR