BEGIN:VCALENDAR
VERSION:2.0
PRODID:-//Shipgarten - ECPv6.15.20//NONSGML v1.0//EN
CALSCALE:GREGORIAN
METHOD:PUBLISH
X-ORIGINAL-URL:https://shipgarten.com
X-WR-CALDESC:Events for Shipgarten
REFRESH-INTERVAL;VALUE=DURATION:PT1H
X-Robots-Tag:noindex
X-PUBLISHED-TTL:PT1H
BEGIN:VTIMEZONE
TZID:America/New_York
BEGIN:DAYLIGHT
TZOFFSETFROM:-0500
TZOFFSETTO:-0400
TZNAME:EDT
DTSTART:20250309T070000
END:DAYLIGHT
BEGIN:STANDARD
TZOFFSETFROM:-0400
TZOFFSETTO:-0500
TZNAME:EST
DTSTART:20251102T060000
END:STANDARD
BEGIN:DAYLIGHT
TZOFFSETFROM:-0500
TZOFFSETTO:-0400
TZNAME:EDT
DTSTART:20260308T070000
END:DAYLIGHT
BEGIN:STANDARD
TZOFFSETFROM:-0400
TZOFFSETTO:-0500
TZNAME:EST
DTSTART:20261101T060000
END:STANDARD
BEGIN:DAYLIGHT
TZOFFSETFROM:-0500
TZOFFSETTO:-0400
TZNAME:EDT
DTSTART:20270314T070000
END:DAYLIGHT
BEGIN:STANDARD
TZOFFSETFROM:-0400
TZOFFSETTO:-0500
TZNAME:EST
DTSTART:20271107T060000
END:STANDARD
END:VTIMEZONE
BEGIN:VEVENT
DTSTART;TZID=America/New_York:20260516T150000
DTEND;TZID=America/New_York:20260516T200000
DTSTAMP:20260421T101922
CREATED:20251223T201302Z
LAST-MODIFIED:20260313T165204Z
UID:10013692-1778943600-1778961600@shipgarten.com
SUMMARY:Filipino Festival
DESCRIPTION:Come join us for a day full of fun\, food\, and Filipino culture at Shipgarten! Get ready to dance to some awesome music\, enjoy delicious Filipino cuisine\, and connect with fellow kababayans. Whether you’re Filipino or just love the culture\, this event is for everyone! Don’t miss out on this epic celebration of all things Pinoy!
URL:https://shipgarten.com/event/filipino-festival-2/
LOCATION:Shipgarten\, 7581 Colshire Dr\, McLean\, VA\, 22102
CATEGORIES:+21,Private Events
ATTACH;FMTTYPE=image/png:https://shipgarten.com/wp-content/uploads/2025/12/2-8.png
END:VEVENT
END:VCALENDAR