BEGIN:VCALENDAR
VERSION:2.0
PRODID:-//Shipgarten - ECPv6.15.20//NONSGML v1.0//EN
CALSCALE:GREGORIAN
METHOD:PUBLISH
X-WR-CALNAME:Shipgarten
X-ORIGINAL-URL:https://shipgarten.com
X-WR-CALDESC:Events for Shipgarten
REFRESH-INTERVAL;VALUE=DURATION:PT1H
X-Robots-Tag:noindex
X-PUBLISHED-TTL:PT1H
BEGIN:VTIMEZONE
TZID:America/New_York
BEGIN:DAYLIGHT
TZOFFSETFROM:-0500
TZOFFSETTO:-0400
TZNAME:EDT
DTSTART:20250309T070000
END:DAYLIGHT
BEGIN:STANDARD
TZOFFSETFROM:-0400
TZOFFSETTO:-0500
TZNAME:EST
DTSTART:20251102T060000
END:STANDARD
BEGIN:DAYLIGHT
TZOFFSETFROM:-0500
TZOFFSETTO:-0400
TZNAME:EDT
DTSTART:20260308T070000
END:DAYLIGHT
BEGIN:STANDARD
TZOFFSETFROM:-0400
TZOFFSETTO:-0500
TZNAME:EST
DTSTART:20261101T060000
END:STANDARD
BEGIN:DAYLIGHT
TZOFFSETFROM:-0500
TZOFFSETTO:-0400
TZNAME:EDT
DTSTART:20270314T070000
END:DAYLIGHT
BEGIN:STANDARD
TZOFFSETFROM:-0400
TZOFFSETTO:-0500
TZNAME:EST
DTSTART:20271107T060000
END:STANDARD
END:VTIMEZONE
BEGIN:VEVENT
DTSTART;TZID=America/New_York:20260308T180000
DTEND;TZID=America/New_York:20260308T233000
DTSTAMP:20260421T101757
CREATED:20260308T100018Z
LAST-MODIFIED:20260203T173647Z
UID:10013703-1772992800-1773012600@shipgarten.com
SUMMARY:SHIPGARTEN SHOWDOWN
DESCRIPTION:🤠🔥 Line Dancing Showdown at Shipgarten 🔥🤠\nGet ready for an unforgettable Line Dancing Showdown at Shipgarten!Whether you’re a seasoned dancer or just love the energy of the dance floor\, this is your chance to step in\, show out\, and be part of an electric crowd. \nExpect high-energy vibes\, nonstop line dancing\, and an atmosphere that brings everyone together for a night full of movement\, music\, and fun. Grab your boots\, bring your friends\, and get ready to dance the night away. \n🎟️ Tickets: $10🎶 Big energy. Big moves. Big showdown. \n👉 Secure your spot and don’t miss this line-dancing experience at Shipgarten! \n 
URL:https://shipgarten.com/event/ship-garten-showdown/
LOCATION:VA
CATEGORIES:Private Events
ATTACH;FMTTYPE=image/png:https://shipgarten.com/wp-content/uploads/2026/02/Adult-Banners-Website-and-Facebook-4.png
END:VEVENT
BEGIN:VEVENT
DTSTART;TZID=America/New_York:20260322T170000
DTEND;TZID=America/New_York:20260322T230000
DTSTAMP:20260421T101757
CREATED:20260310T152919Z
LAST-MODIFIED:20260313T175228Z
UID:10013848-1774198800-1774220400@shipgarten.com
SUMMARY:Showdown @ Shipgarten - Nolan Lunsford Band
DESCRIPTION:Join us at Showdown @ Shipgarten for a Two Step Lesson from 5-6pm followed by dancing until 10pm with Live music by The Nolan Lunsford Band. \n\n\n\n\nDon’t Miss Showdown @ Shipgarten!\nGrab your outlaws and run to Showdon at Shipgarten! Whether you have never danced before or know your way around the hardwood\, join us for dancing at The Showdown! Come for the lesson–no experience or partner necessary and stay for social dancing–swing\, two step\, waltz\, line dance\, plus your requests! See you there! \nBeginner country Two Step lesson From 5-6pm then social dancing With Live music from The Nolan Lunsford Band until 10pm. Free parking at 1700 Old Meadow Rd.
URL:https://shipgarten.com/event/showdown-shipgarten-nolan-lunsford-band/
LOCATION:Shipgarten\, 7581 Colshire Dr\, McLean\, VA\, 22102
CATEGORIES:Private Events
ATTACH;FMTTYPE=image/png:https://shipgarten.com/wp-content/uploads/2026/03/rsz_showdown_3-26_v61.png
END:VEVENT
BEGIN:VEVENT
DTSTART;TZID=America/New_York:20260328T170000
DTEND;TZID=America/New_York:20260328T233000
DTSTAMP:20260421T101757
CREATED:20260219T161613Z
LAST-MODIFIED:20260219T161613Z
UID:10013784-1774717200-1774740600@shipgarten.com
SUMMARY:Brazilian Festival at Shipgarten
DESCRIPTION:🇧🇷🔥 Brazilian Festival at Shipgarten 💃🎶\nFeel the rhythm. Taste the flavor. Live the energy. \nJoin us at Shipgarten for a high-energy Brazilian Festival celebrating the vibrant culture\, music\, food\, and spirit of Brazil. From samba beats to tropical cocktails\, we’re bringing the heat and color of Brazil straight to the beer garden. \nWe’re turning up the energy with DJ Babilous bringing the best Brazilian\, Latin\, and international vibes all day long. Get ready to dance\, sip\, and celebrate in true Brazilian style. \n🎉 What to Expect:\n🎧 Live music by DJ Babilous💃 Brazilian-inspired dance vibes🌴 Festive décor & photo-worthy moments🅿️ Free parking available🚌 Shuttle service provided for easy access \nWhether you’re here to dance\, indulge in amazing food\, or just soak in the vibrant atmosphere\, this festival is all about celebrating life the Brazilian way — loud\, joyful\, and unforgettable. \nWear your brightest colors\, bring your crew\, and let’s turn Shipgarten into Rio for the day. \n📍 Shipgarten7581 Colshire DriveMcLean\, VA 22102 \nVamos celebrar! 🇧🇷🔥
URL:https://shipgarten.com/event/brazilian-festival-at-shipgarten/
LOCATION:Shipgarten\, 7581 Colshire Dr\, McLean\, VA\, 22102
CATEGORIES:Private Events
ATTACH;FMTTYPE=image/jpeg:https://shipgarten.com/wp-content/uploads/2026/02/IMG_8859.jpg
END:VEVENT
END:VCALENDAR