BEGIN:VCALENDAR
VERSION:2.0
PRODID:-//Shipgarten - ECPv6.15.20//NONSGML v1.0//EN
CALSCALE:GREGORIAN
METHOD:PUBLISH
X-ORIGINAL-URL:https://shipgarten.com
X-WR-CALDESC:Events for Shipgarten
REFRESH-INTERVAL;VALUE=DURATION:PT1H
X-Robots-Tag:noindex
X-PUBLISHED-TTL:PT1H
BEGIN:VTIMEZONE
TZID:America/New_York
BEGIN:DAYLIGHT
TZOFFSETFROM:-0500
TZOFFSETTO:-0400
TZNAME:EDT
DTSTART:20240310T070000
END:DAYLIGHT
BEGIN:STANDARD
TZOFFSETFROM:-0400
TZOFFSETTO:-0500
TZNAME:EST
DTSTART:20241103T060000
END:STANDARD
BEGIN:DAYLIGHT
TZOFFSETFROM:-0500
TZOFFSETTO:-0400
TZNAME:EDT
DTSTART:20250309T070000
END:DAYLIGHT
BEGIN:STANDARD
TZOFFSETFROM:-0400
TZOFFSETTO:-0500
TZNAME:EST
DTSTART:20251102T060000
END:STANDARD
BEGIN:DAYLIGHT
TZOFFSETFROM:-0500
TZOFFSETTO:-0400
TZNAME:EDT
DTSTART:20260308T070000
END:DAYLIGHT
BEGIN:STANDARD
TZOFFSETFROM:-0400
TZOFFSETTO:-0500
TZNAME:EST
DTSTART:20261101T060000
END:STANDARD
END:VTIMEZONE
BEGIN:VEVENT
DTSTART;TZID=America/New_York:20251108T160000
DTEND;TZID=America/New_York:20251108T200000
DTSTAMP:20260422T035955
CREATED:20251010T210613Z
LAST-MODIFIED:20251106T164126Z
UID:10013580-1762617600-1762632000@shipgarten.com
SUMMARY:DMV Filipino Day Party
DESCRIPTION:Come join us for a day full of fun\, food\, and Filipino culture at Shipgarten! Get ready to dance to some awesome music\, enjoy delicious Filipino cuisine\, and connect with fellow kababayans. Whether you’re Filipino or just love the culture\, this event is for everyone! Don’t miss out on this epic celebration of all things Pinoy! This is a ticketed event. You can either by tickets at the door or at https://www.eventbrite.com/e/dmv-filipino-day-party-tickets-1810961176629?aff=oddtdtcreator \nAll Ages. 12 and under is free. Federal workers are also free! \n         
URL:https://shipgarten.com/event/filipino-heritage-month-celebration/
LOCATION:Shipgarten\, 7581 Colshire Dr\, McLean\, VA\, 22102
CATEGORIES:Adults Festival,Private Events
ATTACH;FMTTYPE=image/png:https://shipgarten.com/wp-content/uploads/2025/10/Adult-Banners-Website-and-Facebook-47.png
END:VEVENT
END:VCALENDAR