BEGIN:VCALENDAR
VERSION:2.0
PRODID:-//Shipgarten - ECPv6.15.20//NONSGML v1.0//EN
CALSCALE:GREGORIAN
METHOD:PUBLISH
X-ORIGINAL-URL:https://shipgarten.com
X-WR-CALDESC:Events for Shipgarten
REFRESH-INTERVAL;VALUE=DURATION:PT1H
X-Robots-Tag:noindex
X-PUBLISHED-TTL:PT1H
BEGIN:VTIMEZONE
TZID:America/New_York
BEGIN:DAYLIGHT
TZOFFSETFROM:-0500
TZOFFSETTO:-0400
TZNAME:EDT
DTSTART:20250309T070000
END:DAYLIGHT
BEGIN:STANDARD
TZOFFSETFROM:-0400
TZOFFSETTO:-0500
TZNAME:EST
DTSTART:20251102T060000
END:STANDARD
BEGIN:DAYLIGHT
TZOFFSETFROM:-0500
TZOFFSETTO:-0400
TZNAME:EDT
DTSTART:20260308T070000
END:DAYLIGHT
BEGIN:STANDARD
TZOFFSETFROM:-0400
TZOFFSETTO:-0500
TZNAME:EST
DTSTART:20261101T060000
END:STANDARD
BEGIN:DAYLIGHT
TZOFFSETFROM:-0500
TZOFFSETTO:-0400
TZNAME:EDT
DTSTART:20270314T070000
END:DAYLIGHT
BEGIN:STANDARD
TZOFFSETFROM:-0400
TZOFFSETTO:-0500
TZNAME:EST
DTSTART:20271107T060000
END:STANDARD
END:VTIMEZONE
BEGIN:VEVENT
DTSTART;TZID=America/New_York:20260424T210000
DTEND;TZID=America/New_York:20260424T233000
DTSTAMP:20260421T145704
CREATED:20260219T173717Z
LAST-MODIFIED:20260312T212257Z
UID:10013792-1777064400-1777073400@shipgarten.com
SUMMARY:Shipgarten After Dark with Regina
DESCRIPTION:Shipgarten After Dark – 21+ Night Featuring a Special Guest DJ \nWhen the sun goes down\, Shipgarten turns up. 🌙🔥 \nJoin us for After Dark at Shipgarten\, an exclusive 21+ late-night experience featuring a special guest DJ spinning high-energy tracks all night long. Expect great music\, vibrant vibes\, and the ultimate weekend atmosphere. \nWhether you’re hitting the dance floor\, celebrating with friends\, or just looking for the perfect adults-only night out\, this is where you want to be. \nEvent Details:• 21+ only (Valid ID required)• Special Guest DJ• Late-night party atmosphere• Full bar & drink specials available• FREE parking + complimentary shuttle service \nNo parking stress — we’ve got you covered with free parking and a convenient shuttle to get you to and from the party smoothly. \nGrab your tickets\, invite your crew\, and experience Shipgarten like never before — After Dark.
URL:https://shipgarten.com/event/dj-regina-for-shipgarten-after-dark/
LOCATION:Shipgarten\, 7581 Colshire Dr\, McLean\, VA\, 22102
CATEGORIES:+21,Adults Festival,After Dark
ATTACH;FMTTYPE=image/png:https://shipgarten.com/wp-content/uploads/2026/02/DJ-REGINA.png
END:VEVENT
BEGIN:VEVENT
DTSTART;TZID=America/New_York:20260425T130000
DTEND;TZID=America/New_York:20260425T180000
DTSTAMP:20260421T145704
CREATED:20260211T160640Z
LAST-MODIFIED:20260313T153402Z
UID:10013709-1777122000-1777140000@shipgarten.com
SUMMARY:Spring Fest
DESCRIPTION:Celebrate Spring Fest at Shipgarten \n\n\n\n\n🌸 SPRING FEST AT SHIPGARTEN 🌸 \nSpring has officially sprung\, and we’re celebrating the season in full bloom at ShipGarten 🌞🍻 Join us for Spring Fest\, a vibrant outdoor celebration filled with fresh air\, festive vibes\, and nonstop fun in our bier garden. \nGather your friends and family and soak up the sunshine as we welcome warmer days with music\, seasonal drinks\, and spring-inspired activities. Whether you’re here to sip\, dance\, play\, or just relax under the open sky\, Spring Fest is your perfect excuse to get outside and celebrate. \nEVENT SCHEDULE: \n3:00 Water Balloon Toss (Winning Team $25 Gift Card!) \n4:00 Blow Your Shot (Winner $25 Gift Card) \n5:00 Marshmallow into Stein Toss (Winner $25 Gift Card!) \n🌷 What to expect:\n• Live music & DJ sets\n• Seasonal drink specials & spring cocktails\n• Outdoor games & activities\n• Festive décor & photo-worthy moments\n• Delicious food & bier garden favorites \nThrow on your favorite spring fit\, bring your crew\, and get ready for a day full of color\, community\, and good vibes. 🌼✨ \nLet’s raise a glass to sunshine\, fresh starts\, and a season worth celebrating — only at ShipGarten 🍻🌸
URL:https://shipgarten.com/event/spring-fest/
LOCATION:Shipgarten\, 7581 Colshire Dr\, McLean\, VA\, 22102
CATEGORIES:Adults Festival
ATTACH;FMTTYPE=image/png:https://shipgarten.com/wp-content/uploads/2026/02/Adult-Banners-Eventbrite-14.png
END:VEVENT
BEGIN:VEVENT
DTSTART;TZID=America/New_York:20260425T200000
DTEND;TZID=America/New_York:20260426T020000
DTSTAMP:20260421T145704
CREATED:20240127T024946Z
LAST-MODIFIED:20260224T202608Z
UID:10012593-1777147200-1777168800@shipgarten.com
SUMMARY:Shipgarten After Dark ft. Bianca Diamond
DESCRIPTION:🎉 Shipgarten After Dark with Bianca Diamond – The Queen of the Night in McLean! 🎉\nJoin us every Saturday at Shipgarten After Dark for an unforgettable night with Bianca Diamond\, one of D.C.’s most celebrated DJs. Feel the energy and dance the night away to the hottest dance\, top 40s\, and hip hop beats until 2 AM. \nFREE ADMISSION! Come for cocktails\, beer\, great vibes\, and one of Tysons/McLean’s best outdoor spaces. Check the dates below to catch Bianca Diamond live on the decks and don’t miss the party. \n\n 
URL:https://shipgarten.com/event/shipgarten-after-dark-ft-biancadiamond-2/2026-04-25/
LOCATION:Shipgarten\, 7581 Colshire Dr\, McLean\, VA\, 22102
CATEGORIES:+21,Adults Festival,After Dark
ATTACH;FMTTYPE=image/png:https://shipgarten.com/wp-content/uploads/2024/01/Shigparten-After-Dark-_-Bianca-Diamons.png
END:VEVENT
BEGIN:VEVENT
DTSTART;TZID=America/New_York:20260426T180000
DTEND;TZID=America/New_York:20260426T230000
DTSTAMP:20260421T145704
CREATED:20260203T172231Z
LAST-MODIFIED:20260313T154940Z
UID:10013706-1777226400-1777244400@shipgarten.com
SUMMARY:SHIPGARTEN SHOWDOWN
DESCRIPTION:🤠🔥 Line Dancing Showdown at Shipgarten 🔥🤠\nGet ready for an unforgettable Line Dancing Showdown at Shipgarten!Whether you’re a seasoned dancer or just love the energy of the dance floor\, this is your chance to step in\, show out\, and be part of an electric crowd. \nExpect high-energy vibes\, nonstop line dancing\, and an atmosphere that brings everyone together for a night full of movement\, music\, and fun. Grab your boots\, bring your friends\, and get ready to dance the night away. \n🎟️ Tickets: $10🎶 Big energy. Big moves. Big showdown. \n👉 Secure your spot and don’t miss this line-dancing experience at Shipgarten!
URL:https://shipgarten.com/event/shipgarten-showdown-7/
LOCATION:Shipgarten\, 7581 Colshire Dr\, McLean\, VA\, 22102
CATEGORIES:Private Events
ATTACH;FMTTYPE=image/png:https://shipgarten.com/wp-content/uploads/2026/02/Adult-Banners-Website-and-Facebook-7.png
END:VEVENT
END:VCALENDAR