BEGIN:VCALENDAR
VERSION:2.0
PRODID:-//Shipgarten - ECPv6.15.20//NONSGML v1.0//EN
CALSCALE:GREGORIAN
METHOD:PUBLISH
X-ORIGINAL-URL:https://shipgarten.com
X-WR-CALDESC:Events for Shipgarten
REFRESH-INTERVAL;VALUE=DURATION:PT1H
X-Robots-Tag:noindex
X-PUBLISHED-TTL:PT1H
BEGIN:VTIMEZONE
TZID:America/New_York
BEGIN:DAYLIGHT
TZOFFSETFROM:-0500
TZOFFSETTO:-0400
TZNAME:EDT
DTSTART:20250309T070000
END:DAYLIGHT
BEGIN:STANDARD
TZOFFSETFROM:-0400
TZOFFSETTO:-0500
TZNAME:EST
DTSTART:20251102T060000
END:STANDARD
BEGIN:DAYLIGHT
TZOFFSETFROM:-0500
TZOFFSETTO:-0400
TZNAME:EDT
DTSTART:20260308T070000
END:DAYLIGHT
BEGIN:STANDARD
TZOFFSETFROM:-0400
TZOFFSETTO:-0500
TZNAME:EST
DTSTART:20261101T060000
END:STANDARD
BEGIN:DAYLIGHT
TZOFFSETFROM:-0500
TZOFFSETTO:-0400
TZNAME:EDT
DTSTART:20270314T070000
END:DAYLIGHT
BEGIN:STANDARD
TZOFFSETFROM:-0400
TZOFFSETTO:-0500
TZNAME:EST
DTSTART:20271107T060000
END:STANDARD
END:VTIMEZONE
BEGIN:VEVENT
DTSTART;TZID=America/New_York:20260719T120000
DTEND;TZID=America/New_York:20260719T180000
DTSTAMP:20260420T063649
CREATED:20260218T165633Z
LAST-MODIFIED:20260313T193757Z
UID:10013766-1784462400-1784484000@shipgarten.com
SUMMARY:Soccer World Cup Final at Shipgarten
DESCRIPTION:⚽🌎 World Cup Watch Party at Shipgarten 🍻\nThe world’s biggest stage. The ultimate watch party. \nJoin us at Shipgarten as we stream the Soccer World Cup matches on our big screens with full sound\, unbeatable energy\, and a crowd that brings the stadium vibes right here. \nWhether you’re repping your home country or just here for the love of the game\, this is where fans come together to cheer\, chant\, and celebrate every goal. \n🎉 What to Expect:\n📺 Matches on multiple large screens🔊 Game sound ON for full stadium energy🍺 Beer specials & game-day drink features🌭 Delicious food & shareable bites🌍 Fans from all over — jerseys encouraged! \nBring your crew\, wear your colors\, and get ready for every save\, every goal\, and every unforgettable moment. \nArrive early for the best seats — it’s going to be packed. \nLet’s make Shipgarten the home of the World Cup this season ⚽🔥
URL:https://shipgarten.com/event/soccer-world-cup-final-at-shipgarten/
LOCATION:Shipgarten\, 7581 Colshire Dr\, McLean\, VA\, 22102
CATEGORIES:Adults Festival,FIFA,Sport Events
ATTACH;FMTTYPE=image/png:https://shipgarten.com/wp-content/uploads/2026/02/Soccer-World-Cup-2026.png
END:VEVENT
END:VCALENDAR