BEGIN:VCALENDAR
VERSION:2.0
PRODID:-//Shipgarten - ECPv6.15.20//NONSGML v1.0//EN
CALSCALE:GREGORIAN
METHOD:PUBLISH
X-ORIGINAL-URL:https://shipgarten.com
X-WR-CALDESC:Events for Shipgarten
REFRESH-INTERVAL;VALUE=DURATION:PT1H
X-Robots-Tag:noindex
X-PUBLISHED-TTL:PT1H
BEGIN:VTIMEZONE
TZID:America/New_York
BEGIN:DAYLIGHT
TZOFFSETFROM:-0500
TZOFFSETTO:-0400
TZNAME:EDT
DTSTART:20260308T070000
END:DAYLIGHT
BEGIN:STANDARD
TZOFFSETFROM:-0400
TZOFFSETTO:-0500
TZNAME:EST
DTSTART:20261101T060000
END:STANDARD
BEGIN:DAYLIGHT
TZOFFSETFROM:-0500
TZOFFSETTO:-0400
TZNAME:EDT
DTSTART:20270314T070000
END:DAYLIGHT
BEGIN:STANDARD
TZOFFSETFROM:-0400
TZOFFSETTO:-0500
TZNAME:EST
DTSTART:20271107T060000
END:STANDARD
BEGIN:DAYLIGHT
TZOFFSETFROM:-0500
TZOFFSETTO:-0400
TZNAME:EDT
DTSTART:20280312T070000
END:DAYLIGHT
BEGIN:STANDARD
TZOFFSETFROM:-0400
TZOFFSETTO:-0500
TZNAME:EST
DTSTART:20281105T060000
END:STANDARD
END:VTIMEZONE
BEGIN:VEVENT
DTSTART;TZID=America/New_York:20270306T200000
DTEND;TZID=America/New_York:20270307T020000
DTSTAMP:20260422T065719
CREATED:20240127T024946Z
LAST-MODIFIED:20260224T202608Z
UID:10012638-1804363200-1804384800@shipgarten.com
SUMMARY:Shipgarten After Dark ft. Bianca Diamond
DESCRIPTION:🎉 Shipgarten After Dark with Bianca Diamond – The Queen of the Night in McLean! 🎉\nJoin us every Saturday at Shipgarten After Dark for an unforgettable night with Bianca Diamond\, one of D.C.’s most celebrated DJs. Feel the energy and dance the night away to the hottest dance\, top 40s\, and hip hop beats until 2 AM. \nFREE ADMISSION! Come for cocktails\, beer\, great vibes\, and one of Tysons/McLean’s best outdoor spaces. Check the dates below to catch Bianca Diamond live on the decks and don’t miss the party. \n\n 
URL:https://shipgarten.com/event/shipgarten-after-dark-ft-biancadiamond-2/2027-03-06/
LOCATION:Shipgarten\, 7581 Colshire Dr\, McLean\, VA\, 22102
CATEGORIES:+21,Adults Festival,After Dark
ATTACH;FMTTYPE=image/png:https://shipgarten.com/wp-content/uploads/2024/01/Shigparten-After-Dark-_-Bianca-Diamons.png
END:VEVENT
BEGIN:VEVENT
DTSTART;TZID=America/New_York:20270313T200000
DTEND;TZID=America/New_York:20270314T030000
DTSTAMP:20260422T065719
CREATED:20240127T024946Z
LAST-MODIFIED:20260224T202608Z
UID:10012639-1804968000-1804993200@shipgarten.com
SUMMARY:Shipgarten After Dark ft. Bianca Diamond
DESCRIPTION:🎉 Shipgarten After Dark with Bianca Diamond – The Queen of the Night in McLean! 🎉\nJoin us every Saturday at Shipgarten After Dark for an unforgettable night with Bianca Diamond\, one of D.C.’s most celebrated DJs. Feel the energy and dance the night away to the hottest dance\, top 40s\, and hip hop beats until 2 AM. \nFREE ADMISSION! Come for cocktails\, beer\, great vibes\, and one of Tysons/McLean’s best outdoor spaces. Check the dates below to catch Bianca Diamond live on the decks and don’t miss the party. \n\n 
URL:https://shipgarten.com/event/shipgarten-after-dark-ft-biancadiamond-2/2027-03-13/
LOCATION:Shipgarten\, 7581 Colshire Dr\, McLean\, VA\, 22102
CATEGORIES:+21,Adults Festival,After Dark
ATTACH;FMTTYPE=image/png:https://shipgarten.com/wp-content/uploads/2024/01/Shigparten-After-Dark-_-Bianca-Diamons.png
END:VEVENT
BEGIN:VEVENT
DTSTART;TZID=America/New_York:20270320T200000
DTEND;TZID=America/New_York:20270321T020000
DTSTAMP:20260422T065719
CREATED:20240127T024946Z
LAST-MODIFIED:20260224T202608Z
UID:10012640-1805572800-1805594400@shipgarten.com
SUMMARY:Shipgarten After Dark ft. Bianca Diamond
DESCRIPTION:🎉 Shipgarten After Dark with Bianca Diamond – The Queen of the Night in McLean! 🎉\nJoin us every Saturday at Shipgarten After Dark for an unforgettable night with Bianca Diamond\, one of D.C.’s most celebrated DJs. Feel the energy and dance the night away to the hottest dance\, top 40s\, and hip hop beats until 2 AM. \nFREE ADMISSION! Come for cocktails\, beer\, great vibes\, and one of Tysons/McLean’s best outdoor spaces. Check the dates below to catch Bianca Diamond live on the decks and don’t miss the party. \n\n 
URL:https://shipgarten.com/event/shipgarten-after-dark-ft-biancadiamond-2/2027-03-20/
LOCATION:Shipgarten\, 7581 Colshire Dr\, McLean\, VA\, 22102
CATEGORIES:+21,Adults Festival,After Dark
ATTACH;FMTTYPE=image/png:https://shipgarten.com/wp-content/uploads/2024/01/Shigparten-After-Dark-_-Bianca-Diamons.png
END:VEVENT
BEGIN:VEVENT
DTSTART;TZID=America/New_York:20270327T200000
DTEND;TZID=America/New_York:20270328T020000
DTSTAMP:20260422T065719
CREATED:20240127T024946Z
LAST-MODIFIED:20260224T202608Z
UID:10012641-1806177600-1806199200@shipgarten.com
SUMMARY:Shipgarten After Dark ft. Bianca Diamond
DESCRIPTION:🎉 Shipgarten After Dark with Bianca Diamond – The Queen of the Night in McLean! 🎉\nJoin us every Saturday at Shipgarten After Dark for an unforgettable night with Bianca Diamond\, one of D.C.’s most celebrated DJs. Feel the energy and dance the night away to the hottest dance\, top 40s\, and hip hop beats until 2 AM. \nFREE ADMISSION! Come for cocktails\, beer\, great vibes\, and one of Tysons/McLean’s best outdoor spaces. Check the dates below to catch Bianca Diamond live on the decks and don’t miss the party. \n\n 
URL:https://shipgarten.com/event/shipgarten-after-dark-ft-biancadiamond-2/2027-03-27/
LOCATION:Shipgarten\, 7581 Colshire Dr\, McLean\, VA\, 22102
CATEGORIES:+21,Adults Festival,After Dark
ATTACH;FMTTYPE=image/png:https://shipgarten.com/wp-content/uploads/2024/01/Shigparten-After-Dark-_-Bianca-Diamons.png
END:VEVENT
END:VCALENDAR