BEGIN:VCALENDAR
VERSION:2.0
PRODID:-//Shipgarten - ECPv6.15.20//NONSGML v1.0//EN
CALSCALE:GREGORIAN
METHOD:PUBLISH
X-WR-CALNAME:Shipgarten
X-ORIGINAL-URL:https://shipgarten.com
X-WR-CALDESC:Events for Shipgarten
REFRESH-INTERVAL;VALUE=DURATION:PT1H
X-Robots-Tag:noindex
X-PUBLISHED-TTL:PT1H
BEGIN:VTIMEZONE
TZID:America/New_York
BEGIN:DAYLIGHT
TZOFFSETFROM:-0500
TZOFFSETTO:-0400
TZNAME:EDT
DTSTART:20260308T070000
END:DAYLIGHT
BEGIN:STANDARD
TZOFFSETFROM:-0400
TZOFFSETTO:-0500
TZNAME:EST
DTSTART:20261101T060000
END:STANDARD
BEGIN:DAYLIGHT
TZOFFSETFROM:-0500
TZOFFSETTO:-0400
TZNAME:EDT
DTSTART:20270314T070000
END:DAYLIGHT
BEGIN:STANDARD
TZOFFSETFROM:-0400
TZOFFSETTO:-0500
TZNAME:EST
DTSTART:20271107T060000
END:STANDARD
BEGIN:DAYLIGHT
TZOFFSETFROM:-0500
TZOFFSETTO:-0400
TZNAME:EDT
DTSTART:20280312T070000
END:DAYLIGHT
BEGIN:STANDARD
TZOFFSETFROM:-0400
TZOFFSETTO:-0500
TZNAME:EST
DTSTART:20281105T060000
END:STANDARD
END:VTIMEZONE
BEGIN:VEVENT
DTSTART;TZID=America/New_York:20270102T200000
DTEND;TZID=America/New_York:20270103T020000
DTSTAMP:20260422T041038
CREATED:20240127T024946Z
LAST-MODIFIED:20260224T202608Z
UID:10012629-1798920000-1798941600@shipgarten.com
SUMMARY:Shipgarten After Dark ft. Bianca Diamond
DESCRIPTION:🎉 Shipgarten After Dark with Bianca Diamond – The Queen of the Night in McLean! 🎉\nJoin us every Saturday at Shipgarten After Dark for an unforgettable night with Bianca Diamond\, one of D.C.’s most celebrated DJs. Feel the energy and dance the night away to the hottest dance\, top 40s\, and hip hop beats until 2 AM. \nFREE ADMISSION! Come for cocktails\, beer\, great vibes\, and one of Tysons/McLean’s best outdoor spaces. Check the dates below to catch Bianca Diamond live on the decks and don’t miss the party. \n\n 
URL:https://shipgarten.com/event/shipgarten-after-dark-ft-biancadiamond-2/2027-01-02/
LOCATION:Shipgarten\, 7581 Colshire Dr\, McLean\, VA\, 22102
CATEGORIES:+21,Adults Festival,After Dark
ATTACH;FMTTYPE=image/png:https://shipgarten.com/wp-content/uploads/2024/01/Shigparten-After-Dark-_-Bianca-Diamons.png
END:VEVENT
BEGIN:VEVENT
DTSTART;TZID=America/New_York:20270109T200000
DTEND;TZID=America/New_York:20270110T020000
DTSTAMP:20260422T041038
CREATED:20240127T024946Z
LAST-MODIFIED:20260224T202608Z
UID:10012630-1799524800-1799546400@shipgarten.com
SUMMARY:Shipgarten After Dark ft. Bianca Diamond
DESCRIPTION:🎉 Shipgarten After Dark with Bianca Diamond – The Queen of the Night in McLean! 🎉\nJoin us every Saturday at Shipgarten After Dark for an unforgettable night with Bianca Diamond\, one of D.C.’s most celebrated DJs. Feel the energy and dance the night away to the hottest dance\, top 40s\, and hip hop beats until 2 AM. \nFREE ADMISSION! Come for cocktails\, beer\, great vibes\, and one of Tysons/McLean’s best outdoor spaces. Check the dates below to catch Bianca Diamond live on the decks and don’t miss the party. \n\n 
URL:https://shipgarten.com/event/shipgarten-after-dark-ft-biancadiamond-2/2027-01-09/
LOCATION:Shipgarten\, 7581 Colshire Dr\, McLean\, VA\, 22102
CATEGORIES:+21,Adults Festival,After Dark
ATTACH;FMTTYPE=image/png:https://shipgarten.com/wp-content/uploads/2024/01/Shigparten-After-Dark-_-Bianca-Diamons.png
END:VEVENT
BEGIN:VEVENT
DTSTART;TZID=America/New_York:20270116T200000
DTEND;TZID=America/New_York:20270117T020000
DTSTAMP:20260422T041038
CREATED:20240127T024946Z
LAST-MODIFIED:20260224T202608Z
UID:10012631-1800129600-1800151200@shipgarten.com
SUMMARY:Shipgarten After Dark ft. Bianca Diamond
DESCRIPTION:🎉 Shipgarten After Dark with Bianca Diamond – The Queen of the Night in McLean! 🎉\nJoin us every Saturday at Shipgarten After Dark for an unforgettable night with Bianca Diamond\, one of D.C.’s most celebrated DJs. Feel the energy and dance the night away to the hottest dance\, top 40s\, and hip hop beats until 2 AM. \nFREE ADMISSION! Come for cocktails\, beer\, great vibes\, and one of Tysons/McLean’s best outdoor spaces. Check the dates below to catch Bianca Diamond live on the decks and don’t miss the party. \n\n 
URL:https://shipgarten.com/event/shipgarten-after-dark-ft-biancadiamond-2/2027-01-16/
LOCATION:Shipgarten\, 7581 Colshire Dr\, McLean\, VA\, 22102
CATEGORIES:+21,Adults Festival,After Dark
ATTACH;FMTTYPE=image/png:https://shipgarten.com/wp-content/uploads/2024/01/Shigparten-After-Dark-_-Bianca-Diamons.png
END:VEVENT
BEGIN:VEVENT
DTSTART;TZID=America/New_York:20270123T200000
DTEND;TZID=America/New_York:20270124T020000
DTSTAMP:20260422T041038
CREATED:20240127T024946Z
LAST-MODIFIED:20260224T202608Z
UID:10012632-1800734400-1800756000@shipgarten.com
SUMMARY:Shipgarten After Dark ft. Bianca Diamond
DESCRIPTION:🎉 Shipgarten After Dark with Bianca Diamond – The Queen of the Night in McLean! 🎉\nJoin us every Saturday at Shipgarten After Dark for an unforgettable night with Bianca Diamond\, one of D.C.’s most celebrated DJs. Feel the energy and dance the night away to the hottest dance\, top 40s\, and hip hop beats until 2 AM. \nFREE ADMISSION! Come for cocktails\, beer\, great vibes\, and one of Tysons/McLean’s best outdoor spaces. Check the dates below to catch Bianca Diamond live on the decks and don’t miss the party. \n\n 
URL:https://shipgarten.com/event/shipgarten-after-dark-ft-biancadiamond-2/2027-01-23/
LOCATION:Shipgarten\, 7581 Colshire Dr\, McLean\, VA\, 22102
CATEGORIES:+21,Adults Festival,After Dark
ATTACH;FMTTYPE=image/png:https://shipgarten.com/wp-content/uploads/2024/01/Shigparten-After-Dark-_-Bianca-Diamons.png
END:VEVENT
BEGIN:VEVENT
DTSTART;TZID=America/New_York:20270130T200000
DTEND;TZID=America/New_York:20270131T020000
DTSTAMP:20260422T041038
CREATED:20240127T024946Z
LAST-MODIFIED:20260224T202608Z
UID:10012633-1801339200-1801360800@shipgarten.com
SUMMARY:Shipgarten After Dark ft. Bianca Diamond
DESCRIPTION:🎉 Shipgarten After Dark with Bianca Diamond – The Queen of the Night in McLean! 🎉\nJoin us every Saturday at Shipgarten After Dark for an unforgettable night with Bianca Diamond\, one of D.C.’s most celebrated DJs. Feel the energy and dance the night away to the hottest dance\, top 40s\, and hip hop beats until 2 AM. \nFREE ADMISSION! Come for cocktails\, beer\, great vibes\, and one of Tysons/McLean’s best outdoor spaces. Check the dates below to catch Bianca Diamond live on the decks and don’t miss the party. \n\n 
URL:https://shipgarten.com/event/shipgarten-after-dark-ft-biancadiamond-2/2027-01-30/
LOCATION:Shipgarten\, 7581 Colshire Dr\, McLean\, VA\, 22102
CATEGORIES:+21,Adults Festival,After Dark
ATTACH;FMTTYPE=image/png:https://shipgarten.com/wp-content/uploads/2024/01/Shigparten-After-Dark-_-Bianca-Diamons.png
END:VEVENT
END:VCALENDAR