BEGIN:VCALENDAR
VERSION:2.0
PRODID:-//Shipgarten - ECPv6.15.20//NONSGML v1.0//EN
CALSCALE:GREGORIAN
METHOD:PUBLISH
X-WR-CALNAME:Shipgarten
X-ORIGINAL-URL:https://shipgarten.com
X-WR-CALDESC:Events for Shipgarten
REFRESH-INTERVAL;VALUE=DURATION:PT1H
X-Robots-Tag:noindex
X-PUBLISHED-TTL:PT1H
BEGIN:VTIMEZONE
TZID:America/New_York
BEGIN:DAYLIGHT
TZOFFSETFROM:-0500
TZOFFSETTO:-0400
TZNAME:EDT
DTSTART:20250309T070000
END:DAYLIGHT
BEGIN:STANDARD
TZOFFSETFROM:-0400
TZOFFSETTO:-0500
TZNAME:EST
DTSTART:20251102T060000
END:STANDARD
BEGIN:DAYLIGHT
TZOFFSETFROM:-0500
TZOFFSETTO:-0400
TZNAME:EDT
DTSTART:20260308T070000
END:DAYLIGHT
BEGIN:STANDARD
TZOFFSETFROM:-0400
TZOFFSETTO:-0500
TZNAME:EST
DTSTART:20261101T060000
END:STANDARD
BEGIN:DAYLIGHT
TZOFFSETFROM:-0500
TZOFFSETTO:-0400
TZNAME:EDT
DTSTART:20270314T070000
END:DAYLIGHT
BEGIN:STANDARD
TZOFFSETFROM:-0400
TZOFFSETTO:-0500
TZNAME:EST
DTSTART:20271107T060000
END:STANDARD
END:VTIMEZONE
BEGIN:VEVENT
DTSTART;TZID=America/New_York:20260905T130000
DTEND;TZID=America/New_York:20260905T180000
DTSTAMP:20260421T221440
CREATED:20260218T164304Z
LAST-MODIFIED:20260218T164304Z
UID:10013764-1788613200-1788631200@shipgarten.com
SUMMARY:Labor Day at Shipgarten
DESCRIPTION:🇺🇸 Labor Day Grill Out Party at Shipgarten 🔥\nClose out summer the right way at Shipgarten’s Labor Day Grill Out Party — a full day of great food\, cold drinks\, and unbeatable vibes. \nWe’re firing up the grill and serving all your cookout favorites\, ice-cold beers\, craft cocktails\, and festive Labor Day specials all day long. Bring your friends\, your family\, and your appetite — this is how you send summer off in style. \nWhat to Expect:\n🔥 Fresh-off-the-grill classics🍺 Beer specials & seasonal cocktails🎶 Live music / DJ entertainment🌭 Outdoor games & backyard party vibes🌞 The perfect end-of-summer atmosphere \nWhether you’re here for the food\, the drinks\, or just a laid-back holiday celebration\, Shipgarten is the place to be this Labor Day. \nCome early. Stay late. Celebrate big. \nWe’ll see you at the grill.
URL:https://shipgarten.com/event/labor-day-at-shipgarten/
LOCATION:Shipgarten\, 7581 Colshire Dr\, McLean\, VA\, 22102
CATEGORIES:Adults Festival
ATTACH;FMTTYPE=image/png:https://shipgarten.com/wp-content/uploads/2026/02/labor-day-2026.png
END:VEVENT
BEGIN:VEVENT
DTSTART;TZID=America/New_York:20260905T200000
DTEND;TZID=America/New_York:20260906T020000
DTSTAMP:20260421T221440
CREATED:20240127T024946Z
LAST-MODIFIED:20260224T202608Z
UID:10012612-1788638400-1788660000@shipgarten.com
SUMMARY:Shipgarten After Dark ft. Bianca Diamond
DESCRIPTION:🎉 Shipgarten After Dark with Bianca Diamond – The Queen of the Night in McLean! 🎉\nJoin us every Saturday at Shipgarten After Dark for an unforgettable night with Bianca Diamond\, one of D.C.’s most celebrated DJs. Feel the energy and dance the night away to the hottest dance\, top 40s\, and hip hop beats until 2 AM. \nFREE ADMISSION! Come for cocktails\, beer\, great vibes\, and one of Tysons/McLean’s best outdoor spaces. Check the dates below to catch Bianca Diamond live on the decks and don’t miss the party. \n\n 
URL:https://shipgarten.com/event/shipgarten-after-dark-ft-biancadiamond-2/2026-09-05/
LOCATION:Shipgarten\, 7581 Colshire Dr\, McLean\, VA\, 22102
CATEGORIES:+21,Adults Festival,After Dark
ATTACH;FMTTYPE=image/png:https://shipgarten.com/wp-content/uploads/2024/01/Shigparten-After-Dark-_-Bianca-Diamons.png
END:VEVENT
BEGIN:VEVENT
DTSTART;TZID=America/New_York:20260912T130000
DTEND;TZID=America/New_York:20260912T180000
DTSTAMP:20260421T221440
CREATED:20260218T171044Z
LAST-MODIFIED:20260218T171044Z
UID:10013768-1789218000-1789236000@shipgarten.com
SUMMARY:Fall Festival at Shipgarten
DESCRIPTION:🍂🎃 Fall Festival at Shipgarten 🍁🍺\nCrisp air\, cozy vibes\, and all your favorite fall flavors — it’s time for our annual Fall Festival at Shipgarten. \nJoin us for a full day of autumn fun featuring seasonal drinks\, festive décor\, live entertainment\, and activities for all ages. Whether you’re here for the pumpkin spice\, the beer\, or the family-friendly fall atmosphere\, there’s something for everyone. \n🍁 What to Expect:\n🎃 Pumpkin-themed specials & fall cocktails🍺 Seasonal beers & Oktoberfest favorites🎶 Live music / DJ entertainment🌽 Festive games & activities📸 Fall photo ops & cozy décor \nThrow on your flannel\, bring your friends and family\, and celebrate the best season of the year with us. \nFall only comes once a year — let’s make it count at Shipgarten.
URL:https://shipgarten.com/event/fall-festival-at-shipgarten/
LOCATION:Shipgarten\, 7581 Colshire Dr\, McLean\, VA\, 22102
CATEGORIES:Adults Festival
ATTACH;FMTTYPE=image/png:https://shipgarten.com/wp-content/uploads/2026/02/fall-festival-2026.png
END:VEVENT
BEGIN:VEVENT
DTSTART;TZID=America/New_York:20260912T200000
DTEND;TZID=America/New_York:20260913T020000
DTSTAMP:20260421T221440
CREATED:20240127T024946Z
LAST-MODIFIED:20260224T202608Z
UID:10012613-1789243200-1789264800@shipgarten.com
SUMMARY:Shipgarten After Dark ft. Bianca Diamond
DESCRIPTION:🎉 Shipgarten After Dark with Bianca Diamond – The Queen of the Night in McLean! 🎉\nJoin us every Saturday at Shipgarten After Dark for an unforgettable night with Bianca Diamond\, one of D.C.’s most celebrated DJs. Feel the energy and dance the night away to the hottest dance\, top 40s\, and hip hop beats until 2 AM. \nFREE ADMISSION! Come for cocktails\, beer\, great vibes\, and one of Tysons/McLean’s best outdoor spaces. Check the dates below to catch Bianca Diamond live on the decks and don’t miss the party. \n\n 
URL:https://shipgarten.com/event/shipgarten-after-dark-ft-biancadiamond-2/2026-09-12/
LOCATION:Shipgarten\, 7581 Colshire Dr\, McLean\, VA\, 22102
CATEGORIES:+21,Adults Festival,After Dark
ATTACH;FMTTYPE=image/png:https://shipgarten.com/wp-content/uploads/2024/01/Shigparten-After-Dark-_-Bianca-Diamons.png
END:VEVENT
BEGIN:VEVENT
DTSTART;TZID=America/New_York:20260919T130000
DTEND;TZID=America/New_York:20260919T180000
DTSTAMP:20260421T221440
CREATED:20260218T171937Z
LAST-MODIFIED:20260219T161821Z
UID:10013769-1789822800-1789840800@shipgarten.com
SUMMARY:Oktoberfest German Kickoff
DESCRIPTION:🇩🇪🍺 Oktoberfest: German Kickoff at Shipgarten 🥨🎉\nProst! It’s time to kick off Oktoberfest season the right way at Shipgarten. \nJoin us for German Kickoff\, our official Oktoberfest celebration packed with authentic German vibes\, steins flowing\, and high-energy entertainment all day long. \nWe’re bringing the spirit of Munich straight to Shipgarten with traditional brews\, festive décor\, and a party atmosphere you won’t want to miss. \n🍻 What to Expect:\n🍺 German beer selections & Oktoberfest specials🥨 Classic German eats & festival favorites🎶 Live music / DJ spinning Oktoberfest hits🇩🇪 Stein hoisting\, games & themed fun🎉 High-energy party vibes from start to finish \nDirndls\, lederhosen\, and festive attire strongly encouraged. Whether you’re here to raise a stein\, dance on the benches\, or just enjoy the atmosphere\, German Kickoff is your official start to Oktoberfest season. \nGrab your crew and get ready to say Prost all day long. \nLet the celebration begin 🍺🇩🇪 \n 
URL:https://shipgarten.com/event/octoberfest-german-kickoff/
LOCATION:Shipgarten\, 7581 Colshire Dr\, McLean\, VA\, 22102
CATEGORIES:Adults Festival
ATTACH;FMTTYPE=image/png:https://shipgarten.com/wp-content/uploads/2026/02/octoberfest-german-kickoff-2026.png
END:VEVENT
BEGIN:VEVENT
DTSTART;TZID=America/New_York:20260919T200000
DTEND;TZID=America/New_York:20260920T020000
DTSTAMP:20260421T221440
CREATED:20240127T024946Z
LAST-MODIFIED:20260224T202608Z
UID:10012614-1789848000-1789869600@shipgarten.com
SUMMARY:Shipgarten After Dark ft. Bianca Diamond
DESCRIPTION:🎉 Shipgarten After Dark with Bianca Diamond – The Queen of the Night in McLean! 🎉\nJoin us every Saturday at Shipgarten After Dark for an unforgettable night with Bianca Diamond\, one of D.C.’s most celebrated DJs. Feel the energy and dance the night away to the hottest dance\, top 40s\, and hip hop beats until 2 AM. \nFREE ADMISSION! Come for cocktails\, beer\, great vibes\, and one of Tysons/McLean’s best outdoor spaces. Check the dates below to catch Bianca Diamond live on the decks and don’t miss the party. \n\n 
URL:https://shipgarten.com/event/shipgarten-after-dark-ft-biancadiamond-2/2026-09-19/
LOCATION:Shipgarten\, 7581 Colshire Dr\, McLean\, VA\, 22102
CATEGORIES:+21,Adults Festival,After Dark
ATTACH;FMTTYPE=image/png:https://shipgarten.com/wp-content/uploads/2024/01/Shigparten-After-Dark-_-Bianca-Diamons.png
END:VEVENT
BEGIN:VEVENT
DTSTART;TZID=America/New_York:20260926T130000
DTEND;TZID=America/New_York:20260926T180000
DTSTAMP:20260421T221440
CREATED:20260218T172630Z
LAST-MODIFIED:20260218T172630Z
UID:10013770-1790427600-1790445600@shipgarten.com
SUMMARY:Dogtoberfest at Shipgarten
DESCRIPTION:🐶🍺 Dogtoberfest at Shipgarten 🥨🎉\nProst… and paws up! \nJoin us for Dogtoberfest\, Shipgarten’s ultimate Oktoberfest celebration for you and your four-legged friends. We’re combining German beer garden vibes with tail-wagging fun for a festival the whole pack can enjoy. \nBring your pup\, throw on a little lederhosen (for you or your dog 😉)\, and get ready for a day full of brews\, treats\, and festive fun. \n🐾 What to Expect:\n🍺 Oktoberfest beer specials & seasonal brews🐶 Dog-friendly vendors & pup treats📸 Pet costume contest & photo ops🎶 Live music / DJ entertainment🥨 German eats & festival favorites \nWhether your dog is social\, silly\, or just here for the snacks\, Dogtoberfest is the perfect fall outing for pet lovers and beer enthusiasts alike. \nLeashes required. Good vibes guaranteed. \nGrab your crew\, bring your pup\, and let’s raise a stein (and a paw) at Shipgarten 🐕🍻
URL:https://shipgarten.com/event/dogtoberfest-at-shipgarten/
LOCATION:Shipgarten\, 7581 Colshire Dr\, McLean\, VA\, 22102
CATEGORIES:Adults Festival
ATTACH;FMTTYPE=image/png:https://shipgarten.com/wp-content/uploads/2026/02/Dogtoberfest-2026.png
END:VEVENT
BEGIN:VEVENT
DTSTART;TZID=America/New_York:20260926T200000
DTEND;TZID=America/New_York:20260927T020000
DTSTAMP:20260421T221440
CREATED:20240127T024946Z
LAST-MODIFIED:20260224T202608Z
UID:10012615-1790452800-1790474400@shipgarten.com
SUMMARY:Shipgarten After Dark ft. Bianca Diamond
DESCRIPTION:🎉 Shipgarten After Dark with Bianca Diamond – The Queen of the Night in McLean! 🎉\nJoin us every Saturday at Shipgarten After Dark for an unforgettable night with Bianca Diamond\, one of D.C.’s most celebrated DJs. Feel the energy and dance the night away to the hottest dance\, top 40s\, and hip hop beats until 2 AM. \nFREE ADMISSION! Come for cocktails\, beer\, great vibes\, and one of Tysons/McLean’s best outdoor spaces. Check the dates below to catch Bianca Diamond live on the decks and don’t miss the party. \n\n 
URL:https://shipgarten.com/event/shipgarten-after-dark-ft-biancadiamond-2/2026-09-26/
LOCATION:Shipgarten\, 7581 Colshire Dr\, McLean\, VA\, 22102
CATEGORIES:+21,Adults Festival,After Dark
ATTACH;FMTTYPE=image/png:https://shipgarten.com/wp-content/uploads/2024/01/Shigparten-After-Dark-_-Bianca-Diamons.png
END:VEVENT
END:VCALENDAR