BEGIN:VCALENDAR
VERSION:2.0
PRODID:-//Shipgarten - ECPv6.15.20//NONSGML v1.0//EN
CALSCALE:GREGORIAN
METHOD:PUBLISH
X-WR-CALNAME:Shipgarten
X-ORIGINAL-URL:https://shipgarten.com
X-WR-CALDESC:Events for Shipgarten
REFRESH-INTERVAL;VALUE=DURATION:PT1H
X-Robots-Tag:noindex
X-PUBLISHED-TTL:PT1H
BEGIN:VTIMEZONE
TZID:America/New_York
BEGIN:DAYLIGHT
TZOFFSETFROM:-0500
TZOFFSETTO:-0400
TZNAME:EDT
DTSTART:20250309T070000
END:DAYLIGHT
BEGIN:STANDARD
TZOFFSETFROM:-0400
TZOFFSETTO:-0500
TZNAME:EST
DTSTART:20251102T060000
END:STANDARD
BEGIN:DAYLIGHT
TZOFFSETFROM:-0500
TZOFFSETTO:-0400
TZNAME:EDT
DTSTART:20260308T070000
END:DAYLIGHT
BEGIN:STANDARD
TZOFFSETFROM:-0400
TZOFFSETTO:-0500
TZNAME:EST
DTSTART:20261101T060000
END:STANDARD
BEGIN:DAYLIGHT
TZOFFSETFROM:-0500
TZOFFSETTO:-0400
TZNAME:EDT
DTSTART:20270314T070000
END:DAYLIGHT
BEGIN:STANDARD
TZOFFSETFROM:-0400
TZOFFSETTO:-0500
TZNAME:EST
DTSTART:20271107T060000
END:STANDARD
END:VTIMEZONE
BEGIN:VEVENT
DTSTART;TZID=America/New_York:20260502T130000
DTEND;TZID=America/New_York:20260502T180000
DTSTAMP:20260421T132344
CREATED:20260211T163303Z
LAST-MODIFIED:20260313T155905Z
UID:10013712-1777726800-1777744800@shipgarten.com
SUMMARY:Cinco De Mayo at Shipgarten
DESCRIPTION:🌮🎉 Cinco de Mayo Festival at ShipGarten 🎉🌮 \nGet ready to fiesta at ShipGarten’s Cinco de Mayo Festival — a celebration packed with flavor\, music\, and nonstop fun 🍹🔥 \nEnjoy sampling a wide variety of drinks\, food\, compete in festival events for prizes\, or take pictures in our photo booth- there’s something for everyone! Shipgarten is 100% dog friendly\, whether on-leash or in our off-leash dog park! We offer lots of treats such as Pup Cups and Kongs filled with peanut butter so the whole family can enjoy a treat. \n***The restaurant closes at 2 AM*** \nEVENT SCHEDULE: \n2:00 PM – 1800 and Jose Cuervo Tequila Tasting \n3:00 PM – Marshmallow to Sombrero Toss ($25 gift card for most marshmallows caught!) \n4:00 PM – Hot Pepper Eating Contest (Free T-shirt for winners! Waiver required\, 21+ onlyl) \n♫ 8 PM – 2 AM Shipgarten After Dark ft. Bianca Diamond💎 \n8PM – Boxing Watch Party David Benavidez \nShipgarten offers 2-155″ TV Walls\, 8 TVs\, 3 outdoor projectors & 3 indoor to watch ALL big games! \nADDITIONALLY: \n➳40+ beer & cider samples from local breweries to choose from \n➳ Photo Booth with Accessories \n➳ Great Food (TACOS ARE BACK) \n➳ Frozen Drinks \n➳Dog Friendly (Check out our Dog menu\, play in the dog park\, or just bring your pup along) \n➳ Outdoor Games & Activities \n➳ Giveaways\, Competitions & Prizes \n➳ Kids Corner with Face Painting\, Moon Bounce\, Crafts and more! \nDrink Specials \nJose Cuervo Mexican Tea Shot $5 \nJose Cuervo Devil’s Reserve Shot $5 \nJose Cuervo Tradicional Margarita $7 \n1800 Coconut Margarita $7 \nCuervo Combo: Shot of Jose Cuervo and Pacifico or Corona Premier on Draft $10 \nFREE PARKING\n1700 Old Meadow Road\, McLean\, VA 22102\nParking is conveniently located five minutes away by foot and we offer a completely free\, pet friendly\, and complimentary Shuttle Bus service that runs on a continuous loop to and from the venue and parking lot! \nShuttle bus hours: \nWeekdays 3pm-close \nWeekends 11am-close \nShuttle rides can be requested outside of continuous service hours by calling or texting (703)-712-7481
URL:https://shipgarten.com/event/cinco-de-mayo-at-shipgarten-2/
LOCATION:Shipgarten\, 7581 Colshire Dr\, McLean\, VA\, 22102
CATEGORIES:Adults Festival
ATTACH;FMTTYPE=image/png:https://shipgarten.com/wp-content/uploads/2026/02/Adult-Banners-Eventbrite-15.png
END:VEVENT
BEGIN:VEVENT
DTSTART;TZID=America/New_York:20260502T180000
DTEND;TZID=America/New_York:20260502T233000
DTSTAMP:20260421T132344
CREATED:20260211T171725Z
LAST-MODIFIED:20260313T162524Z
UID:10013715-1777744800-1777764600@shipgarten.com
SUMMARY:Benavidez vs. Ramirez Watch Party at ShipGarten
DESCRIPTION:🥊 Benavidez vs. Ramirez Watch Party at ShipGarten 🥊 \nFight fans\, this is the one you don’t want to miss. \nJoin us at ShipGarten for an electrifying Benavidez vs. Ramirez Watch Party\, where power\, precision\, and pride collide in the ring — and we’re showing every second on our big screens with full sound. \nWhether you’re backing Benavidez’s relentless pressure or Ramirez’s sharp skillset\, come experience the action surrounded by high-energy fans\, ice-cold beer\, and unbeatable bier garden vibes. \nGet here early to grab the best seats\, rep your fighter\, and settle in before the main event. The energy is going to be loud\, competitive\, and unforgettable. \nThis isn’t just a watch party — it’s a full fight night experience at ShipGarten. 🥊🍻 \nSee you ringside.
URL:https://shipgarten.com/event/benavidez-vs-ramirez-watch-party-at-shipgarten/
LOCATION:Shipgarten\, 7581 Colshire Dr\, McLean\, VA\, 22102
CATEGORIES:Adults Festival,Sport Events
ATTACH;FMTTYPE=image/webp:https://shipgarten.com/wp-content/uploads/2026/02/benavidex-fight.webp
END:VEVENT
BEGIN:VEVENT
DTSTART;TZID=America/New_York:20260502T200000
DTEND;TZID=America/New_York:20260503T020000
DTSTAMP:20260421T132344
CREATED:20240127T024946Z
LAST-MODIFIED:20260224T202608Z
UID:10012594-1777752000-1777773600@shipgarten.com
SUMMARY:Shipgarten After Dark ft. Bianca Diamond
DESCRIPTION:🎉 Shipgarten After Dark with Bianca Diamond – The Queen of the Night in McLean! 🎉\nJoin us every Saturday at Shipgarten After Dark for an unforgettable night with Bianca Diamond\, one of D.C.’s most celebrated DJs. Feel the energy and dance the night away to the hottest dance\, top 40s\, and hip hop beats until 2 AM. \nFREE ADMISSION! Come for cocktails\, beer\, great vibes\, and one of Tysons/McLean’s best outdoor spaces. Check the dates below to catch Bianca Diamond live on the decks and don’t miss the party. \n\n 
URL:https://shipgarten.com/event/shipgarten-after-dark-ft-biancadiamond-2/2026-05-02/
LOCATION:Shipgarten\, 7581 Colshire Dr\, McLean\, VA\, 22102
CATEGORIES:+21,Adults Festival,After Dark
ATTACH;FMTTYPE=image/png:https://shipgarten.com/wp-content/uploads/2024/01/Shigparten-After-Dark-_-Bianca-Diamons.png
END:VEVENT
BEGIN:VEVENT
DTSTART;TZID=America/New_York:20260509T130000
DTEND;TZID=America/New_York:20260509T180000
DTSTAMP:20260421T132344
CREATED:20260211T173912Z
LAST-MODIFIED:20260313T164127Z
UID:10013716-1778331600-1778349600@shipgarten.com
SUMMARY:Mother's Day with Mary Kay
DESCRIPTION:Come out to Shipgarten on May 9th from 1 – 6 pm for our Mother’s Day celebration with Mary Kay! \nMother’s Day weekend is all about mother + daughter time. Mary Kay consultants will be at Shipgarten offering free skin analysis\, foundation matching\, mommy & makeovers\, getting us sun ready\, and more! \nSaturday & Sunday: \n\nskin analysis to find your skincare glow\nmeet your perfect match – foundations for all shades and skin types\nLip bar – enjoy a hydrating lip treatment and try a new favorite lip look\nMommy & Me makeovers – makeup looks appropriate for all ages\n\nSign up for your spot now! https://www.signupgenius.com/go/8050C4CAEAC22A7FC1-55506860-mothers \nPink Cadillac Sales Director\, Anna Sempeles has been with Mary Kay for 28 years www.marykay.com/anna \nIndependent Beauty Consultant\, Sarah Hickner\, has been with Mary Kay for 17 years www.marykay.com/sarahhickner \nMary Kay loves helping women feel better inside and out. \n***Shipgarten opens at 11 AM & the festival runs from 1 PM until 6 PM. The restaurant closes at 2 AM*** \nFREE PARKING\n1700 Old Meadow Road\, McLean\, VA 22102\nParking is conveniently located five minutes away by foot and we offer a completely free\, pet friendly\, and complimentary Shuttle Bus service that runs on a continuous loop to and from the venue and parking lot! \nShuttle bus hours: \nWeekdays 3pm-close \nWeekends 11am-close \nShuttle rides can be requested outside of continuous service hours by calling or texting (703)-712-7481
URL:https://shipgarten.com/event/mothers-day-with-mary-kay-2/
LOCATION:Shipgarten\, 7581 Colshire Dr\, McLean\, VA\, 22102
CATEGORIES:Adults Festival
ATTACH;FMTTYPE=image/png:https://shipgarten.com/wp-content/uploads/2026/02/Mother-day-with-mary-kay-2026-.png
END:VEVENT
BEGIN:VEVENT
DTSTART;TZID=America/New_York:20260509T200000
DTEND;TZID=America/New_York:20260510T020000
DTSTAMP:20260421T132344
CREATED:20240127T024946Z
LAST-MODIFIED:20260224T202608Z
UID:10012595-1778356800-1778378400@shipgarten.com
SUMMARY:Shipgarten After Dark ft. Bianca Diamond
DESCRIPTION:🎉 Shipgarten After Dark with Bianca Diamond – The Queen of the Night in McLean! 🎉\nJoin us every Saturday at Shipgarten After Dark for an unforgettable night with Bianca Diamond\, one of D.C.’s most celebrated DJs. Feel the energy and dance the night away to the hottest dance\, top 40s\, and hip hop beats until 2 AM. \nFREE ADMISSION! Come for cocktails\, beer\, great vibes\, and one of Tysons/McLean’s best outdoor spaces. Check the dates below to catch Bianca Diamond live on the decks and don’t miss the party. \n\n 
URL:https://shipgarten.com/event/shipgarten-after-dark-ft-biancadiamond-2/2026-05-09/
LOCATION:Shipgarten\, 7581 Colshire Dr\, McLean\, VA\, 22102
CATEGORIES:+21,Adults Festival,After Dark
ATTACH;FMTTYPE=image/png:https://shipgarten.com/wp-content/uploads/2024/01/Shigparten-After-Dark-_-Bianca-Diamons.png
END:VEVENT
BEGIN:VEVENT
DTSTART;TZID=America/New_York:20260516T150000
DTEND;TZID=America/New_York:20260516T200000
DTSTAMP:20260421T132344
CREATED:20251223T201302Z
LAST-MODIFIED:20260313T165204Z
UID:10013692-1778943600-1778961600@shipgarten.com
SUMMARY:Filipino Festival
DESCRIPTION:Come join us for a day full of fun\, food\, and Filipino culture at Shipgarten! Get ready to dance to some awesome music\, enjoy delicious Filipino cuisine\, and connect with fellow kababayans. Whether you’re Filipino or just love the culture\, this event is for everyone! Don’t miss out on this epic celebration of all things Pinoy!
URL:https://shipgarten.com/event/filipino-festival-2/
LOCATION:Shipgarten\, 7581 Colshire Dr\, McLean\, VA\, 22102
CATEGORIES:+21,Private Events
ATTACH;FMTTYPE=image/png:https://shipgarten.com/wp-content/uploads/2025/12/2-8.png
END:VEVENT
BEGIN:VEVENT
DTSTART;TZID=America/New_York:20260516T200000
DTEND;TZID=America/New_York:20260517T020000
DTSTAMP:20260421T132344
CREATED:20240127T024946Z
LAST-MODIFIED:20260224T202608Z
UID:10012596-1778961600-1778983200@shipgarten.com
SUMMARY:Shipgarten After Dark ft. Bianca Diamond
DESCRIPTION:🎉 Shipgarten After Dark with Bianca Diamond – The Queen of the Night in McLean! 🎉\nJoin us every Saturday at Shipgarten After Dark for an unforgettable night with Bianca Diamond\, one of D.C.’s most celebrated DJs. Feel the energy and dance the night away to the hottest dance\, top 40s\, and hip hop beats until 2 AM. \nFREE ADMISSION! Come for cocktails\, beer\, great vibes\, and one of Tysons/McLean’s best outdoor spaces. Check the dates below to catch Bianca Diamond live on the decks and don’t miss the party. \n\n 
URL:https://shipgarten.com/event/shipgarten-after-dark-ft-biancadiamond-2/2026-05-16/
LOCATION:Shipgarten\, 7581 Colshire Dr\, McLean\, VA\, 22102
CATEGORIES:+21,Adults Festival,After Dark
ATTACH;FMTTYPE=image/png:https://shipgarten.com/wp-content/uploads/2024/01/Shigparten-After-Dark-_-Bianca-Diamons.png
END:VEVENT
BEGIN:VEVENT
DTSTART;TZID=America/New_York:20260523T130000
DTEND;TZID=America/New_York:20260523T180000
DTSTAMP:20260421T132344
CREATED:20260211T175909Z
LAST-MODIFIED:20260313T172649Z
UID:10013718-1779541200-1779559200@shipgarten.com
SUMMARY:Spring Renaissance Festival
DESCRIPTION:Come out to Shipgarten on Saturday\, May 23rd from 1 – 6 pm for our Spring Renaissance Festival. Enjoy sampling a wide variety of drinks\, food\, compete in festival events for prizes\, or take pictures in our photo booth- there’s something for everyone! Shipgarten is 100% dog friendly\, whether on-leash or in our off-leash dog park! We offer lots of treats such as Pup Cups and Kongs filled with peanut butter so the whole family can enjoy a treat. \n***Shipgarten opens at 11 AM & the festival runs from 1 PM until 6 PM. The restaurant closes at 2 AM*** \nEVENT SCHEDULE:\n1:30 – 3:00 PM: Arrow Shooting 🏹\n2:00 PM: Jousting\n2:30 PM: Tug of War\n3:00 PM: Knight Sword Show ⚔️\n3:00 – 4:30 PM: Axe Throwing 🪓\n4:30 PM: Stein Hoisting 🍺\n5:00 PM: Costume Contest (1st: $100 Gift Card\, 2nd: $50 Gift Card\, 3rd: $25 Gift Card)\n♫ 8 PM – 2 AM Shipgarten After Dark ft. DJ Bianca Diamond💎 \nShipgarten offers 2-155″ TV Walls\, 8 TVs\, 3 outdoor projectors & 3 indoor to watch ALL big games! \nADDITIONALLY:\n➳40+ beer & cider samples from local breweries to choose from\n➳ Photo Booth with Accessories\n➳ Great food\n➳ Cold Drinks Menu\n➳Dog Friendly (Check out our Dog menu\, play in the dog park\, or just bring your pup along)\n➳ Outdoor Games & Activities\n➳ Giveaways\, Competitions & Prizes\n➳ Kids Corner with Face Painting\, Moon Bounce\, Crafts and more!
URL:https://shipgarten.com/event/spring-renaissance-festival-2/
LOCATION:Shipgarten\, 7581 Colshire Dr\, McLean\, VA\, 22102
CATEGORIES:Adults Festival
ATTACH;FMTTYPE=image/png:https://shipgarten.com/wp-content/uploads/2026/02/Spring-Renaissance-Festival-2026.png
END:VEVENT
BEGIN:VEVENT
DTSTART;TZID=America/New_York:20260523T200000
DTEND;TZID=America/New_York:20260524T020000
DTSTAMP:20260421T132344
CREATED:20240127T024946Z
LAST-MODIFIED:20260224T202608Z
UID:10012597-1779566400-1779588000@shipgarten.com
SUMMARY:Shipgarten After Dark ft. Bianca Diamond
DESCRIPTION:🎉 Shipgarten After Dark with Bianca Diamond – The Queen of the Night in McLean! 🎉\nJoin us every Saturday at Shipgarten After Dark for an unforgettable night with Bianca Diamond\, one of D.C.’s most celebrated DJs. Feel the energy and dance the night away to the hottest dance\, top 40s\, and hip hop beats until 2 AM. \nFREE ADMISSION! Come for cocktails\, beer\, great vibes\, and one of Tysons/McLean’s best outdoor spaces. Check the dates below to catch Bianca Diamond live on the decks and don’t miss the party. \n\n 
URL:https://shipgarten.com/event/shipgarten-after-dark-ft-biancadiamond-2/2026-05-23/
LOCATION:Shipgarten\, 7581 Colshire Dr\, McLean\, VA\, 22102
CATEGORIES:+21,Adults Festival,After Dark
ATTACH;FMTTYPE=image/png:https://shipgarten.com/wp-content/uploads/2024/01/Shigparten-After-Dark-_-Bianca-Diamons.png
END:VEVENT
BEGIN:VEVENT
DTSTART;TZID=America/New_York:20260530T200000
DTEND;TZID=America/New_York:20260531T020000
DTSTAMP:20260421T132344
CREATED:20240127T024946Z
LAST-MODIFIED:20260224T202608Z
UID:10012598-1780171200-1780192800@shipgarten.com
SUMMARY:Shipgarten After Dark ft. Bianca Diamond
DESCRIPTION:🎉 Shipgarten After Dark with Bianca Diamond – The Queen of the Night in McLean! 🎉\nJoin us every Saturday at Shipgarten After Dark for an unforgettable night with Bianca Diamond\, one of D.C.’s most celebrated DJs. Feel the energy and dance the night away to the hottest dance\, top 40s\, and hip hop beats until 2 AM. \nFREE ADMISSION! Come for cocktails\, beer\, great vibes\, and one of Tysons/McLean’s best outdoor spaces. Check the dates below to catch Bianca Diamond live on the decks and don’t miss the party. \n\n 
URL:https://shipgarten.com/event/shipgarten-after-dark-ft-biancadiamond-2/2026-05-30/
LOCATION:Shipgarten\, 7581 Colshire Dr\, McLean\, VA\, 22102
CATEGORIES:+21,Adults Festival,After Dark
ATTACH;FMTTYPE=image/png:https://shipgarten.com/wp-content/uploads/2024/01/Shigparten-After-Dark-_-Bianca-Diamons.png
END:VEVENT
END:VCALENDAR