BEGIN:VCALENDAR
VERSION:2.0
PRODID:-//Shipgarten - ECPv6.15.20//NONSGML v1.0//EN
CALSCALE:GREGORIAN
METHOD:PUBLISH
X-ORIGINAL-URL:https://shipgarten.com
X-WR-CALDESC:Events for Shipgarten
REFRESH-INTERVAL;VALUE=DURATION:PT1H
X-Robots-Tag:noindex
X-PUBLISHED-TTL:PT1H
BEGIN:VTIMEZONE
TZID:America/New_York
BEGIN:DAYLIGHT
TZOFFSETFROM:-0500
TZOFFSETTO:-0400
TZNAME:EDT
DTSTART:20250309T070000
END:DAYLIGHT
BEGIN:STANDARD
TZOFFSETFROM:-0400
TZOFFSETTO:-0500
TZNAME:EST
DTSTART:20251102T060000
END:STANDARD
BEGIN:DAYLIGHT
TZOFFSETFROM:-0500
TZOFFSETTO:-0400
TZNAME:EDT
DTSTART:20260308T070000
END:DAYLIGHT
BEGIN:STANDARD
TZOFFSETFROM:-0400
TZOFFSETTO:-0500
TZNAME:EST
DTSTART:20261101T060000
END:STANDARD
BEGIN:DAYLIGHT
TZOFFSETFROM:-0500
TZOFFSETTO:-0400
TZNAME:EDT
DTSTART:20270314T070000
END:DAYLIGHT
BEGIN:STANDARD
TZOFFSETFROM:-0400
TZOFFSETTO:-0500
TZNAME:EST
DTSTART:20271107T060000
END:STANDARD
END:VTIMEZONE
BEGIN:VEVENT
DTSTART;TZID=America/New_York:20260131T200000
DTEND;TZID=America/New_York:20260201T020000
DTSTAMP:20260421T193110
CREATED:20240127T024946Z
LAST-MODIFIED:20260224T202608Z
UID:10012581-1769889600-1769911200@shipgarten.com
SUMMARY:Shipgarten After Dark ft. Bianca Diamond
DESCRIPTION:🎉 Shipgarten After Dark with Bianca Diamond – The Queen of the Night in McLean! 🎉\nJoin us every Saturday at Shipgarten After Dark for an unforgettable night with Bianca Diamond\, one of D.C.’s most celebrated DJs. Feel the energy and dance the night away to the hottest dance\, top 40s\, and hip hop beats until 2 AM. \nFREE ADMISSION! Come for cocktails\, beer\, great vibes\, and one of Tysons/McLean’s best outdoor spaces. Check the dates below to catch Bianca Diamond live on the decks and don’t miss the party. \n\n 
URL:https://shipgarten.com/event/shipgarten-after-dark-ft-biancadiamond-2/2026-01-31/
LOCATION:Shipgarten\, 7581 Colshire Dr\, McLean\, VA\, 22102
CATEGORIES:+21,Adults Festival,After Dark
ATTACH;FMTTYPE=image/png:https://shipgarten.com/wp-content/uploads/2024/01/Shigparten-After-Dark-_-Bianca-Diamons.png
END:VEVENT
BEGIN:VEVENT
DTSTART;TZID=America/New_York:20260206T200000
DTEND;TZID=America/New_York:20260207T020000
DTSTAMP:20260421T193110
CREATED:20260108T165904Z
LAST-MODIFIED:20260108T165904Z
UID:10013695-1770408000-1770429600@shipgarten.com
SUMMARY:Shipgarten After Dark ft. DJ Yazdan
DESCRIPTION:When the sun goes down\, Shipgarten turns up the volume. Join us every Friday night for After Dark\, where the lights get low\, the music gets louder\, and the party takes over. \n🎧 Live DJs & late-night vibes🍺 Full bar + late-night bites🔥 High-energy atmosphere under the stars🎟️ Free entry \nCome for the drinks\, stay for the music\, and let Friday night hit different. \n📍 Shipgarten7581 Colshire Dr\, McLean\, VA🚗 Free parking
URL:https://shipgarten.com/event/shipgarten-after-dark-ft-dj-yazdan-8/
LOCATION:Shipgarten\, 7581 Colshire Dr\, McLean\, VA\, 22102
CATEGORIES:+21
ATTACH;FMTTYPE=image/png:https://shipgarten.com/wp-content/uploads/2026/01/32.png
END:VEVENT
BEGIN:VEVENT
DTSTART;TZID=America/New_York:20260207T130000
DTEND;TZID=America/New_York:20260207T180000
DTSTAMP:20260421T193110
CREATED:20251219T194148Z
LAST-MODIFIED:20260120T194306Z
UID:10013673-1770469200-1770487200@shipgarten.com
SUMMARY:I Love My Dog Festival
DESCRIPTION:Celebrate puppy love at Shipgarten’s I Love My Dog Festival! 🐶💖\nBring your four-legged best friend and join us for an afternoon dedicated to dogs\, their humans\, and all things tail-waggingly fun. \nExpect a lively\, dog-friendly atmosphere with plenty of space to play\, mingle\, and snap adorable photos. Enjoy great food and drinks while your pup soaks up the love in our outdoor biergarten and off-leash dog park. Whether you’re showing off your pup’s style\, making new furry friends\, or just enjoying a laid-back Saturday together\, this is the ultimate dog-lover hangout. \n📅 Saturday\, February 7th\n⏰ 1 PM\n📍 Shipgarten – McLean\, VA\n🚗 Free parking\n🐾 Dog-friendly | Free entry \nEVENT SCHEDULE: \n3:00 PM Doggy Games \n\nSmallest Dog ($25 to winner\, based on audience vote!)\nBiggest Dog ($25 gift card to winner\, based on audience vote!)\nBest Trick ($25 gift card to winner\, based on audience vote!)\n\n3:30 PM Dog & Owner Relay Race ($25 gift card to fastest time!) \n4 :00 PM Best Dressed Dog ($25 to winner\, based on audience vote!) \nGrab the leash\, bring your pup\, and come celebrate the unconditional love we all share with our dogs! 💕🐕‍🦺
URL:https://shipgarten.com/event/i-love-my-dog-festival-2/
LOCATION:Shipgarten\, 7581 Colshire Dr\, McLean\, VA\, 22102
CATEGORIES:Adults Festival
ATTACH;FMTTYPE=image/png:https://shipgarten.com/wp-content/uploads/2025/12/8-1.png
END:VEVENT
BEGIN:VEVENT
DTSTART;TZID=America/New_York:20260207T200000
DTEND;TZID=America/New_York:20260208T020000
DTSTAMP:20260421T193110
CREATED:20240127T024946Z
LAST-MODIFIED:20260224T202608Z
UID:10012582-1770494400-1770516000@shipgarten.com
SUMMARY:Shipgarten After Dark ft. Bianca Diamond
DESCRIPTION:🎉 Shipgarten After Dark with Bianca Diamond – The Queen of the Night in McLean! 🎉\nJoin us every Saturday at Shipgarten After Dark for an unforgettable night with Bianca Diamond\, one of D.C.’s most celebrated DJs. Feel the energy and dance the night away to the hottest dance\, top 40s\, and hip hop beats until 2 AM. \nFREE ADMISSION! Come for cocktails\, beer\, great vibes\, and one of Tysons/McLean’s best outdoor spaces. Check the dates below to catch Bianca Diamond live on the decks and don’t miss the party. \n\n 
URL:https://shipgarten.com/event/shipgarten-after-dark-ft-biancadiamond-2/2026-02-07/
LOCATION:Shipgarten\, 7581 Colshire Dr\, McLean\, VA\, 22102
CATEGORIES:+21,Adults Festival,After Dark
ATTACH;FMTTYPE=image/png:https://shipgarten.com/wp-content/uploads/2024/01/Shigparten-After-Dark-_-Bianca-Diamons.png
END:VEVENT
BEGIN:VEVENT
DTSTART;TZID=America/New_York:20260208T180000
DTEND;TZID=America/New_York:20260208T220000
DTSTAMP:20260421T193110
CREATED:20251219T194312Z
LAST-MODIFIED:20260115T174112Z
UID:10013674-1770573600-1770588000@shipgarten.com
SUMMARY:Super Bowl Sunday
DESCRIPTION:It’s Super Bowl Sunday and Shipgarten is the place to watch it all go down! 🏈🍻\nJoin us for the biggest game of the year with wall-to-wall TVs\, an electric game-day atmosphere\, and everything you need for the ultimate watch party. \nGrab a cold beer\, enjoy crowd-favorite food\, and settle in with friends as we broadcast the game live across our massive screens. Whether you’re here for the football\, the commercials\, or just the vibes\, Shipgarten delivers a Super Bowl experience you won’t want to miss. \n📅 Sunday\, February 8th\n⏰ Kickoff at 6 PM\n📍 Shipgarten – McLean\, VA\n🚗 Free parking\n🏈 Free entry \nGet here early\, claim your spot\, and let’s make Super Bowl Sunday legendary. 🍺🔥
URL:https://shipgarten.com/event/super-bowl-sunday/
LOCATION:Shipgarten\, 7581 Colshire Dr\, McLean\, VA\, 22102
CATEGORIES:Sport Events
ATTACH;FMTTYPE=image/png:https://shipgarten.com/wp-content/uploads/2025/12/7-2.png
END:VEVENT
BEGIN:VEVENT
DTSTART;TZID=America/New_York:20260213T210000
DTEND;TZID=America/New_York:20260214T020000
DTSTAMP:20260421T193110
CREATED:20260108T170106Z
LAST-MODIFIED:20260108T170106Z
UID:10013696-1771016400-1771034400@shipgarten.com
SUMMARY:Shipgarten After Dark ft. Regina
DESCRIPTION:When the sun goes down\, Shipgarten turns up the volume. Join us every Friday night for After Dark\, where the lights get low\, the music gets louder\, and the party takes over. \n🎧 Live DJs & late-night vibes🍺 Full bar + late-night bites🔥 High-energy atmosphere under the stars🎟️ Free entry \nCome for the drinks\, stay for the music\, and let Friday night hit different. \n📍 Shipgarten7581 Colshire Dr\, McLean\, VA🚗 Free parking
URL:https://shipgarten.com/event/shipgarten-after-dark-ft-regina-5/
LOCATION:Shipgarten\, 7581 Colshire Dr\, McLean\, VA\, 22102
CATEGORIES:+21
ATTACH;FMTTYPE=image/png:https://shipgarten.com/wp-content/uploads/2026/01/31.png
END:VEVENT
BEGIN:VEVENT
DTSTART;TZID=America/New_York:20260214T130000
DTEND;TZID=America/New_York:20260214T180000
DTSTAMP:20260421T193110
CREATED:20260206T185704Z
LAST-MODIFIED:20260212T153551Z
UID:10013707-1771074000-1771092000@shipgarten.com
SUMMARY:Love On Tap: Valentine's Day Festival
DESCRIPTION:Love On Tap: Couples Game Show at ShipGarten 💕🍺 \nLove is in the air… and on tap. Join us at ShipGarten for Love On Tap\, a Valentine’s-themed festival night featuring couple’s crafts\, festive drinks\, and plenty of chances to flirt\, laugh\, and sip your way through the evening. \nWhether you’re coupled up\, flying solo\, or somewhere in between — this party is for you. Come dressed to match your relationship status:\n❤️ Red for couples\n🤍 White for singles\n💗 Pink if it’s complicated \nExpect Valentine’s vibes\, themed cocktails & beers\, playful competition\, and a crowd ready to celebrate love in all forms. Grab your loved ones to make special crafts for each other\, enjoy specialty drinks\, and soak in the ultimate anti-boring Valentine’s experience. \nGrab your date\, your friends\, or your confidence — and meet us in the garden. Love has never tasted so good. 🍹💘
URL:https://shipgarten.com/event/love-on-tap-couples-game-show-festival/
LOCATION:Shipgarten\, 7581 Colshire Dr\, McLean\, VA\, 22102
CATEGORIES:Adults Festival
ATTACH;FMTTYPE=image/png:https://shipgarten.com/wp-content/uploads/2026/02/Adult-Banners-Eventbrite-2.png
END:VEVENT
BEGIN:VEVENT
DTSTART;TZID=America/New_York:20260214T200000
DTEND;TZID=America/New_York:20260215T020000
DTSTAMP:20260421T193110
CREATED:20240127T024946Z
LAST-MODIFIED:20260224T202608Z
UID:10012583-1771099200-1771120800@shipgarten.com
SUMMARY:Shipgarten After Dark ft. Bianca Diamond
DESCRIPTION:🎉 Shipgarten After Dark with Bianca Diamond – The Queen of the Night in McLean! 🎉\nJoin us every Saturday at Shipgarten After Dark for an unforgettable night with Bianca Diamond\, one of D.C.’s most celebrated DJs. Feel the energy and dance the night away to the hottest dance\, top 40s\, and hip hop beats until 2 AM. \nFREE ADMISSION! Come for cocktails\, beer\, great vibes\, and one of Tysons/McLean’s best outdoor spaces. Check the dates below to catch Bianca Diamond live on the decks and don’t miss the party. \n\n 
URL:https://shipgarten.com/event/shipgarten-after-dark-ft-biancadiamond-2/2026-02-14/
LOCATION:Shipgarten\, 7581 Colshire Dr\, McLean\, VA\, 22102
CATEGORIES:+21,Adults Festival,After Dark
ATTACH;FMTTYPE=image/png:https://shipgarten.com/wp-content/uploads/2024/01/Shigparten-After-Dark-_-Bianca-Diamons.png
END:VEVENT
BEGIN:VEVENT
DTSTART;TZID=America/New_York:20260220T210000
DTEND;TZID=America/New_York:20260221T020000
DTSTAMP:20260421T193110
CREATED:20260108T170307Z
LAST-MODIFIED:20260108T170307Z
UID:10013697-1771621200-1771639200@shipgarten.com
SUMMARY:Shipgarten After Dark ft. DJ EPX
DESCRIPTION:When the sun goes down\, Shipgarten turns up the volume. Join us every Friday night for After Dark\, where the lights get low\, the music gets louder\, and the party takes over. \n🎧 Live DJs & late-night vibes🍺 Full bar + late-night bites🔥 High-energy atmosphere under the stars🎟️ Free entry \nCome for the drinks\, stay for the music\, and let Friday night hit different. \n📍 Shipgarten7581 Colshire Dr\, McLean\, VA🚗 Free parking
URL:https://shipgarten.com/event/shipgarten-after-dark-ft-dj-epx-7/
LOCATION:Shipgarten\, 7581 Colshire Dr\, McLean\, VA\, 22102
CATEGORIES:+21
ATTACH;FMTTYPE=image/png:https://shipgarten.com/wp-content/uploads/2026/01/30.png
END:VEVENT
BEGIN:VEVENT
DTSTART;TZID=America/New_York:20260221T130000
DTEND;TZID=America/New_York:20260221T180000
DTSTAMP:20260421T193110
CREATED:20251219T194603Z
LAST-MODIFIED:20260120T195650Z
UID:10013676-1771678800-1771696800@shipgarten.com
SUMMARY:National Margarita Day
DESCRIPTION:Raise a glass — it’s National Margarita Day! 🍹🍋\nJoin us at Shipgarten for a refreshing celebration dedicated to everyone’s favorite tequila cocktail. \nSip on perfectly mixed margaritas while enjoying the lively atmosphere of our outdoor biergarten. Whether you like yours classic\, tart\, or on the rocks\, there’s no better way to celebrate than with good drinks\, great company\, and laid-back vibes. \n📅 Saturday\, February 21st\n⏰ 1 PM\n📍 Shipgarten – McLean\, VA\n🚗 Free parking\n🍹 Free entry \nEVENT SCHEDULE: \n3:00 PM Minute Jenga Tower Building Challenge 🧱 \n4:00 PM Stein Hoisting \n5:00 PM Blow Your Shot \nSalt the rim\, grab your crew\, and let’s toast to margaritas all day long! 🌵✨
URL:https://shipgarten.com/event/national-margarita-day/
LOCATION:Shipgarten\, 7581 Colshire Dr\, McLean\, VA\, 22102
CATEGORIES:Adults Festival
ATTACH;FMTTYPE=image/png:https://shipgarten.com/wp-content/uploads/2025/12/5-5.png
END:VEVENT
BEGIN:VEVENT
DTSTART;TZID=America/New_York:20260221T200000
DTEND;TZID=America/New_York:20260221T233000
DTSTAMP:20260421T193110
CREATED:20260206T195930Z
LAST-MODIFIED:20260213T233653Z
UID:10013708-1771704000-1771716600@shipgarten.com
SUMMARY:🥊 Boxing Watch Party: Barrios vs. Garcia 🥊
DESCRIPTION:🥊 Boxing Watch Party: Barrios vs. Garcia 🥊📅 February 21st⏰ Fight starts at 8:00 PM📍 ShipGarten Beer Garden \nJoin us at ShipGarten for an electrifying boxing watch party as Barrios takes on Garcia in a can’t-miss matchup! We’re bringing the fight night energy with big screens\, booming sound\, and a crowd that’s ready for every round. \n🔥 What to expect:• Live fight shown on large screens• Full bar with cold beer & festive drinks• High-energy crowd and fight-night vibes• Plenty of space to cheer\, sip\, and celebrate every knockout \nWhether you’re a die-hard boxing fan or just here for the atmosphere\, this is the place to be on fight night. Grab your crew\, claim your spot\, and experience every punch\, round\, and victory with us. \nDoors open before the fight — come early\, stay late\, and let’s make it a knockout night!
URL:https://shipgarten.com/event/%f0%9f%a5%8a-boxing-watch-party-barrios-vs-garcia-%f0%9f%a5%8a/
LOCATION:Shipgarten\, 7581 Colshire Dr\, McLean\, VA\, 22102
CATEGORIES:+21,Adults Festival,Sport Events
ATTACH;FMTTYPE=image/png:https://shipgarten.com/wp-content/uploads/2026/02/Boxing-Max-Feb-21-2026.png
END:VEVENT
BEGIN:VEVENT
DTSTART;TZID=America/New_York:20260221T200000
DTEND;TZID=America/New_York:20260222T020000
DTSTAMP:20260421T193110
CREATED:20240127T024946Z
LAST-MODIFIED:20260224T202608Z
UID:10012584-1771704000-1771725600@shipgarten.com
SUMMARY:Shipgarten After Dark ft. Bianca Diamond
DESCRIPTION:🎉 Shipgarten After Dark with Bianca Diamond – The Queen of the Night in McLean! 🎉\nJoin us every Saturday at Shipgarten After Dark for an unforgettable night with Bianca Diamond\, one of D.C.’s most celebrated DJs. Feel the energy and dance the night away to the hottest dance\, top 40s\, and hip hop beats until 2 AM. \nFREE ADMISSION! Come for cocktails\, beer\, great vibes\, and one of Tysons/McLean’s best outdoor spaces. Check the dates below to catch Bianca Diamond live on the decks and don’t miss the party. \n\n 
URL:https://shipgarten.com/event/shipgarten-after-dark-ft-biancadiamond-2/2026-02-21/
LOCATION:Shipgarten\, 7581 Colshire Dr\, McLean\, VA\, 22102
CATEGORIES:+21,Adults Festival,After Dark
ATTACH;FMTTYPE=image/png:https://shipgarten.com/wp-content/uploads/2024/01/Shigparten-After-Dark-_-Bianca-Diamons.png
END:VEVENT
BEGIN:VEVENT
DTSTART;TZID=America/New_York:20260227T200000
DTEND;TZID=America/New_York:20260228T020000
DTSTAMP:20260421T193110
CREATED:20260108T170635Z
LAST-MODIFIED:20260224T202423Z
UID:10013699-1772222400-1772244000@shipgarten.com
SUMMARY:Shipgarten After Dark ft. Suge
DESCRIPTION:When the sun goes down\, Shipgarten turns up the volume. Join us every Friday night for After Dark\, where the lights get low\, the music gets louder\, and the party takes over. \n🎧 Live DJs & late-night vibes🍺 Full bar + late-night bites🔥 High-energy atmosphere under the stars🎟️ Free entry \nCome for the drinks\, stay for the music\, and let Friday night hit different. \n📍 Shipgarten7581 Colshire Dr\, McLean\, VA🚗 Free parking
URL:https://shipgarten.com/event/shipgarten-after-dark-ft-cyrus/
LOCATION:Shipgarten\, 7581 Colshire Dr\, McLean\, VA\, 22102
CATEGORIES:+21,After Dark
ATTACH;FMTTYPE=image/png:https://shipgarten.com/wp-content/uploads/2026/01/Adult-Banners-Website-and-Facebook-67.png
END:VEVENT
BEGIN:VEVENT
DTSTART;TZID=America/New_York:20260228T130000
DTEND;TZID=America/New_York:20260228T180000
DTSTAMP:20260421T193110
CREATED:20251219T194726Z
LAST-MODIFIED:20260120T195605Z
UID:10013677-1772283600-1772301600@shipgarten.com
SUMMARY:Beer Olympics
DESCRIPTION:Get ready to compete\, cheer\, and chug at Shipgarten’s Beer Olympics! 🍺🔥\nGather your crew and take part in a day of friendly competition\, cold beers\, and epic bragging rights. \nTeams will face off in classic beer-centric challenges designed to test skill\, speed\, and teamwork. Whether you’re competing for glory or just watching the action with a drink in hand\, the energy will be high and the vibes unbeatable. \nExpect great beer\, crowd hype\, and a full-throttle afternoon at Northern Virginia’s ultimate biergarten. \n📅 Saturday\, February 28th\n⏰ 1 PM\n📍 Shipgarten – McLean\, VA\n🚗 Free parking\n🍻 Free entry \nEVENT SCHEDULE:  \n2:00 Cornhole Tournament (Bracket-style\, Winning Team Wins $50 Gift Card!) \n3:00 Keg Curling (Most Reps of an Empty Keg in 1 Minute Wins $25 Gift Card!) \n4:00 Water Pong Tournament (Bracket-style\, Winning Team Wins $50 Gift Card!) \n5:00 Stein Hoisting (Longest Endurance Holding a Filled Stein Wins $25 Gift Card!) \nThink you’ve got what it takes? Grab your friends and let the games begin. 🏆🔥
URL:https://shipgarten.com/event/beer-olympics-2/
LOCATION:Shipgarten\, 7581 Colshire Dr\, McLean\, VA\, 22102
CATEGORIES:Adults Festival
ATTACH;FMTTYPE=image/png:https://shipgarten.com/wp-content/uploads/2025/12/4-6.png
END:VEVENT
BEGIN:VEVENT
DTSTART;TZID=America/New_York:20260228T200000
DTEND;TZID=America/New_York:20260301T020000
DTSTAMP:20260421T193110
CREATED:20240127T024946Z
LAST-MODIFIED:20260224T202608Z
UID:10013838-1772308800-1772330400@shipgarten.com
SUMMARY:Shipgarten After Dark ft. Bianca Diamond
DESCRIPTION:🎉 Shipgarten After Dark with Bianca Diamond – The Queen of the Night in McLean! 🎉\nJoin us every Saturday at Shipgarten After Dark for an unforgettable night with Bianca Diamond\, one of D.C.’s most celebrated DJs. Feel the energy and dance the night away to the hottest dance\, top 40s\, and hip hop beats until 2 AM. \nFREE ADMISSION! Come for cocktails\, beer\, great vibes\, and one of Tysons/McLean’s best outdoor spaces. Check the dates below to catch Bianca Diamond live on the decks and don’t miss the party. \n\n 
URL:https://shipgarten.com/event/shipgarten-after-dark-ft-biancadiamond-2/2026-02-28/
LOCATION:Shipgarten\, 7581 Colshire Dr\, McLean\, VA\, 22102
CATEGORIES:+21,Adults Festival,After Dark
ATTACH;FMTTYPE=image/png:https://shipgarten.com/wp-content/uploads/2024/01/Shigparten-After-Dark-_-Bianca-Diamons.png
END:VEVENT
BEGIN:VEVENT
DTSTART;TZID=America/New_York:20260228T210000
DTEND;TZID=America/New_York:20260301T020000
DTSTAMP:20260421T193110
CREATED:20260122T165829Z
LAST-MODIFIED:20260122T165829Z
UID:10013701-1772312400-1772330400@shipgarten.com
SUMMARY:2016 Throwback Night Party
DESCRIPTION:⏪✨ REWIND TO 2016 ✨⏪ \nShipgarten After Dark presents: 2016 Throwback Night Party \nWe’re turning back the clock to 2016 for a night full of throwback hits\, neon vibes\, and peak nostalgia. From the music you had on repeat to the trends you forgot you loved—this is your chance to rewind and relive it all. \n🎶 Expect nonstop throwbacks \n💃 Dress the part or come as you are \n🍻 Drinks flowing all night \n🌌 Late-night party energy at Shipgarten \n📅 Saturday\, February 28 \n⏰ 9:00 PM-2:00 AM \n🎟 Free Entry \n🔞 21+ Only \nGrab your crew\, channel your favorite 2016 era\, and let’s party like it’s a throwback. \nRewind. Relive. Repeat.
URL:https://shipgarten.com/event/2016-throwback-night-party/
LOCATION:Shipgarten\, 7581 Colshire Dr\, McLean\, VA\, 22102
CATEGORIES:+21
ATTACH;FMTTYPE=image/png:https://shipgarten.com/wp-content/uploads/2026/01/Adult-Banners-Website-and-Facebook-69-1.png
END:VEVENT
END:VCALENDAR