BEGIN:VCALENDAR
VERSION:2.0
PRODID:-//Shipgarten - ECPv6.15.20//NONSGML v1.0//EN
CALSCALE:GREGORIAN
METHOD:PUBLISH
X-WR-CALNAME:Shipgarten
X-ORIGINAL-URL:https://shipgarten.com
X-WR-CALDESC:Events for Shipgarten
REFRESH-INTERVAL;VALUE=DURATION:PT1H
X-Robots-Tag:noindex
X-PUBLISHED-TTL:PT1H
BEGIN:VTIMEZONE
TZID:America/New_York
BEGIN:DAYLIGHT
TZOFFSETFROM:-0500
TZOFFSETTO:-0400
TZNAME:EDT
DTSTART:20250309T070000
END:DAYLIGHT
BEGIN:STANDARD
TZOFFSETFROM:-0400
TZOFFSETTO:-0500
TZNAME:EST
DTSTART:20251102T060000
END:STANDARD
BEGIN:DAYLIGHT
TZOFFSETFROM:-0500
TZOFFSETTO:-0400
TZNAME:EDT
DTSTART:20260308T070000
END:DAYLIGHT
BEGIN:STANDARD
TZOFFSETFROM:-0400
TZOFFSETTO:-0500
TZNAME:EST
DTSTART:20261101T060000
END:STANDARD
BEGIN:DAYLIGHT
TZOFFSETFROM:-0500
TZOFFSETTO:-0400
TZNAME:EDT
DTSTART:20270314T070000
END:DAYLIGHT
BEGIN:STANDARD
TZOFFSETFROM:-0400
TZOFFSETTO:-0500
TZNAME:EST
DTSTART:20271107T060000
END:STANDARD
END:VTIMEZONE
BEGIN:VEVENT
DTSTART;TZID=America/New_York:20260418T200000
DTEND;TZID=America/New_York:20260419T020000
DTSTAMP:20260421T084735
CREATED:20240127T024946Z
LAST-MODIFIED:20260224T202608Z
UID:10012592-1776542400-1776564000@shipgarten.com
SUMMARY:Shipgarten After Dark ft. Bianca Diamond
DESCRIPTION:🎉 Shipgarten After Dark with Bianca Diamond – The Queen of the Night in McLean! 🎉\nJoin us every Saturday at Shipgarten After Dark for an unforgettable night with Bianca Diamond\, one of D.C.’s most celebrated DJs. Feel the energy and dance the night away to the hottest dance\, top 40s\, and hip hop beats until 2 AM. \nFREE ADMISSION! Come for cocktails\, beer\, great vibes\, and one of Tysons/McLean’s best outdoor spaces. Check the dates below to catch Bianca Diamond live on the decks and don’t miss the party. \n\n 
URL:https://shipgarten.com/event/shipgarten-after-dark-ft-biancadiamond-2/2026-04-18/
LOCATION:Shipgarten\, 7581 Colshire Dr\, McLean\, VA\, 22102
CATEGORIES:+21,Adults Festival,After Dark
ATTACH;FMTTYPE=image/png:https://shipgarten.com/wp-content/uploads/2024/01/Shigparten-After-Dark-_-Bianca-Diamons.png
END:VEVENT
BEGIN:VEVENT
DTSTART;TZID=America/New_York:20260419T120000
DTEND;TZID=America/New_York:20260419T180000
DTSTAMP:20260421T084735
CREATED:20260213T162956Z
LAST-MODIFIED:20260415T180656Z
UID:10013752-1776600000-1776621600@shipgarten.com
SUMMARY:Petting Zoo Hosts Kids and Family Festival
DESCRIPTION:Petting Zoo from Big D’s Amusement and Rentals \n\n\n\nGet ready for a fun-filled day your kids will never forget! 🌈🐾\nJoin us at Shipgarten for an interactive Petting Zoo experience where families can connect\, play\, and create unforgettable memories together. \nBring the whole crew and enjoy a safe\, outdoor environment full of friendly animals\, laughter\, and hands-on fun — perfect for kids of all ages 👨‍👩‍👧‍👦✨ \n🐾 Special Guest: Bond Vet\nWe’re excited to have Bond Vet joining us as part of this pet-friendly experience! Stop by to meet their team and connect with fellow animal lovers in our community. \nBond Vet is a veterinary clinic dedicated to delivering compassionate\, high-quality care for pets in a welcoming\, stress-free environment. Focusing on convenience\, transparency\, and exceptional service\, Bond Vet combines advanced medical expertise with a people-first approach\, making visits easier for both pets and their owners. \nUse code BONDVETDMV for $50 Off new and existing clinics. Valid one per pet\, also through the end of the year 12/31/26. \n🎈 WHAT TO EXPECT\n🎨 Face Painting\n🎪 Moonbounces & Playground Fun\n🐐 Petting Zoo Experience\n🎭 Magic Show & Balloon Art\n📸 Photo-worthy family moments\n🎯 Games\, activities & surprises\n🍔 Delicious food options from 4 different food concepts \n⏰ EVENT SCHEDULE\n\n12:00 – 6:00 PM – Face Painting\, Moonbounces\, and Arts & Crafts\n12:00 – 3:00 PM – Balloon animals and magic tricks by Jack the Great\n2:00 – 3:00 PM – INFOLDING Tier 1\n3:00 – 4:00 PM – INFOLDING Tier 2\n3:00 – 5:00 PM – Petting Zoo – A Fun & Furry Experience for the Whole Family! 2 Minutes per Round\, Unlimited Turns!\n\nInfolding is an inspirational\, fun\, and highly creative activity where anyone can learn to make their own books. This fulfilling\, hands-on process weaves together storytelling\, community building\, and the acquisition of new artistic skills\, as well as techniques for transforming imagination into tactile media. \nWhere ideas unfold into something you can hold \n👨‍👩‍👧‍👦 PERFECT FOR\n\nFamilies with kids\nAnimal lovers 🐾\nWeekend outdoor plans\nBirthday celebrations & group outings\n\n🎉 WHY YOU’LL LOVE IT\nFrom adorable animals to interactive activities\, this event is designed to create joyful\, stress-free moments for both kids and parents. Whether it’s your child’s first time at a petting zoo or just another excuse to get outside and have fun\, Shipgarten is the place to be 🌞 \n🎟️ Reserve your FREE spot now and join the fun! \n📍 EVENT DETAILS\n📅 Sunday\, April 19th\n⏰ 12:00 PM – 6:00 PM\n📍 Shipgarten\n7581 Colshire Dr\, McLean\, VA 22102 \n🚗 FREE & large parking available\n(1700 Old Meadow Rd — just steps away!) \n🍽️ Enjoy 4 different food experiences in one place \n👶 All ages welcome – family-friendly event \n 
URL:https://shipgarten.com/event/petting-zoo-7/
LOCATION:Shipgarten\, 7581 Colshire Dr\, McLean\, VA\, 22102
CATEGORIES:Kids and Family Festival
ATTACH;FMTTYPE=image/png:https://shipgarten.com/wp-content/uploads/2026/02/2026-Kids-Banners-6-1.png
END:VEVENT
END:VCALENDAR