BEGIN:VCALENDAR
VERSION:2.0
PRODID:-//Shipgarten - ECPv6.15.20//NONSGML v1.0//EN
CALSCALE:GREGORIAN
METHOD:PUBLISH
X-WR-CALNAME:Shipgarten
X-ORIGINAL-URL:https://shipgarten.com
X-WR-CALDESC:Events for Shipgarten
REFRESH-INTERVAL;VALUE=DURATION:PT1H
X-Robots-Tag:noindex
X-PUBLISHED-TTL:PT1H
BEGIN:VTIMEZONE
TZID:America/New_York
BEGIN:DAYLIGHT
TZOFFSETFROM:-0500
TZOFFSETTO:-0400
TZNAME:EDT
DTSTART:20250309T070000
END:DAYLIGHT
BEGIN:STANDARD
TZOFFSETFROM:-0400
TZOFFSETTO:-0500
TZNAME:EST
DTSTART:20251102T060000
END:STANDARD
BEGIN:DAYLIGHT
TZOFFSETFROM:-0500
TZOFFSETTO:-0400
TZNAME:EDT
DTSTART:20260308T070000
END:DAYLIGHT
BEGIN:STANDARD
TZOFFSETFROM:-0400
TZOFFSETTO:-0500
TZNAME:EST
DTSTART:20261101T060000
END:STANDARD
BEGIN:DAYLIGHT
TZOFFSETFROM:-0500
TZOFFSETTO:-0400
TZNAME:EDT
DTSTART:20270314T070000
END:DAYLIGHT
BEGIN:STANDARD
TZOFFSETFROM:-0400
TZOFFSETTO:-0500
TZNAME:EST
DTSTART:20271107T060000
END:STANDARD
END:VTIMEZONE
BEGIN:VEVENT
DTSTART;TZID=America/New_York:20260417T190000
DTEND;TZID=America/New_York:20260417T210000
DTSTAMP:20260421T055345
CREATED:20251223T194411Z
LAST-MODIFIED:20260130T175031Z
UID:10013689-1776452400-1776459600@shipgarten.com
SUMMARY:Micro-Wrestling Event in McLean\, VA
DESCRIPTION:ABSOLUTELY NO REFUNDS: TICKETS TRANSFER TO RESCHEDULED DATE\nTHIS SHOW IS 21 & UP!\nThe Micro Wrestling Federation is a full-scale professional wrestling event supported by an entire cast under five feet tall. It’s going to be pandemonium as the Micro Wrestlers body slam\, bear hug\, and headlock throughout an evening of nonstop action. Event is April 17th\, 2026 7:00-9:00PM!\nHere is what you can expect:\nTwo Single Matches: Who are the toughest Micro Wrestlers? Come find out!\nMicro Brawl: Body slams and suplexes take place anywhere in the venue! Get ready for up-close and personal Micro action!\nMicro Rumble: The Micro Superstars enter the squared circle and stand tiny toe-to-tiny toe against one another in the main event; the belt is on the line and only one Micro wrestler will leave as champion!\nFollowing the show: Fans can stick around and socialize and get autographs with the Micro cast members!\nBecome a Micro Mayhemer and sign up for our newsletter at MicroWrestling.com\, and follow us on social media; all social media platforms on home page of our website.
URL:https://shipgarten.com/event/micro-wrestling-event-in-mclean-va/
LOCATION:Shipgarten\, 7581 Colshire Dr\, McLean\, VA\, 22102
CATEGORIES:+21,Private Events
ATTACH;FMTTYPE=image/jpeg:https://shipgarten.com/wp-content/uploads/2025/12/579001189_1260260882807439_6575611554026811243_n-1.jpeg
END:VEVENT
END:VCALENDAR