BEGIN:VCALENDAR
VERSION:2.0
PRODID:-//Shipgarten - ECPv6.15.20//NONSGML v1.0//EN
CALSCALE:GREGORIAN
METHOD:PUBLISH
X-WR-CALNAME:Shipgarten
X-ORIGINAL-URL:https://shipgarten.com
X-WR-CALDESC:Events for Shipgarten
REFRESH-INTERVAL;VALUE=DURATION:PT1H
X-Robots-Tag:noindex
X-PUBLISHED-TTL:PT1H
BEGIN:VTIMEZONE
TZID:America/New_York
BEGIN:DAYLIGHT
TZOFFSETFROM:-0500
TZOFFSETTO:-0400
TZNAME:EDT
DTSTART:20230312T070000
END:DAYLIGHT
BEGIN:STANDARD
TZOFFSETFROM:-0400
TZOFFSETTO:-0500
TZNAME:EST
DTSTART:20231105T060000
END:STANDARD
BEGIN:DAYLIGHT
TZOFFSETFROM:-0500
TZOFFSETTO:-0400
TZNAME:EDT
DTSTART:20240310T070000
END:DAYLIGHT
BEGIN:STANDARD
TZOFFSETFROM:-0400
TZOFFSETTO:-0500
TZNAME:EST
DTSTART:20241103T060000
END:STANDARD
BEGIN:DAYLIGHT
TZOFFSETFROM:-0500
TZOFFSETTO:-0400
TZNAME:EDT
DTSTART:20250309T070000
END:DAYLIGHT
BEGIN:STANDARD
TZOFFSETFROM:-0400
TZOFFSETTO:-0500
TZNAME:EST
DTSTART:20251102T060000
END:STANDARD
END:VTIMEZONE
BEGIN:VEVENT
DTSTART;TZID=America/New_York:20241104T110000
DTEND;TZID=America/New_York:20241104T150000
DTSTAMP:20260421T084925
CREATED:20241025T065003Z
LAST-MODIFIED:20241104T211859Z
UID:11664-1730718000-1730732400@shipgarten.com
SUMMARY:Taller de video y edición con CapCut
DESCRIPTION:¡Únete a nuestro Taller de Video y Edición con CapCut para Principiantes! \n¿Te gustaría aprender a crear y editar videos profesionales de manera sencilla y rápida? Este taller es perfecto para ti\, sin importar si eres completamente nuevo en la edición de video o si ya tienes algo de experiencia y deseas perfeccionar tus habilidades. \nFecha y Hora:\n\n📅 23 de noviembre de 2024\n⏰ De 4:00 PM a 8:00 PM\n\nDurante este taller\, aprenderás a dominar CapCut\, una de las herramientas de edición de video más populares y accesibles del momento. Te guiaremos paso a paso\, desde lo más básico hasta la creación de contenido visual atractivo para tus redes sociales o proyectos personales. \n¿Qué aprenderás en este taller?\n\n📱 Mejorarás tus habilidades en la creación de videos dinámicos utilizando CapCut.\n🖥️ Descubrirás los trucos y herramientas más útiles para hacer que tus videos destaquen en plataformas como TikTok\, Instagram y YouTube.\n🎥 Edición para redes sociales: cómo agregar música\, efectos y transiciones para videos que captan la atención.\n🎨 Consejos de diseño y marketing visual para ayudarte a contar historias visuales de manera más efectiva.\n🎬 Producción de video: desde la grabación hasta la edición final\, todo en un solo lugar.\n\n¿Quién debería asistir?\n\n🟢 Personas que están empezando en la creación de contenido digital.\n🟢 Emprendedores y marcas personales que quieren aprender a crear videos de alto impacto.\n🟢 Influencers\, creadores de contenido y freelancers que buscan mejorar la calidad de sus videos.\n\nBeneficios del Taller:\n\n✔️ Aprende de un experto en video y marketing.\n✔️ Taller práctico con ejemplos en vivo.\n✔️ Soporte post-taller: ¡podrás resolver dudas después de la clase!\n✔️ Certificado de participación.\n\nInversión:\n\n💲 Precio especial de preventa: $45.\n\nUbicación:\n📍 Shipgarten\, McLean\, VA \n¡No te pierdas esta oportunidad de llevar tus habilidades de edición de video al siguiente nivel!
URL:https://shipgarten.com/event/taller-de-video-y-edicion-con-capcut/
LOCATION:Shipgarten\, 7581 Colshire Dr\, McLean\, VA\, 22102
CATEGORIES:WorkShops
ATTACH;FMTTYPE=image/png:https://shipgarten.com/wp-content/uploads/2024/10/Taller-de-Video-y-Edicion-con-Cap-Cut-Para-Principiantes-en-McLean.png
END:VEVENT
END:VCALENDAR