BEGIN:VCALENDAR
VERSION:2.0
PRODID:-//Shipgarten - ECPv6.15.20//NONSGML v1.0//EN
CALSCALE:GREGORIAN
METHOD:PUBLISH
X-WR-CALNAME:Shipgarten
X-ORIGINAL-URL:https://shipgarten.com
X-WR-CALDESC:Events for Shipgarten
REFRESH-INTERVAL;VALUE=DURATION:PT1H
X-Robots-Tag:noindex
X-PUBLISHED-TTL:PT1H
BEGIN:VTIMEZONE
TZID:America/New_York
BEGIN:DAYLIGHT
TZOFFSETFROM:-0500
TZOFFSETTO:-0400
TZNAME:EDT
DTSTART:20250309T070000
END:DAYLIGHT
BEGIN:STANDARD
TZOFFSETFROM:-0400
TZOFFSETTO:-0500
TZNAME:EST
DTSTART:20251102T060000
END:STANDARD
BEGIN:DAYLIGHT
TZOFFSETFROM:-0500
TZOFFSETTO:-0400
TZNAME:EDT
DTSTART:20260308T070000
END:DAYLIGHT
BEGIN:STANDARD
TZOFFSETFROM:-0400
TZOFFSETTO:-0500
TZNAME:EST
DTSTART:20261101T060000
END:STANDARD
BEGIN:DAYLIGHT
TZOFFSETFROM:-0500
TZOFFSETTO:-0400
TZNAME:EDT
DTSTART:20270314T070000
END:DAYLIGHT
BEGIN:STANDARD
TZOFFSETFROM:-0400
TZOFFSETTO:-0500
TZNAME:EST
DTSTART:20271107T060000
END:STANDARD
END:VTIMEZONE
BEGIN:VEVENT
DTSTART;TZID=America/New_York:20260612T180000
DTEND;TZID=America/New_York:20260612T203000
DTSTAMP:20260421T041802
CREATED:20260211T214308Z
LAST-MODIFIED:20260227T190539Z
UID:16574-1781287200-1781296200@shipgarten.com
SUMMARY:USA vs PARAGUAY
DESCRIPTION:⚽ THE BIGGEST WORLD CUP WATCH PARTY IN TYSONS STARTS HERE\nThe FIFA World Cup 2026 is not just another game night.It’s global pride. It’s flags flying. It’s beers raised.\nAnd there is no bigger place to experience it in McLean/Tysons than Shipgarten.\nOn Friday\, June 12th at 6PM\, USA faces Paraguay\, and we’re turning Shipgarten into a full stadium atmosphere.\nThis is where the crowd gets loud. \n🔥 THIS IS HOW YOU WATCH THE WORLD CUP\n\nMassive screens & stadium-level sound\n$40 Mix & Match Beer Buckets (5 – 16oz cans)\n100+ beer varieties available\nAll ages welcome (21+ to drink)\nThe most energetic soccer crowd in Tysons\n\nIf you’re going to watch the World Cup… watch it BIG. \n📍 GAME DAY DETAILS\n📅 Friday\, June 12th🕕 Kickoff: 6:00 PM📍 Shipgarten – 7581 Colshire Dr\, McLean\, VA 22102🚗 FREE & large parking at 1700 Old Meadow Rd🎟 FREE ENTRY – Pay only for what you consume \nArrive early. The crowd fills up fast for USA matches. \n🍻 Coming with your crew? Upgrade your match day.\nMore Info Click Here \nhttps://www.eventbrite.com/e/1983896223008?aff=oddtdtcreator \n 
URL:https://shipgarten.com/event/fifa-world-cup-2026-usa-vs-paraguay-june-12-friday-6pm/
LOCATION:Shipgarten\, 7581 Colshire Dr\, McLean\, VA\, 22102
CATEGORIES:FIFA,Sport Events
ATTACH;FMTTYPE=image/png:https://shipgarten.com/wp-content/uploads/2026/02/USA-vs-PARAGUAY-_-June-12-Friday-6pm.png
END:VEVENT
END:VCALENDAR