BEGIN:VCALENDAR
VERSION:2.0
PRODID:-//Shipgarten - ECPv6.15.20//NONSGML v1.0//EN
CALSCALE:GREGORIAN
METHOD:PUBLISH
X-WR-CALNAME:Shipgarten
X-ORIGINAL-URL:https://shipgarten.com
X-WR-CALDESC:Events for Shipgarten
REFRESH-INTERVAL;VALUE=DURATION:PT1H
X-Robots-Tag:noindex
X-PUBLISHED-TTL:PT1H
BEGIN:VTIMEZONE
TZID:America/New_York
BEGIN:DAYLIGHT
TZOFFSETFROM:-0500
TZOFFSETTO:-0400
TZNAME:EDT
DTSTART:20250309T070000
END:DAYLIGHT
BEGIN:STANDARD
TZOFFSETFROM:-0400
TZOFFSETTO:-0500
TZNAME:EST
DTSTART:20251102T060000
END:STANDARD
BEGIN:DAYLIGHT
TZOFFSETFROM:-0500
TZOFFSETTO:-0400
TZNAME:EDT
DTSTART:20260308T070000
END:DAYLIGHT
BEGIN:STANDARD
TZOFFSETFROM:-0400
TZOFFSETTO:-0500
TZNAME:EST
DTSTART:20261101T060000
END:STANDARD
BEGIN:DAYLIGHT
TZOFFSETFROM:-0500
TZOFFSETTO:-0400
TZNAME:EDT
DTSTART:20270314T070000
END:DAYLIGHT
BEGIN:STANDARD
TZOFFSETFROM:-0400
TZOFFSETTO:-0500
TZNAME:EST
DTSTART:20271107T060000
END:STANDARD
END:VTIMEZONE
BEGIN:VEVENT
DTSTART;TZID=America/New_York:20260625T160000
DTEND;TZID=America/New_York:20260625T183000
DTSTAMP:20260421T055620
CREATED:20260212T205407Z
LAST-MODIFIED:20260212T205451Z
UID:16696-1782403200-1782412200@shipgarten.com
SUMMARY:ECUADOR vs GERMANY
DESCRIPTION:⚡ THURSDAY AFTERNOON. SPEED VS PRECISION.\nGermany brings structure\, discipline\, and World Cup dominance.\nEcuador brings speed\, altitude stamina\, and fearless intensity. \n4PM kickoff.\nAfter-work energy.\nMomentum building into the night. \nShipgarten becomes the biggest World Cup watch party in Tysons. \n🔥 THIS IS HOW YOU WATCH A THURSDAY MATCH\nYou leave work early.\nYou grab a cold one.\nYou don’t miss kickoff. \n\nMassive screens & stadium-level sound\n$40 Mix & Match Beer Buckets (5 – 16oz cans)\n100+ beer varieties available\nAll ages welcome (21+ to drink)\nThe most energetic World Cup crowd in Tysons\n\nThis isn’t background TV.This is full stadium energy. \n🏆 DISCIPLINE MEETS HEART\nGermany’s precision and tactical control.\nEcuador’s pace and South American fire. \nThursday at 4PM means the party starts early. \nCome straight from work. Stay for the celebration. \n📍 GAME DAY DETAILS\n📅 Thursday\, June 25th\n🕛 Kickoff: 4:00 PM📍 Shipgarten – 7581 Colshire Dr\, McLean\, VA 22102🚗 FREE & large parking at 1700 Old Meadow Rd🎟 FREE ENTRY – Pay only for what you consume \n🍻 Coming with your crew? Upgrade your match day.\nMore Info Click Here \nThe biggest crowd. The coldest beer. The loudest World Cup in Tysons.
URL:https://shipgarten.com/event/fifa-word-cup-2026-ecuador-vs-germany-june-25-thursday-4pm/
LOCATION:Shipgarten\, 7581 Colshire Dr\, McLean\, VA\, 22102
CATEGORIES:FIFA,Sport Events
ATTACH;FMTTYPE=image/png:https://shipgarten.com/wp-content/uploads/2026/02/ECUADOR-vs-GERMANY-_-June-25-Thursday-4pm.png
END:VEVENT
END:VCALENDAR