BEGIN:VCALENDAR
VERSION:2.0
PRODID:-//Shipgarten - ECPv6.15.20//NONSGML v1.0//EN
CALSCALE:GREGORIAN
METHOD:PUBLISH
X-WR-CALNAME:Shipgarten
X-ORIGINAL-URL:https://shipgarten.com
X-WR-CALDESC:Events for Shipgarten
REFRESH-INTERVAL;VALUE=DURATION:PT1H
X-Robots-Tag:noindex
X-PUBLISHED-TTL:PT1H
BEGIN:VTIMEZONE
TZID:America/New_York
BEGIN:DAYLIGHT
TZOFFSETFROM:-0500
TZOFFSETTO:-0400
TZNAME:EDT
DTSTART:20240310T070000
END:DAYLIGHT
BEGIN:STANDARD
TZOFFSETFROM:-0400
TZOFFSETTO:-0500
TZNAME:EST
DTSTART:20241103T060000
END:STANDARD
BEGIN:DAYLIGHT
TZOFFSETFROM:-0500
TZOFFSETTO:-0400
TZNAME:EDT
DTSTART:20250309T070000
END:DAYLIGHT
BEGIN:STANDARD
TZOFFSETFROM:-0400
TZOFFSETTO:-0500
TZNAME:EST
DTSTART:20251102T060000
END:STANDARD
BEGIN:DAYLIGHT
TZOFFSETFROM:-0500
TZOFFSETTO:-0400
TZNAME:EDT
DTSTART:20260308T070000
END:DAYLIGHT
BEGIN:STANDARD
TZOFFSETFROM:-0400
TZOFFSETTO:-0500
TZNAME:EST
DTSTART:20261101T060000
END:STANDARD
END:VTIMEZONE
BEGIN:VEVENT
DTSTART;TZID=America/New_York:20250503T160000
DTEND;TZID=America/New_York:20250503T193000
DTSTAMP:20260422T053532
CREATED:20250424T235444Z
LAST-MODIFIED:20250425T000302Z
UID:13297-1746288000-1746300600@shipgarten.com
SUMMARY:Canelo Alvarez vs. William Scull Fatal Fury Watch Party
DESCRIPTION:Join us for an exhilarating night of intense boxing and action at the Boxing Watch Party: Canelo Alvarez vs. William Scull Title Fight! 12 rounds\, for Alvarez’s WBC\, WBO and WBA super middleweight titles and Scull’s IBF super middleweight title! Witness this amazing card featuring two of the best boxers in the world. This event promises to be a thrilling experience for all fight enthusiasts. \nGet ready to cheer\, shout\, and feel the adrenaline rush as you watch the world’s best fighters showcase their skills. The atmosphere will be electric\, with fellow fight fans gathering to support their favorite athletes. Don’t miss out on this epic event! \nShipgarten offers 2-155″ TV Walls\, 8 TVs\, 3 outdoor projectors & 3 indoor to watch ALL the games! \nFeatured Events: \n\nCanelo Alvarez vs William Scull; Super middleweight\, for the undisputed title\nBruno Surace vs Jaime Munguia; Super middleweight\nMartin Bakole vs Efe Ajagba; Heavyweight\nBadou Jack vs Ryan Rozicki; Cruiserweight\, for the WBC title\nMarco Verde vs Michel Polina; Middleweight\nBrayan Leon vs Aaron Guerrero; Middleweight
URL:https://shipgarten.com/event/canelo-alvarez-vs-william-scull-fatal-fury-watch-party/
LOCATION:Shipgarten\, 7581 Colshire Dr\, McLean\, VA\, 22102
CATEGORIES:Adults Festival,Sport Events
ATTACH;FMTTYPE=image/jpeg:https://shipgarten.com/wp-content/uploads/2025/04/FEEDFD32-676B-4029-9FAD-12892D44EC6E_1_201_a.jpeg
END:VEVENT
END:VCALENDAR